Workbook

Sheet 2交替制
B2: 12時間シフト表 | H2: 2026 | J2: 3 | L2: シフトパターン 12時間 2交替（5勤2休／2週間サイクル）
M3: 日勤（08:00-20:00）
B4: 連勤上限 | C4: 5 | D4: 休日下限 | E4: 8 | F4: 日数 | G4: 31 | M4: 夜勤（20:00-08:00）
C5: =DATE($H$2,$J$2,1) -> 46082 | D5: =C5+1 -> 46083 | E5: =D5+1 -> 46084 | F5: =E5+1 -> 46085 | G5: =F5+1 -> 46086 | H5: =G5+1 -> 46087 | I5: =H5+1 -> 46088 | J5: =I5+1 -> 46089 | K5: =J5+1 -> 46090 | ... P5: =O5+1 -> 46095
B6: チーム | C6: 1 | D6: 2 | E6: 3 | F6: 4 | G6: 5 | H6: 6 | I6: 7 | J6: 8 | K6: 9 | L6: 10 | M6: 11 | N6: 12 | O6: 13 | P6: 14
C7: =C5 -> 46082 | D7: =D5 -> 46083 | E7: =E5 -> 46084 | F7: =F5 -> 46085 | G7: =G5 -> 46086 | H7: =H5 -> 46087 | I7: =I5 -> 46088 | J7: =J5 -> 46089 | ... P7: =P5 -> 46095
B8: 石井 | C8: 休 | D8: 日勤 | E8: 日勤 | F8: 日勤 | G8: 日勤 | H8: 日勤 | I8: 休 | J8: 休 | K8: 夜勤 | L8: 夜勤 | M8: 夜勤 | N8: 夜勤 | O8: 夜勤 | P8: 休
B9: 金田 | C9: 休 | D9: 夜勤 | E9: 夜勤 | F9: 夜勤 | G9: 夜勤 | H9: 夜勤 | I9: 休 | J9: 休 | K9: 日勤 | L9: 日勤 | M9: 日勤 | N9: 日勤 | O9: 日勤 | P9: 休
B10: 高橋 | C10: 休 | D10: 日勤 | E10: 日勤 | F10: 日勤 | G10: 日勤 | H10: 日勤 | I10: 休 | J10: 休 | K10: 夜勤 | L10: 夜勤 | M10: 夜勤 | N10: 夜勤 | O10: 夜勤 | P10: 休
B11: 渡辺 | C11: 休 | D11: 夜勤 | E11: 夜勤 | F11: 夜勤 | G11: 夜勤 | H11: 夜勤 | I11: 休 | J11: 休 | K11: 日勤 | L11: 日勤 | M11: 日勤 | N11: 日勤 | O11: 日勤 | P11: 休
C13: =P5+1 -> 46096 | D13: =C13+1 -> 46097 | E13: =D13+1 -> 46098 | F13: =E13+1 -> 46099 | G13: =F13+1 -> 46100 | H13: =G13+1 -> 46101 | I13: =H13+1 -> 46102 | J13: =I13+1 -> 46103 | K13: =J13+1 -> 46104 | ... P13: =O13+1 -> 46109
B14: チーム | C14: 15 | D14: 16 | E14: 17 | F14: 18 | G14: 19 | H14: 20 | I14: 21 | J14: 22 | K14: 23 | L14: 24 | M14: 25 | N14: 26 | O14: 27 | P14: 28
C15: =C13 -> 46096 | D15: =D13 -> 46097 | E15: =E13 -> 46098 | F15: =F13 -> 46099 | G15: =G13 -> 46100 | H15: =H13 -> 46101 | I15: =I13 -> 46102 | J15: =J13 -> 46103 | ... P15: =P13 -> 46109
B16: =B8 -> 石井 | C16: 休 | D16: 日勤 | E16: 日勤 | F16: 日勤 | G16: 日勤 | H16: 日勤 | I16: 休 | J16: 休 | K16: 夜勤 | L16: 夜勤 | M16: 夜勤 | N16: 夜勤 | O16: 夜勤 | P16: 休
B17: =B9 -> 金田 | C17: 休 | D17: 夜勤 | E17: 夜勤 | F17: 夜勤 | G17: 夜勤 | H17: 夜勤 | I17: 休 | J17: 休 | K17: 日勤 | L17: 日勤 | M17: 日勤 | N17: 日勤 | O17: 日勤 | P17: 休
B18: =B10 -> 高橋 | C18: 休 | D18: 日勤 | E18: 日勤 | F18: 日勤 | G18: 日勤 | H18: 日勤 | I18: 休 | J18: 休 | K18: 夜勤 | L18: 夜勤 | M18: 夜勤 | N18: 夜勤 | O18: 夜勤 | P18: 休
B19: =B11 -> 渡辺 | C19: 休 | D19: 夜勤 | E19: 夜勤 | F19: 夜勤 | G19: 夜勤 | H19: 夜勤 | I19: 休 | J19: 休 | K19: 日勤 | L19: 日勤 | M19: 日勤 | N19: 日勤 | O19: 日勤 | P19: 休
C21: =P13+1 -> 46110 | D21: =C21+1 -> 46111 | E21: =D21+1 -> 46112
B22: チーム | C22: 29 | D22: 30 | E22: 31 | J22: 集計（連勤・休日チェック）
C23: =C21 -> 46110 | D23: =D21 -> 46111 | E23: =E21 -> 46112 | J23: チーム | K23: 日勤回数 | L23: 夜勤回数 | M23: 休日回数 | N23: 最大連勤 | O23: 判定
B24: =B16 -> 石井 | C24: 休 | D24: 日勤 | E24: 日勤 | J24: =B24 -> 石井 | K24: =SUM(_計算!$B3:$AF3) -> 12 | L24: =SUM(_計算!$B4:$AF4) -> 10 | M24: =SUM(_計算!$B5:$AF5) -> 9 | N24: =MAX(_計算!$B2:$AF2) -> 5 | O24: =IF(AND(N24<=$C$4,M24>=$E$4),"OK",IF(AND(N24>$C$4,M24<$E$4),"連勤超過・休日不足",IF(N24>$C$4,"連勤超過","休日不足"))) -> OK
B25: =B17 -> 金田 | C25: 休 | D25: 夜勤 | E25: 夜勤 | J25: =B25 -> 金田 | K25: =SUM(_計算!$B8:$AF8) -> 10 | L25: =SUM(_計算!$B9:$AF9) -> 12 | M25: =SUM(_計算!$B10:$AF10) -> 9 | N25: =MAX(_計算!$B7:$AF7) -> 5 | O25: =IF(AND(N25<=$C$4,M25>=$E$4),"OK",IF(AND(N25>$C$4,M25<$E$4),"連勤超過・休日不足",IF(N25>$C$4,"連勤超過","休日不足"))) -> OK
B26: =B18 -> 高橋 | C26: 休 | D26: 日勤 | E26: 日勤 | J26: =B26 -> 高橋 | K26: =SUM(_計算!$B13:$AF13) -> 12 | L26: =SUM(_計算!$B14:$AF14) -> 10 | M26: =SUM(_計算!$B15:$AF15) -> 9 | N26: =MAX(_計算!$B12:$AF12) -> 5 | O26: =IF(AND(N26<=$C$4,M26>=$E$4),"OK",IF(AND(N26>$C$4,M26<$E$4),"連勤超過・休日不足",IF(N26>$C$4,"連勤超過","休日不足"))) -> OK
B27: =B19 -> 渡辺 | C27: 休 | D27: 夜勤 | E27: 夜勤 | J27: =B27 -> 渡辺 | K27: =SUM(_計算!$B18:$AF18) -> 10 | L27: =SUM(_計算!$B19:$AF19) -> 12 | M27: =SUM(_計算!$B20:$AF20) -> 9 | N27: =MAX(_計算!$B17:$AF17) -> 5 | O27: =IF(AND(N27<=$C$4,M27>=$E$4),"OK",IF(AND(N27>$C$4,M27<$E$4),"連勤超過・休日不足",IF(N27>$C$4,"連勤超過","休日不足"))) -> OK

Sheet _計算
A1: （内部計算） | B1: ='2交替制'!C6 -> 1 | C1: ='2交替制'!D6 -> 2 | D1: ='2交替制'!E6 -> 3 | E1: ='2交替制'!F6 -> 4 | F1: ='2交替制'!G6 -> 5 | G1: ='2交替制'!H6 -> 6 | H1: ='2交替制'!I6 -> 7 | I1: ='2交替制'!J6 -> 8 | ... O1: ='2交替制'!P6 -> 14 | P1: ='2交替制'!C14 -> 15 | Q1: ='2交替制'!D14 -> 16 | R1: ='2交替制'!E14 -> 17 | S1: ='2交替制'!F14 -> 18 | T1: ='2交替制'!G14 -> 19 | U1: ='2交替制'!H14 -> 20 | V1: ='2交替制'!I14 -> 21 | W1: ='2交替制'!J14 -> 22 | ... AC1: ='2交替制'!P14 -> 28 | AD1: ='2交替制'!C22 -> 29 | AE1: ='2交替制'!D22 -> 30 | AF1: ='2交替制'!E22 -> 31
A2: 連勤_A | B2: =IF('2交替制'!C$6>'2交替制'!$G$4,0,IF('2交替制'!C8="休",0,1)) -> 0 | C2: =IF('2交替制'!D$6>'2交替制'!$G$4,0,IF('2交替制'!D8="休",0,B2+1)) -> 1 | D2: =IF('2交替制'!E$6>'2交替制'!$G$4,0,IF('2交替制'!E8="休",0,C2+1)) -> 2 | E2: =IF('2交替制'!F$6>'2交替制'!$G$4,0,IF('2交替制'!F8="休",0,D2+1)) -> 3 | F2: =IF('2交替制'!G$6>'2交替制'!$G$4,0,IF('2交替制'!G8="休",0,E2+1)) -> 4 | G2: =IF('2交替制'!H$6>'2交替制'!$G$4,0,IF('2交替制'!H8="休",0,F2+1)) -> 5 | H2: =IF('2交替制'!I$6>'2交替制'!$G$4,0,IF('2交替制'!I8="休",0,G2+1)) -> 0 | I2: =IF('2交替制'!J$6>'2交替制'!$G$4,0,IF('2交替制'!J8="休",0,H2+1)) -> 0 | J2: =IF('2交替制'!K$6>'2交替制'!$G$4,0,IF('2交替制'!K8="休",0,I2+1)) -> 1 | ... O2: =IF('2交替制'!P$6>'2交替制'!$G$4,0,IF('2交替制'!P8="休",0,N2+1)) -> 0 | P2: =IF('2交替制'!C$14>'2交替制'!$G$4,0,IF('2交替制'!C16="休",0,O2+1)) -> 0 | Q2: =IF('2交替制'!D$14>'2交替制'!$G$4,0,IF('2交替制'!D16="休",0,P2+1)) -> 1 | R2: =IF('2交替制'!E$14>'2交替制'!$G$4,0,IF('2交替制'!E16="休",0,Q2+1)) -> 2 | S2: =IF('2交替制'!F$14>'2交替制'!$G$4,0,IF('2交替制'!F16="休",0,R2+1)) -> 3 | T2: =IF('2交替制'!G$14>'2交替制'!$G$4,0,IF('2交替制'!G16="休",0,S2+1)) -> 4 | U2: =IF('2交替制'!H$14>'2交替制'!$G$4,0,IF('2交替制'!H16="休",0,T2+1)) -> 5 | V2: =IF('2交替制'!I$14>'2交替制'!$G$4,0,IF('2交替制'!I16="休",0,U2+1)) -> 0 | W2: =IF('2交替制'!J$14>'2交替制'!$G$4,0,IF('2交替制'!J16="休",0,V2+1)) -> 0 | ... AC2: =IF('2交替制'!P$14>'2交替制'!$G$4,0,IF('2交替制'!P16="休",0,AB2+1)) -> 0 | AD2: =IF('2交替制'!C$22>'2交替制'!$G$4,0,IF('2交替制'!C24="休",0,AC2+1)) -> 0 | AE2: =IF('2交替制'!D$22>'2交替制'!$G$4,0,IF('2交替制'!D24="休",0,AD2+1)) -> 1 | AF2: =IF('2交替制'!E$22>'2交替制'!$G$4,0,IF('2交替制'!E24="休",0,AE2+1)) -> 2
A3: 日勤フラグ_A | B3: =IF('2交替制'!C$6>'2交替制'!$G$4,0,IF('2交替制'!C8="日勤",1,0)) -> 0 | C3: =IF('2交替制'!D$6>'2交替制'!$G$4,0,IF('2交替制'!D8="日勤",1,0)) -> 1 | D3: =IF('2交替制'!E$6>'2交替制'!$G$4,0,IF('2交替制'!E8="日勤",1,0)) -> 1 | E3: =IF('2交替制'!F$6>'2交替制'!$G$4,0,IF('2交替制'!F8="日勤",1,0)) -> 1 | F3: =IF('2交替制'!G$6>'2交替制'!$G$4,0,IF('2交替制'!G8="日勤",1,0)) -> 1 | G3: =IF('2交替制'!H$6>'2交替制'!$G$4,0,IF('2交替制'!H8="日勤",1,0)) -> 1 | H3: =IF('2交替制'!I$6>'2交替制'!$G$4,0,IF('2交替制'!I8="日勤",1,0)) -> 0 | I3: =IF('2交替制'!J$6>'2交替制'!$G$4,0,IF('2交替制'!J8="日勤",1,0)) -> 0 | ... O3: =IF('2交替制'!P$6>'2交替制'!$G$4,0,IF('2交替制'!P8="日勤",1,0)) -> 0 | P3: =IF('2交替制'!C$14>'2交替制'!$G$4,0,IF('2交替制'!C16="日勤",1,0)) -> 0 | Q3: =IF('2交替制'!D$14>'2交替制'!$G$4,0,IF('2交替制'!D16="日勤",1,0)) -> 1 | R3: =IF('2交替制'!E$14>'2交替制'!$G$4,0,IF('2交替制'!E16="日勤",1,0)) -> 1 | S3: =IF('2交替制'!F$14>'2交替制'!$G$4,0,IF('2交替制'!F16="日勤",1,0)) -> 1 | T3: =IF('2交替制'!G$14>'2交替制'!$G$4,0,IF('2交替制'!G16="日勤",1,0)) -> 1 | U3: =IF('2交替制'!H$14>'2交替制'!$G$4,0,IF('2交替制'!H16="日勤",1,0)) -> 1 | V3: =IF('2交替制'!I$14>'2交替制'!$G$4,0,IF('2交替制'!I16="日勤",1,0)) -> 0 | W3: =IF('2交替制'!J$14>'2交替制'!$G$4,0,IF('2交替制'!J16="日勤",1,0)) -> 0 | ... AC3: =IF('2交替制'!P$14>'2交替制'!$G$4,0,IF('2交替制'!P16="日勤",1,0)) -> 0 | AD3: =IF('2交替制'!C$22>'2交替制'!$G$4,0,IF('2交替制'!C24="日勤",1,0)) -> 0 | AE3: =IF('2交替制'!D$22>'2交替制'!$G$4,0,IF('2交替制'!D24="日勤",1,0)) -> 1 | AF3: =IF('2交替制'!E$22>'2交替制'!$G$4,0,IF('2交替制'!E24="日勤",1,0)) -> 1
A4: 夜勤フラグ_A | B4: =IF('2交替制'!C$6>'2交替制'!$G$4,0,IF('2交替制'!C8="夜勤",1,0)) -> 0 | C4: =IF('2交替制'!D$6>'2交替制'!$G$4,0,IF('2交替制'!D8="夜勤",1,0)) -> 0 | D4: =IF('2交替制'!E$6>'2交替制'!$G$4,0,IF('2交替制'!E8="夜勤",1,0)) -> 0 | E4: =IF('2交替制'!F$6>'2交替制'!$G$4,0,IF('2交替制'!F8="夜勤",1,0)) -> 0 | F4: =IF('2交替制'!G$6>'2交替制'!$G$4,0,IF('2交替制'!G8="夜勤",1,0)) -> 0 | G4: =IF('2交替制'!H$6>'2交替制'!$G$4,0,IF('2交替制'!H8="夜勤",1,0)) -> 0 | H4: =IF('2交替制'!I$6>'2交替制'!$G$4,0,IF('2交替制'!I8="夜勤",1,0)) -> 0 | I4: =IF('2交替制'!J$6>'2交替制'!$G$4,0,IF('2交替制'!J8="夜勤",1,0)) -> 0 | ... O4: =IF('2交替制'!P$6>'2交替制'!$G$4,0,IF('2交替制'!P8="夜勤",1,0)) -> 0 | P4: =IF('2交替制'!C$14>'2交替制'!$G$4,0,IF('2交替制'!C16="夜勤",1,0)) -> 0 | Q4: =IF('2交替制'!D$14>'2交替制'!$G$4,0,IF('2交替制'!D16="夜勤",1,0)) -> 0 | R4: =IF('2交替制'!E$14>'2交替制'!$G$4,0,IF('2交替制'!E16="夜勤",1,0)) -> 0 | S4: =IF('2交替制'!F$14>'2交替制'!$G$4,0,IF('2交替制'!F16="夜勤",1,0)) -> 0 | T4: =IF('2交替制'!G$14>'2交替制'!$G$4,0,IF('2交替制'!G16="夜勤",1,0)) -> 0 | U4: =IF('2交替制'!H$14>'2交替制'!$G$4,0,IF('2交替制'!H16="夜勤",1,0)) -> 0 | V4: =IF('2交替制'!I$14>'2交替制'!$G$4,0,IF('2交替制'!I16="夜勤",1,0)) -> 0 | W4: =IF('2交替制'!J$14>'2交替制'!$G$4,0,IF('2交替制'!J16="夜勤",1,0)) -> 0 | ... AC4: =IF('2交替制'!P$14>'2交替制'!$G$4,0,IF('2交替制'!P16="夜勤",1,0)) -> 0 | AD4: =IF('2交替制'!C$22>'2交替制'!$G$4,0,IF('2交替制'!C24="夜勤",1,0)) -> 0 | AE4: =IF('2交替制'!D$22>'2交替制'!$G$4,0,IF('2交替制'!D24="夜勤",1,0)) -> 0 | AF4: =IF('2交替制'!E$22>'2交替制'!$G$4,0,IF('2交替制'!E24="夜勤",1,0)) -> 0
A5: 休日フラグ_A | B5: =IF('2交替制'!C$6>'2交替制'!$G$4,0,IF('2交替制'!C8="休",1,0)) -> 1 | C5: =IF('2交替制'!D$6>'2交替制'!$G$4,0,IF('2交替制'!D8="休",1,0)) -> 0 | D5: =IF('2交替制'!E$6>'2交替制'!$G$4,0,IF('2交替制'!E8="休",1,0)) -> 0 | E5: =IF('2交替制'!F$6>'2交替制'!$G$4,0,IF('2交替制'!F8="休",1,0)) -> 0 | F5: =IF('2交替制'!G$6>'2交替制'!$G$4,0,IF('2交替制'!G8="休",1,0)) -> 0 | G5: =IF('2交替制'!H$6>'2交替制'!$G$4,0,IF('2交替制'!H8="休",1,0)) -> 0 | H5: =IF('2交替制'!I$6>'2交替制'!$G$4,0,IF('2交替制'!I8="休",1,0)) -> 1 | I5: =IF('2交替制'!J$6>'2交替制'!$G$4,0,IF('2交替制'!J8="休",1,0)) -> 1 | ... O5: =IF('2交替制'!P$6>'2交替制'!$G$4,0,IF('2交替制'!P8="休",1,0)) -> 1 | P5: =IF('2交替制'!C$14>'2交替制'!$G$4,0,IF('2交替制'!C16="休",1,0)) -> 1 | Q5: =IF('2交替制'!D$14>'2交替制'!$G$4,0,IF('2交替制'!D16="休",1,0)) -> 0 | R5: =IF('2交替制'!E$14>'2交替制'!$G$4,0,IF('2交替制'!E16="休",1,0)) -> 0 | S5: =IF('2交替制'!F$14>'2交替制'!$G$4,0,IF('2交替制'!F16="休",1,0)) -> 0 | T5: =IF('2交替制'!G$14>'2交替制'!$G$4,0,IF('2交替制'!G16="休",1,0)) -> 0 | U5: =IF('2交替制'!H$14>'2交替制'!$G$4,0,IF('2交替制'!H16="休",1,0)) -> 0 | V5: =IF('2交替制'!I$14>'2交替制'!$G$4,0,IF('2交替制'!I16="休",1,0)) -> 1 | W5: =IF('2交替制'!J$14>'2交替制'!$G$4,0,IF('2交替制'!J16="休",1,0)) -> 1 | ... AC5: =IF('2交替制'!P$14>'2交替制'!$G$4,0,IF('2交替制'!P16="休",1,0)) -> 1 | AD5: =IF('2交替制'!C$22>'2交替制'!$G$4,0,IF('2交替制'!C24="休",1,0)) -> 1 | AE5: =IF('2交替制'!D$22>'2交替制'!$G$4,0,IF('2交替制'!D24="休",1,0)) -> 0 | AF5: =IF('2交替制'!E$22>'2交替制'!$G$4,0,IF('2交替制'!E24="休",1,0)) -> 0
A7: 連勤_B | B7: =IF('2交替制'!C$6>'2交替制'!$G$4,0,IF('2交替制'!C9="休",0,1)) -> 0 | C7: =IF('2交替制'!D$6>'2交替制'!$G$4,0,IF('2交替制'!D9="休",0,B7+1)) -> 1 | D7: =IF('2交替制'!E$6>'2交替制'!$G$4,0,IF('2交替制'!E9="休",0,C7+1)) -> 2 | E7: =IF('2交替制'!F$6>'2交替制'!$G$4,0,IF('2交替制'!F9="休",0,D7+1)) -> 3 | F7: =IF('2交替制'!G$6>'2交替制'!$G$4,0,IF('2交替制'!G9="休",0,E7+1)) -> 4 | G7: =IF('2交替制'!H$6>'2交替制'!$G$4,0,IF('2交替制'!H9="休",0,F7+1)) -> 5 | H7: =IF('2交替制'!I$6>'2交替制'!$G$4,0,IF('2交替制'!I9="休",0,G7+1)) -> 0 | I7: =IF('2交替制'!J$6>'2交替制'!$G$4,0,IF('2交替制'!J9="休",0,H7+1)) -> 0 | J7: =IF('2交替制'!K$6>'2交替制'!$G$4,0,IF('2交替制'!K9="休",0,I7+1)) -> 1 | ... O7: =IF('2交替制'!P$6>'2交替制'!$G$4,0,IF('2交替制'!P9="休",0,N7+1)) -> 0 | P7: =IF('2交替制'!C$14>'2交替制'!$G$4,0,IF('2交替制'!C17="休",0,O7+1)) -> 0 | Q7: =IF('2交替制'!D$14>'2交替制'!$G$4,0,IF('2交替制'!D17="休",0,P7+1)) -> 1 | R7: =IF('2交替制'!E$14>'2交替制'!$G$4,0,IF('2交替制'!E17="休",0,Q7+1)) -> 2 | S7: =IF('2交替制'!F$14>'2交替制'!$G$4,0,IF('2交替制'!F17="休",0,R7+1)) -> 3 | T7: =IF('2交替制'!G$14>'2交替制'!$G$4,0,IF('2交替制'!G17="休",0,S7+1)) -> 4 | U7: =IF('2交替制'!H$14>'2交替制'!$G$4,0,IF('2交替制'!H17="休",0,T7+1)) -> 5 | V7: =IF('2交替制'!I$14>'2交替制'!$G$4,0,IF('2交替制'!I17="休",0,U7+1)) -> 0 | W7: =IF('2交替制'!J$14>'2交替制'!$G$4,0,IF('2交替制'!J17="休",0,V7+1)) -> 0 | ... AC7: =IF('2交替制'!P$14>'2交替制'!$G$4,0,IF('2交替制'!P17="休",0,AB7+1)) -> 0 | AD7: =IF('2交替制'!C$22>'2交替制'!$G$4,0,IF('2交替制'!C25="休",0,AC7+1)) -> 0 | AE7: =IF('2交替制'!D$22>'2交替制'!$G$4,0,IF('2交替制'!D25="休",0,AD7+1)) -> 1 | AF7: =IF('2交替制'!E$22>'2交替制'!$G$4,0,IF('2交替制'!E25="休",0,AE7+1)) -> 2
A8: 日勤フラグ_B | B8: =IF('2交替制'!C$6>'2交替制'!$G$4,0,IF('2交替制'!C9="日勤",1,0)) -> 0 | C8: =IF('2交替制'!D$6>'2交替制'!$G$4,0,IF('2交替制'!D9="日勤",1,0)) -> 0 | D8: =IF('2交替制'!E$6>'2交替制'!$G$4,0,IF('2交替制'!E9="日勤",1,0)) -> 0 | E8: =IF('2交替制'!F$6>'2交替制'!$G$4,0,IF('2交替制'!F9="日勤",1,0)) -> 0 | F8: =IF('2交替制'!G$6>'2交替制'!$G$4,0,IF('2交替制'!G9="日勤",1,0)) -> 0 | G8: =IF('2交替制'!H$6>'2交替制'!$G$4,0,IF('2交替制'!H9="日勤",1,0)) -> 0 | H8: =IF('2交替制'!I$6>'2交替制'!$G$4,0,IF('2交替制'!I9="日勤",1,0)) -> 0 | I8: =IF('2交替制'!J$6>'2交替制'!$G$4,0,IF('2交替制'!J9="日勤",1,0)) -> 0 | ... O8: =IF('2交替制'!P$6>'2交替制'!$G$4,0,IF('2交替制'!P9="日勤",1,0)) -> 0 | P8: =IF('2交替制'!C$14>'2交替制'!$G$4,0,IF('2交替制'!C17="日勤",1,0)) -> 0 | Q8: =IF('2交替制'!D$14>'2交替制'!$G$4,0,IF('2交替制'!D17="日勤",1,0)) -> 0 | R8: =IF('2交替制'!E$14>'2交替制'!$G$4,0,IF('2交替制'!E17="日勤",1,0)) -> 0 | S8: =IF('2交替制'!F$14>'2交替制'!$G$4,0,IF('2交替制'!F17="日勤",1,0)) -> 0 | T8: =IF('2交替制'!G$14>'2交替制'!$G$4,0,IF('2交替制'!G17="日勤",1,0)) -> 0 | U8: =IF('2交替制'!H$14>'2交替制'!$G$4,0,IF('2交替制'!H17="日勤",1,0)) -> 0 | V8: =IF('2交替制'!I$14>'2交替制'!$G$4,0,IF('2交替制'!I17="日勤",1,0)) -> 0 | W8: =IF('2交替制'!J$14>'2交替制'!$G$4,0,IF('2交替制'!J17="日勤",1,0)) -> 0 | ... AC8: =IF('2交替制'!P$14>'2交替制'!$G$4,0,IF('2交替制'!P17="日勤",1,0)) -> 0 | AD8: =IF('2交替制'!C$22>'2交替制'!$G$4,0,IF('2交替制'!C25="日勤",1,0)) -> 0 | AE8: =IF('2交替制'!D$22>'2交替制'!$G$4,0,IF('2交替制'!D25="日勤",1,0)) -> 0 | AF8: =IF('2交替制'!E$22>'2交替制'!$G$4,0,IF('2交替制'!E25="日勤",1,0)) -> 0
A9: 夜勤フラグ_B | B9: =IF('2交替制'!C$6>'2交替制'!$G$4,0,IF('2交替制'!C9="夜勤",1,0)) -> 0 | C9: =IF('2交替制'!D$6>'2交替制'!$G$4,0,IF('2交替制'!D9="夜勤",1,0)) -> 1 | D9: =IF('2交替制'!E$6>'2交替制'!$G$4,0,IF('2交替制'!E9="夜勤",1,0)) -> 1 | E9: =IF('2交替制'!F$6>'2交替制'!$G$4,0,IF('2交替制'!F9="夜勤",1,0)) -> 1 | F9: =IF('2交替制'!G$6>'2交替制'!$G$4,0,IF('2交替制'!G9="夜勤",1,0)) -> 1 | G9: =IF('2交替制'!H$6>'2交替制'!$G$4,0,IF('2交替制'!H9="夜勤",1,0)) -> 1 | H9: =IF('2交替制'!I$6>'2交替制'!$G$4,0,IF('2交替制'!I9="夜勤",1,0)) -> 0 | I9: =IF('2交替制'!J$6>'2交替制'!$G$4,0,IF('2交替制'!J9="夜勤",1,0)) -> 0 | ... O9: =IF('2交替制'!P$6>'2交替制'!$G$4,0,IF('2交替制'!P9="夜勤",1,0)) -> 0 | P9: =IF('2交替制'!C$14>'2交替制'!$G$4,0,IF('2交替制'!C17="夜勤",1,0)) -> 0 | Q9: =IF('2交替制'!D$14>'2交替制'!$G$4,0,IF('2交替制'!D17="夜勤",1,0)) -> 1 | R9: =IF('2交替制'!E$14>'2交替制'!$G$4,0,IF('2交替制'!E17="夜勤",1,0)) -> 1 | S9: =IF('2交替制'!F$14>'2交替制'!$G$4,0,IF('2交替制'!F17="夜勤",1,0)) -> 1 | T9: =IF('2交替制'!G$14>'2交替制'!$G$4,0,IF('2交替制'!G17="夜勤",1,0)) -> 1 | U9: =IF('2交替制'!H$14>'2交替制'!$G$4,0,IF('2交替制'!H17="夜勤",1,0)) -> 1 | V9: =IF('2交替制'!I$14>'2交替制'!$G$4,0,IF('2交替制'!I17="夜勤",1,0)) -> 0 | W9: =IF('2交替制'!J$14>'2交替制'!$G$4,0,IF('2交替制'!J17="夜勤",1,0)) -> 0 | ... AC9: =IF('2交替制'!P$14>'2交替制'!$G$4,0,IF('2交替制'!P17="夜勤",1,0)) -> 0 | AD9: =IF('2交替制'!C$22>'2交替制'!$G$4,0,IF('2交替制'!C25="夜勤",1,0)) -> 0 | AE9: =IF('2交替制'!D$22>'2交替制'!$G$4,0,IF('2交替制'!D25="夜勤",1,0)) -> 1 | AF9: =IF('2交替制'!E$22>'2交替制'!$G$4,0,IF('2交替制'!E25="夜勤",1,0)) -> 1
A10: 休日フラグ_B | B10: =IF('2交替制'!C$6>'2交替制'!$G$4,0,IF('2交替制'!C9="休",1,0)) -> 1 | C10: =IF('2交替制'!D$6>'2交替制'!$G$4,0,IF('2交替制'!D9="休",1,0)) -> 0 | D10: =IF('2交替制'!E$6>'2交替制'!$G$4,0,IF('2交替制'!E9="休",1,0)) -> 0 | E10: =IF('2交替制'!F$6>'2交替制'!$G$4,0,IF('2交替制'!F9="休",1,0)) -> 0 | F10: =IF('2交替制'!G$6>'2交替制'!$G$4,0,IF('2交替制'!G9="休",1,0)) -> 0 | G10: =IF('2交替制'!H$6>'2交替制'!$G$4,0,IF('2交替制'!H9="休",1,0)) -> 0 | H10: =IF('2交替制'!I$6>'2交替制'!$G$4,0,IF('2交替制'!I9="休",1,0)) -> 1 | I10: =IF('2交替制'!J$6>'2交替制'!$G$4,0,IF('2交替制'!J9="休",1,0)) -> 1 | ... O10: =IF('2交替制'!P$6>'2交替制'!$G$4,0,IF('2交替制'!P9="休",1,0)) -> 1 | P10: =IF('2交替制'!C$14>'2交替制'!$G$4,0,IF('2交替制'!C17="休",1,0)) -> 1 | Q10: =IF('2交替制'!D$14>'2交替制'!$G$4,0,IF('2交替制'!D17="休",1,0)) -> 0 | R10: =IF('2交替制'!E$14>'2交替制'!$G$4,0,IF('2交替制'!E17="休",1,0)) -> 0 | S10: =IF('2交替制'!F$14>'2交替制'!$G$4,0,IF('2交替制'!F17="休",1,0)) -> 0 | T10: =IF('2交替制'!G$14>'2交替制'!$G$4,0,IF('2交替制'!G17="休",1,0)) -> 0 | U10: =IF('2交替制'!H$14>'2交替制'!$G$4,0,IF('2交替制'!H17="休",1,0)) -> 0 | V10: =IF('2交替制'!I$14>'2交替制'!$G$4,0,IF('2交替制'!I17="休",1,0)) -> 1 | W10: =IF('2交替制'!J$14>'2交替制'!$G$4,0,IF('2交替制'!J17="休",1,0)) -> 1 | ... AC10: =IF('2交替制'!P$14>'2交替制'!$G$4,0,IF('2交替制'!P17="休",1,0)) -> 1 | AD10: =IF('2交替制'!C$22>'2交替制'!$G$4,0,IF('2交替制'!C25="休",1,0)) -> 1 | AE10: =IF('2交替制'!D$22>'2交替制'!$G$4,0,IF('2交替制'!D25="休",1,0)) -> 0 | AF10: =IF('2交替制'!E$22>'2交替制'!$G$4,0,IF('2交替制'!E25="休",1,0)) -> 0
A12: 連勤_C | B12: =IF('2交替制'!C$6>'2交替制'!$G$4,0,IF('2交替制'!C10="休",0,1)) -> 0 | C12: =IF('2交替制'!D$6>'2交替制'!$G$4,0,IF('2交替制'!D10="休",0,B12+1)) -> 1 | D12: =IF('2交替制'!E$6>'2交替制'!$G$4,0,IF('2交替制'!E10="休",0,C12+1)) -> 2 | E12: =IF('2交替制'!F$6>'2交替制'!$G$4,0,IF('2交替制'!F10="休",0,D12+1)) -> 3 | F12: =IF('2交替制'!G$6>'2交替制'!$G$4,0,IF('2交替制'!G10="休",0,E12+1)) -> 4 | G12: =IF('2交替制'!H$6>'2交替制'!$G$4,0,IF('2交替制'!H10="休",0,F12+1)) -> 5 | H12: =IF('2交替制'!I$6>'2交替制'!$G$4,0,IF('2交替制'!I10="休",0,G12+1)) -> 0 | I12: =IF('2交替制'!J$6>'2交替制'!$G$4,0,IF('2交替制'!J10="休",0,H12+1)) -> 0 | J12: =IF('2交替制'!K$6>'2交替制'!$G$4,0,IF('2交替制'!K10="休",0,I12+1)) -> 1 | ... O12: =IF('2交替制'!P$6>'2交替制'!$G$4,0,IF('2交替制'!P10="休",0,N12+1)) -> 0 | P12: =IF('2交替制'!C$14>'2交替制'!$G$4,0,IF('2交替制'!C18="休",0,O12+1)) -> 0 | Q12: =IF('2交替制'!D$14>'2交替制'!$G$4,0,IF('2交替制'!D18="休",0,P12+1)) -> 1 | R12: =IF('2交替制'!E$14>'2交替制'!$G$4,0,IF('2交替制'!E18="休",0,Q12+1)) -> 2 | S12: =IF('2交替制'!F$14>'2交替制'!$G$4,0,IF('2交替制'!F18="休",0,R12+1)) -> 3 | T12: =IF('2交替制'!G$14>'2交替制'!$G$4,0,IF('2交替制'!G18="休",0,S12+1)) -> 4 | U12: =IF('2交替制'!H$14>'2交替制'!$G$4,0,IF('2交替制'!H18="休",0,T12+1)) -> 5 | V12: =IF('2交替制'!I$14>'2交替制'!$G$4,0,IF('2交替制'!I18="休",0,U12+1)) -> 0 | W12: =IF('2交替制'!J$14>'2交替制'!$G$4,0,IF('2交替制'!J18="休",0,V12+1)) -> 0 | ... AC12: =IF('2交替制'!P$14>'2交替制'!$G$4,0,IF('2交替制'!P18="休",0,AB12+1)) -> 0 | AD12: =IF('2交替制'!C$22>'2交替制'!$G$4,0,IF('2交替制'!C26="休",0,AC12+1)) -> 0 | AE12: =IF('2交替制'!D$22>'2交替制'!$G$4,0,IF('2交替制'!D26="休",0,AD12+1)) -> 1 | AF12: =IF('2交替制'!E$22>'2交替制'!$G$4,0,IF('2交替制'!E26="休",0,AE12+1)) -> 2
A13: 日勤フラグ_C | B13: =IF('2交替制'!C$6>'2交替制'!$G$4,0,IF('2交替制'!C10="日勤",1,0)) -> 0 | C13: =IF('2交替制'!D$6>'2交替制'!$G$4,0,IF('2交替制'!D10="日勤",1,0)) -> 1 | D13: =IF('2交替制'!E$6>'2交替制'!$G$4,0,IF('2交替制'!E10="日勤",1,0)) -> 1 | E13: =IF('2交替制'!F$6>'2交替制'!$G$4,0,IF('2交替制'!F10="日勤",1,0)) -> 1 | F13: =IF('2交替制'!G$6>'2交替制'!$G$4,0,IF('2交替制'!G10="日勤",1,0)) -> 1 | G13: =IF('2交替制'!H$6>'2交替制'!$G$4,0,IF('2交替制'!H10="日勤",1,0)) -> 1 | H13: =IF('2交替制'!I$6>'2交替制'!$G$4,0,IF('2交替制'!I10="日勤",1,0)) -> 0 | I13: =IF('2交替制'!J$6>'2交替制'!$G$4,0,IF('2交替制'!J10="日勤",1,0)) -> 0 | ... O13: =IF('2交替制'!P$6>'2交替制'!$G$4,0,IF('2交替制'!P10="日勤",1,0)) -> 0 | P13: =IF('2交替制'!C$14>'2交替制'!$G$4,0,IF('2交替制'!C18="日勤",1,0)) -> 0 | Q13: =IF('2交替制'!D$14>'2交替制'!$G$4,0,IF('2交替制'!D18="日勤",1,0)) -> 1 | R13: =IF('2交替制'!E$14>'2交替制'!$G$4,0,IF('2交替制'!E18="日勤",1,0)) -> 1 | S13: =IF('2交替制'!F$14>'2交替制'!$G$4,0,IF('2交替制'!F18="日勤",1,0)) -> 1 | T13: =IF('2交替制'!G$14>'2交替制'!$G$4,0,IF('2交替制'!G18="日勤",1,0)) -> 1 | U13: =IF('2交替制'!H$14>'2交替制'!$G$4,0,IF('2交替制'!H18="日勤",1,0)) -> 1 | V13: =IF('2交替制'!I$14>'2交替制'!$G$4,0,IF('2交替制'!I18="日勤",1,0)) -> 0 | W13: =IF('2交替制'!J$14>'2交替制'!$G$4,0,IF('2交替制'!J18="日勤",1,0)) -> 0 | ... AC13: =IF('2交替制'!P$14>'2交替制'!$G$4,0,IF('2交替制'!P18="日勤",1,0)) -> 0 | AD13: =IF('2交替制'!C$22>'2交替制'!$G$4,0,IF('2交替制'!C26="日勤",1,0)) -> 0 | AE13: =IF('2交替制'!D$22>'2交替制'!$G$4,0,IF('2交替制'!D26="日勤",1,0)) -> 1 | AF13: =IF('2交替制'!E$22>'2交替制'!$G$4,0,IF('2交替制'!E26="日勤",1,0)) -> 1
A14: 夜勤フラグ_C | B14: =IF('2交替制'!C$6>'2交替制'!$G$4,0,IF('2交替制'!C10="夜勤",1,0)) -> 0 | C14: =IF('2交替制'!D$6>'2交替制'!$G$4,0,IF('2交替制'!D10="夜勤",1,0)) -> 0 | D14: =IF('2交替制'!E$6>'2交替制'!$G$4,0,IF('2交替制'!E10="夜勤",1,0)) -> 0 | E14: =IF('2交替制'!F$6>'2交替制'!$G$4,0,IF('2交替制'!F10="夜勤",1,0)) -> 0 | F14: =IF('2交替制'!G$6>'2交替制'!$G$4,0,IF('2交替制'!G10="夜勤",1,0)) -> 0 | G14: =IF('2交替制'!H$6>'2交替制'!$G$4,0,IF('2交替制'!H10="夜勤",1,0)) -> 0 | H14: =IF('2交替制'!I$6>'2交替制'!$G$4,0,IF('2交替制'!I10="夜勤",1,0)) -> 0 | I14: =IF('2交替制'!J$6>'2交替制'!$G$4,0,IF('2交替制'!J10="夜勤",1,0)) -> 0 | ... O14: =IF('2交替制'!P$6>'2交替制'!$G$4,0,IF('2交替制'!P10="夜勤",1,0)) -> 0 | P14: =IF('2交替制'!C$14>'2交替制'!$G$4,0,IF('2交替制'!C18="夜勤",1,0)) -> 0 | Q14: =IF('2交替制'!D$14>'2交替制'!$G$4,0,IF('2交替制'!D18="夜勤",1,0)) -> 0 | R14: =IF('2交替制'!E$14>'2交替制'!$G$4,0,IF('2交替制'!E18="夜勤",1,0)) -> 0 | S14: =IF('2交替制'!F$14>'2交替制'!$G$4,0,IF('2交替制'!F18="夜勤",1,0)) -> 0 | T14: =IF('2交替制'!G$14>'2交替制'!$G$4,0,IF('2交替制'!G18="夜勤",1,0)) -> 0 | U14: =IF('2交替制'!H$14>'2交替制'!$G$4,0,IF('2交替制'!H18="夜勤",1,0)) -> 0 | V14: =IF('2交替制'!I$14>'2交替制'!$G$4,0,IF('2交替制'!I18="夜勤",1,0)) -> 0 | W14: =IF('2交替制'!J$14>'2交替制'!$G$4,0,IF('2交替制'!J18="夜勤",1,0)) -> 0 | ... AC14: =IF('2交替制'!P$14>'2交替制'!$G$4,0,IF('2交替制'!P18="夜勤",1,0)) -> 0 | AD14: =IF('2交替制'!C$22>'2交替制'!$G$4,0,IF('2交替制'!C26="夜勤",1,0)) -> 0 | AE14: =IF('2交替制'!D$22>'2交替制'!$G$4,0,IF('2交替制'!D26="夜勤",1,0)) -> 0 | AF14: =IF('2交替制'!E$22>'2交替制'!$G$4,0,IF('2交替制'!E26="夜勤",1,0)) -> 0
A15: 休日フラグ_C | B15: =IF('2交替制'!C$6>'2交替制'!$G$4,0,IF('2交替制'!C10="休",1,0)) -> 1 | C15: =IF('2交替制'!D$6>'2交替制'!$G$4,0,IF('2交替制'!D10="休",1,0)) -> 0 | D15: =IF('2交替制'!E$6>'2交替制'!$G$4,0,IF('2交替制'!E10="休",1,0)) -> 0 | E15: =IF('2交替制'!F$6>'2交替制'!$G$4,0,IF('2交替制'!F10="休",1,0)) -> 0 | F15: =IF('2交替制'!G$6>'2交替制'!$G$4,0,IF('2交替制'!G10="休",1,0)) -> 0 | G15: =IF('2交替制'!H$6>'2交替制'!$G$4,0,IF('2交替制'!H10="休",1,0)) -> 0 | H15: =IF('2交替制'!I$6>'2交替制'!$G$4,0,IF('2交替制'!I10="休",1,0)) -> 1 | I15: =IF('2交替制'!J$6>'2交替制'!$G$4,0,IF('2交替制'!J10="休",1,0)) -> 1 | ... O15: =IF('2交替制'!P$6>'2交替制'!$G$4,0,IF('2交替制'!P10="休",1,0)) -> 1 | P15: =IF('2交替制'!C$14>'2交替制'!$G$4,0,IF('2交替制'!C18="休",1,0)) -> 1 | Q15: =IF('2交替制'!D$14>'2交替制'!$G$4,0,IF('2交替制'!D18="休",1,0)) -> 0 | R15: =IF('2交替制'!E$14>'2交替制'!$G$4,0,IF('2交替制'!E18="休",1,0)) -> 0 | S15: =IF('2交替制'!F$14>'2交替制'!$G$4,0,IF('2交替制'!F18="休",1,0)) -> 0 | T15: =IF('2交替制'!G$14>'2交替制'!$G$4,0,IF('2交替制'!G18="休",1,0)) -> 0 | U15: =IF('2交替制'!H$14>'2交替制'!$G$4,0,IF('2交替制'!H18="休",1,0)) -> 0 | V15: =IF('2交替制'!I$14>'2交替制'!$G$4,0,IF('2交替制'!I18="休",1,0)) -> 1 | W15: =IF('2交替制'!J$14>'2交替制'!$G$4,0,IF('2交替制'!J18="休",1,0)) -> 1 | ... AC15: =IF('2交替制'!P$14>'2交替制'!$G$4,0,IF('2交替制'!P18="休",1,0)) -> 1 | AD15: =IF('2交替制'!C$22>'2交替制'!$G$4,0,IF('2交替制'!C26="休",1,0)) -> 1 | AE15: =IF('2交替制'!D$22>'2交替制'!$G$4,0,IF('2交替制'!D26="休",1,0)) -> 0 | AF15: =IF('2交替制'!E$22>'2交替制'!$G$4,0,IF('2交替制'!E26="休",1,0)) -> 0
A17: 連勤_D | B17: =IF('2交替制'!C$6>'2交替制'!$G$4,0,IF('2交替制'!C11="休",0,1)) -> 0 | C17: =IF('2交替制'!D$6>'2交替制'!$G$4,0,IF('2交替制'!D11="休",0,B17+1)) -> 1 | D17: =IF('2交替制'!E$6>'2交替制'!$G$4,0,IF('2交替制'!E11="休",0,C17+1)) -> 2 | E17: =IF('2交替制'!F$6>'2交替制'!$G$4,0,IF('2交替制'!F11="休",0,D17+1)) -> 3 | F17: =IF('2交替制'!G$6>'2交替制'!$G$4,0,IF('2交替制'!G11="休",0,E17+1)) -> 4 | G17: =IF('2交替制'!H$6>'2交替制'!$G$4,0,IF('2交替制'!H11="休",0,F17+1)) -> 5 | H17: =IF('2交替制'!I$6>'2交替制'!$G$4,0,IF('2交替制'!I11="休",0,G17+1)) -> 0 | I17: =IF('2交替制'!J$6>'2交替制'!$G$4,0,IF('2交替制'!J11="休",0,H17+1)) -> 0 | J17: =IF('2交替制'!K$6>'2交替制'!$G$4,0,IF('2交替制'!K11="休",0,I17+1)) -> 1 | ... O17: =IF('2交替制'!P$6>'2交替制'!$G$4,0,IF('2交替制'!P11="休",0,N17+1)) -> 0 | P17: =IF('2交替制'!C$14>'2交替制'!$G$4,0,IF('2交替制'!C19="休",0,O17+1)) -> 0 | Q17: =IF('2交替制'!D$14>'2交替制'!$G$4,0,IF('2交替制'!D19="休",0,P17+1)) -> 1 | R17: =IF('2交替制'!E$14>'2交替制'!$G$4,0,IF('2交替制'!E19="休",0,Q17+1)) -> 2 | S17: =IF('2交替制'!F$14>'2交替制'!$G$4,0,IF('2交替制'!F19="休",0,R17+1)) -> 3 | T17: =IF('2交替制'!G$14>'2交替制'!$G$4,0,IF('2交替制'!G19="休",0,S17+1)) -> 4 | U17: =IF('2交替制'!H$14>'2交替制'!$G$4,0,IF('2交替制'!H19="休",0,T17+1)) -> 5 | V17: =IF('2交替制'!I$14>'2交替制'!$G$4,0,IF('2交替制'!I19="休",0,U17+1)) -> 0 | W17: =IF('2交替制'!J$14>'2交替制'!$G$4,0,IF('2交替制'!J19="休",0,V17+1)) -> 0 | ... AC17: =IF('2交替制'!P$14>'2交替制'!$G$4,0,IF('2交替制'!P19="休",0,AB17+1)) -> 0 | AD17: =IF('2交替制'!C$22>'2交替制'!$G$4,0,IF('2交替制'!C27="休",0,AC17+1)) -> 0 | AE17: =IF('2交替制'!D$22>'2交替制'!$G$4,0,IF('2交替制'!D27="休",0,AD17+1)) -> 1 | AF17: =IF('2交替制'!E$22>'2交替制'!$G$4,0,IF('2交替制'!E27="休",0,AE17+1)) -> 2
A18: 日勤フラグ_D | B18: =IF('2交替制'!C$6>'2交替制'!$G$4,0,IF('2交替制'!C11="日勤",1,0)) -> 0 | C18: =IF('2交替制'!D$6>'2交替制'!$G$4,0,IF('2交替制'!D11="日勤",1,0)) -> 0 | D18: =IF('2交替制'!E$6>'2交替制'!$G$4,0,IF('2交替制'!E11="日勤",1,0)) -> 0 | E18: =IF('2交替制'!F$6>'2交替制'!$G$4,0,IF('2交替制'!F11="日勤",1,0)) -> 0 | F18: =IF('2交替制'!G$6>'2交替制'!$G$4,0,IF('2交替制'!G11="日勤",1,0)) -> 0 | G18: =IF('2交替制'!H$6>'2交替制'!$G$4,0,IF('2交替制'!H11="日勤",1,0)) -> 0 | H18: =IF('2交替制'!I$6>'2交替制'!$G$4,0,IF('2交替制'!I11="日勤",1,0)) -> 0 | I18: =IF('2交替制'!J$6>'2交替制'!$G$4,0,IF('2交替制'!J11="日勤",1,0)) -> 0 | ... O18: =IF('2交替制'!P$6>'2交替制'!$G$4,0,IF('2交替制'!P11="日勤",1,0)) -> 0 | P18: =IF('2交替制'!C$14>'2交替制'!$G$4,0,IF('2交替制'!C19="日勤",1,0)) -> 0 | Q18: =IF('2交替制'!D$14>'2交替制'!$G$4,0,IF('2交替制'!D19="日勤",1,0)) -> 0 | R18: =IF('2交替制'!E$14>'2交替制'!$G$4,0,IF('2交替制'!E19="日勤",1,0)) -> 0 | S18: =IF('2交替制'!F$14>'2交替制'!$G$4,0,IF('2交替制'!F19="日勤",1,0)) -> 0 | T18: =IF('2交替制'!G$14>'2交替制'!$G$4,0,IF('2交替制'!G19="日勤",1,0)) -> 0 | U18: =IF('2交替制'!H$14>'2交替制'!$G$4,0,IF('2交替制'!H19="日勤",1,0)) -> 0 | V18: =IF('2交替制'!I$14>'2交替制'!$G$4,0,IF('2交替制'!I19="日勤",1,0)) -> 0 | W18: =IF('2交替制'!J$14>'2交替制'!$G$4,0,IF('2交替制'!J19="日勤",1,0)) -> 0 | ... AC18: =IF('2交替制'!P$14>'2交替制'!$G$4,0,IF('2交替制'!P19="日勤",1,0)) -> 0 | AD18: =IF('2交替制'!C$22>'2交替制'!$G$4,0,IF('2交替制'!C27="日勤",1,0)) -> 0 | AE18: =IF('2交替制'!D$22>'2交替制'!$G$4,0,IF('2交替制'!D27="日勤",1,0)) -> 0 | AF18: =IF('2交替制'!E$22>'2交替制'!$G$4,0,IF('2交替制'!E27="日勤",1,0)) -> 0
A19: 夜勤フラグ_D | B19: =IF('2交替制'!C$6>'2交替制'!$G$4,0,IF('2交替制'!C11="夜勤",1,0)) -> 0 | C19: =IF('2交替制'!D$6>'2交替制'!$G$4,0,IF('2交替制'!D11="夜勤",1,0)) -> 1 | D19: =IF('2交替制'!E$6>'2交替制'!$G$4,0,IF('2交替制'!E11="夜勤",1,0)) -> 1 | E19: =IF('2交替制'!F$6>'2交替制'!$G$4,0,IF('2交替制'!F11="夜勤",1,0)) -> 1 | F19: =IF('2交替制'!G$6>'2交替制'!$G$4,0,IF('2交替制'!G11="夜勤",1,0)) -> 1 | G19: =IF('2交替制'!H$6>'2交替制'!$G$4,0,IF('2交替制'!H11="夜勤",1,0)) -> 1 | H19: =IF('2交替制'!I$6>'2交替制'!$G$4,0,IF('2交替制'!I11="夜勤",1,0)) -> 0 | I19: =IF('2交替制'!J$6>'2交替制'!$G$4,0,IF('2交替制'!J11="夜勤",1,0)) -> 0 | ... O19: =IF('2交替制'!P$6>'2交替制'!$G$4,0,IF('2交替制'!P11="夜勤",1,0)) -> 0 | P19: =IF('2交替制'!C$14>'2交替制'!$G$4,0,IF('2交替制'!C19="夜勤",1,0)) -> 0 | Q19: =IF('2交替制'!D$14>'2交替制'!$G$4,0,IF('2交替制'!D19="夜勤",1,0)) -> 1 | R19: =IF('2交替制'!E$14>'2交替制'!$G$4,0,IF('2交替制'!E19="夜勤",1,0)) -> 1 | S19: =IF('2交替制'!F$14>'2交替制'!$G$4,0,IF('2交替制'!F19="夜勤",1,0)) -> 1 | T19: =IF('2交替制'!G$14>'2交替制'!$G$4,0,IF('2交替制'!G19="夜勤",1,0)) -> 1 | U19: =IF('2交替制'!H$14>'2交替制'!$G$4,0,IF('2交替制'!H19="夜勤",1,0)) -> 1 | V19: =IF('2交替制'!I$14>'2交替制'!$G$4,0,IF('2交替制'!I19="夜勤",1,0)) -> 0 | W19: =IF('2交替制'!J$14>'2交替制'!$G$4,0,IF('2交替制'!J19="夜勤",1,0)) -> 0 | ... AC19: =IF('2交替制'!P$14>'2交替制'!$G$4,0,IF('2交替制'!P19="夜勤",1,0)) -> 0 | AD19: =IF('2交替制'!C$22>'2交替制'!$G$4,0,IF('2交替制'!C27="夜勤",1,0)) -> 0 | AE19: =IF('2交替制'!D$22>'2交替制'!$G$4,0,IF('2交替制'!D27="夜勤",1,0)) -> 1 | AF19: =IF('2交替制'!E$22>'2交替制'!$G$4,0,IF('2交替制'!E27="夜勤",1,0)) -> 1
A20: 休日フラグ_D | B20: =IF('2交替制'!C$6>'2交替制'!$G$4,0,IF('2交替制'!C11="休",1,0)) -> 1 | C20: =IF('2交替制'!D$6>'2交替制'!$G$4,0,IF('2交替制'!D11="休",1,0)) -> 0 | D20: =IF('2交替制'!E$6>'2交替制'!$G$4,0,IF('2交替制'!E11="休",1,0)) -> 0 | E20: =IF('2交替制'!F$6>'2交替制'!$G$4,0,IF('2交替制'!F11="休",1,0)) -> 0 | F20: =IF('2交替制'!G$6>'2交替制'!$G$4,0,IF('2交替制'!G11="休",1,0)) -> 0 | G20: =IF('2交替制'!H$6>'2交替制'!$G$4,0,IF('2交替制'!H11="休",1,0)) -> 0 | H20: =IF('2交替制'!I$6>'2交替制'!$G$4,0,IF('2交替制'!I11="休",1,0)) -> 1 | I20: =IF('2交替制'!J$6>'2交替制'!$G$4,0,IF('2交替制'!J11="休",1,0)) -> 1 | ... O20: =IF('2交替制'!P$6>'2交替制'!$G$4,0,IF('2交替制'!P11="休",1,0)) -> 1 | P20: =IF('2交替制'!C$14>'2交替制'!$G$4,0,IF('2交替制'!C19="休",1,0)) -> 1 | Q20: =IF('2交替制'!D$14>'2交替制'!$G$4,0,IF('2交替制'!D19="休",1,0)) -> 0 | R20: =IF('2交替制'!E$14>'2交替制'!$G$4,0,IF('2交替制'!E19="休",1,0)) -> 0 | S20: =IF('2交替制'!F$14>'2交替制'!$G$4,0,IF('2交替制'!F19="休",1,0)) -> 0 | T20: =IF('2交替制'!G$14>'2交替制'!$G$4,0,IF('2交替制'!G19="休",1,0)) -> 0 | U20: =IF('2交替制'!H$14>'2交替制'!$G$4,0,IF('2交替制'!H19="休",1,0)) -> 0 | V20: =IF('2交替制'!I$14>'2交替制'!$G$4,0,IF('2交替制'!I19="休",1,0)) -> 1 | W20: =IF('2交替制'!J$14>'2交替制'!$G$4,0,IF('2交替制'!J19="休",1,0)) -> 1 | ... AC20: =IF('2交替制'!P$14>'2交替制'!$G$4,0,IF('2交替制'!P19="休",1,0)) -> 1 | AD20: =IF('2交替制'!C$22>'2交替制'!$G$4,0,IF('2交替制'!C27="休",1,0)) -> 1 | AE20: =IF('2交替制'!D$22>'2交替制'!$G$4,0,IF('2交替制'!D27="休",1,0)) -> 0 | AF20: =IF('2交替制'!E$22>'2交替制'!$G$4,0,IF('2交替制'!E27="休",1,0)) -> 0
