Workbook

Sheet プロジェクト計画進捗表
B2: 計画進捗表テンプレート
B4: フェーズ | C4: タスク名 | D4: 担当者 | E4: 開始日 | F4: 終了日 | G4: 計画工数(h) | H4: 実績工数(h) | I4: 差分(h) | J4: 進捗率(%) | K4: 状態 | L4: コメント
B5: 要件定義 | C5: 要件整理 | D5: ◎◎ | E5: 46023 | F5: 46027 | G5: 20 | H5: 18 | I5: =H5-G5 -> -2 | J5: =IF(G5=0,0,H5/G5) -> 0.9 | K5: =IF(J5>=1,"完了",IF(J5>=0.8,"進行中","遅れ")) -> 進行中
B6: 要件定義 | C6: ステークホルダー確認 | D6: ◎◎ | E6: 46025 | F6: 46028 | G6: 12 | H6: 10 | I6: =H6-G6 -> -2 | J6: =IF(G6=0,0,H6/G6) -> 0.83333333 | K6: =IF(J6>=1,"完了",IF(J6>=0.8,"進行中","遅れ")) -> 進行中
B7: 設計 | C7: 基本設計 | D7: ◎◎ | E7: 46028 | F7: 46037 | G7: 40 | H7: 45 | I7: =H7-G7 -> 5 | J7: =IF(G7=0,0,H7/G7) -> 1.125 | K7: =IF(J7>=1,"完了",IF(J7>=0.8,"進行中","遅れ")) -> 完了
B8: 設計 | C8: 詳細設計 | D8: ◎◎ | E8: 46038 | F8: 46047 | G8: 50 | H8: 30 | I8: =H8-G8 -> -20 | J8: =IF(G8=0,0,H8/G8) -> 0.6 | K8: =IF(J8>=1,"完了",IF(J8>=0.8,"進行中","遅れ")) -> 遅れ
B9: 実装 | C9: 環境構築 | D9: ◎◎ | E9: 46042 | F9: 46049 | G9: 16 | H9: 12 | I9: =H9-G9 -> -4 | J9: =IF(G9=0,0,H9/G9) -> 0.75 | K9: =IF(J9>=1,"完了",IF(J9>=0.8,"進行中","遅れ")) -> 遅れ
B10: 実装 | C10: 開発作業① | D10: ◎◎ | E10: 46048 | F10: 46058 | G10: 40 | H10: 28 | I10: =H10-G10 -> -12 | J10: =IF(G10=0,0,H10/G10) -> 0.7 | K10: =IF(J10>=1,"完了",IF(J10>=0.8,"進行中","遅れ")) -> 遅れ
B11: 実装 | C11: 開発作業② | D11: ◎◎ | E11: 46054 | F11: 46063 | G11: 40 | H11: 32 | I11: =H11-G11 -> -8 | J11: =IF(G11=0,0,H11/G11) -> 0.8 | K11: =IF(J11>=1,"完了",IF(J11>=0.8,"進行中","遅れ")) -> 進行中
B12: テスト | C12: 単体テスト | D12: ◎◎ | E12: 46059 | F12: 46067 | G12: 24 | H12: 8 | I12: =H12-G12 -> -16 | J12: =IF(G12=0,0,H12/G12) -> 0.33333333 | K12: =IF(J12>=1,"完了",IF(J12>=0.8,"進行中","遅れ")) -> 遅れ
B13: テスト | C13: 結合テスト | D13: ◎◎ | E13: 46068 | F13: 46073 | G13: 20 | H13: 0 | I13: =H13-G13 -> -20 | J13: =IF(G13=0,0,H13/G13) -> 0 | K13: =IF(J13>=1,"完了",IF(J13>=0.8,"進行中","遅れ")) -> 遅れ
B14: リリース | C14: リリース準備/展開 | D14: ◎◎ | E14: 46074 | F14: 46077 | G14: 12 | H14: 0 | I14: =H14-G14 -> -12 | J14: =IF(G14=0,0,H14/G14) -> 0 | K14: =IF(J14>=1,"完了",IF(J14>=0.8,"進行中","遅れ")) -> 遅れ

Sheet ガントチャート
I4: =I5 -> 46023 | AN4: =AN5 -> 46054
B5: フェーズ | C5: タスク名 | D5: 担当者 | E5: 開始日 | F5: 終了日 | G5: 計画(h) | H5: 実績(h) | I5: 46023 | J5: 46024 | K5: 46025 | L5: 46026 | M5: 46027 | N5: 46028 | O5: 46029 | P5: 46030 | Q5: 46031 | R5: 46032 | S5: 46033 | T5: 46034 | U5: 46035 | V5: 46036 | W5: 46037 | X5: 46038 | Y5: 46039 | Z5: 46040 | AA5: 46041 | AB5: 46042 | AC5: 46043 | AD5: 46044 | AE5: 46045 | AF5: 46046 | AG5: 46047 | AH5: 46048 | AI5: 46049 | AJ5: 46050 | AK5: 46051 | AL5: 46052 | AM5: 46053 | AN5: 46054 | AO5: 46055 | AP5: 46056 | AQ5: 46057 | AR5: 46058 | AS5: 46059 | AT5: 46060 | AU5: 46061 | AV5: 46062 | AW5: 46063 | AX5: 46064 | AY5: 46065 | AZ5: 46066 | BA5: 46067 | BB5: 46068 | BC5: 46069 | BD5: 46070 | BE5: 46071 | BF5: 46072 | BG5: 46073 | BH5: 46074 | BI5: 46075 | BJ5: 46076 | BK5: 46077 | BL5: 46078 | BM5: 46079
B6: 要件定義 | C6: 要件整理 | E6: =プロジェクト計画進捗表!E5 -> 46023 | F6: =プロジェクト計画進捗表!F5 -> 46027 | G6: 20 | H6: 18
B7: 要件定義 | C7: ステークホルダー確認 | E7: =プロジェクト計画進捗表!E6 -> 46025 | F7: =プロジェクト計画進捗表!F6 -> 46028 | G7: 12 | H7: 10
B8: 設計 | C8: 基本設計 | E8: =プロジェクト計画進捗表!E7 -> 46028 | F8: =プロジェクト計画進捗表!F7 -> 46037 | G8: 40 | H8: 45
B9: 設計 | C9: 詳細設計 | E9: =プロジェクト計画進捗表!E8 -> 46038 | F9: =プロジェクト計画進捗表!F8 -> 46047 | G9: 50 | H9: 30
B10: 実装 | C10: 環境構築 | E10: =プロジェクト計画進捗表!E9 -> 46042 | F10: =プロジェクト計画進捗表!F9 -> 46049 | G10: 16 | H10: 12
B11: 実装 | C11: 開発作業① | E11: =プロジェクト計画進捗表!E10 -> 46048 | F11: =プロジェクト計画進捗表!F10 -> 46058 | G11: 40 | H11: 28
B12: 実装 | C12: 開発作業② | E12: =プロジェクト計画進捗表!E11 -> 46054 | F12: =プロジェクト計画進捗表!F11 -> 46063 | G12: 40 | H12: 32
B13: テスト | C13: 単体テスト | E13: =プロジェクト計画進捗表!E12 -> 46059 | F13: =プロジェクト計画進捗表!F12 -> 46067 | G13: 24 | H13: 8
B14: テスト | C14: 結合テスト | E14: =プロジェクト計画進捗表!E13 -> 46068 | F14: =プロジェクト計画進捗表!F13 -> 46073 | G14: 20 | H14: 0
B15: リリース | C15: リリース準備/展開 | E15: =プロジェクト計画進捗表!E14 -> 46074 | F15: =プロジェクト計画進捗表!F14 -> 46077 | G15: 12 | H15: 0
