Workbook

Sheet 封筒一覧
B2: 袋分け家計簿（封筒）テンプレート
B5: 封筒（品目別）一覧
B6: 2026 | C6: 2
B7: 費目 | C7: 予算 | D7: 入金額 | E7: 使用額 | F7: 残額 | G7: 使用率
B8: 食費 | C8: =封筒_食費!C6 -> 50000 | D8: =封筒_食費!E6 -> 2000 | E8: =封筒_食費!E7 -> 10000 | F8: =封筒_食費!E8 -> 42000 | G8: =封筒_食費!C7 -> 0.16
B9: 日用品費 | C9: =封筒_日用品費!C6 -> 30000 | D9: =封筒_日用品費!E6 -> 2000 | E9: =封筒_日用品費!E7 -> 10000 | F9: =封筒_日用品費!E8 -> 22000 | G9: =封筒_日用品費!C7 -> 0.26666667
B10: 外食費 | C10: =封筒_外食費!C6 -> 15000 | D10: =封筒_外食費!E6 -> 2000 | E10: =封筒_外食費!E7 -> 10000 | F10: =封筒_外食費!E8 -> 7000 | G10: =封筒_外食費!C7 -> 0.53333333
B11: 娯楽費 | C11: =封筒_娯楽費!C6 -> 15000 | D11: =封筒_娯楽費!E6 -> 2000 | E11: =封筒_娯楽費!E7 -> 10000 | F11: =封筒_娯楽費!E8 -> 7000 | G11: =封筒_娯楽費!C7 -> 0.53333333
B12: 医療費 | C12: =封筒_医療費!C6 -> 10000 | D12: =封筒_医療費!E6 -> 2000 | E12: =封筒_医療費!E7 -> 10000 | F12: =封筒_医療費!E8 -> 2000 | G12: =封筒_医療費!C7 -> 0.8
B13: 交通費 | C13: =封筒_交通費!C6 -> 10000 | D13: =封筒_交通費!E6 -> 2000 | E13: =封筒_交通費!E7 -> 10000 | F13: =封筒_交通費!E8 -> 2000 | G13: =封筒_交通費!C7 -> 0.8
B14: 被服費 | C14: =封筒_被服費!C6 -> 10000 | D14: =封筒_被服費!E6 -> 2000 | E14: =封筒_被服費!E7 -> 10000 | F14: =封筒_被服費!E8 -> 2000 | G14: =封筒_被服費!C7 -> 0.8
B15: 美容費 | C15: =封筒_美容費!C6 -> 5000 | D15: =封筒_美容費!E6 -> 0 | E15: =封筒_美容費!E7 -> 3000 | F15: =封筒_美容費!E8 -> 2000 | G15: =封筒_美容費!C7 -> 0.6
B16: 特別費 | C16: =封筒_特別費!C6 -> 20000 | D16: =封筒_特別費!E6 -> 2000 | E16: =封筒_特別費!E7 -> 10000 | F16: =封筒_特別費!E8 -> 12000 | G16: =封筒_特別費!C7 -> 0.4
B17: その他 | C17: =封筒_その他!C6 -> 40000 | D17: =封筒_その他!E6 -> 0 | E17: =封筒_その他!E7 -> 23000 | F17: =封筒_その他!E8 -> 17000 | G17: =封筒_その他!C7 -> 0.575

Sheet 封筒_食費
B2: 封筒（袋分け）管理
B3: =封筒一覧!B6 -> 2026 | C3: =封筒一覧!C6 -> 2
B4: 【食費】
B6: 予算 | C6: 50000 | D6: 入金額 | E6: =SUM(D11:D28) -> 2000
B7: 使用率 | C7: =(C6-E8)/C6 -> 0.16 | D7: 使用額 | E7: =SUM(E11:E28) -> 10000
D8: 残額 | E8: =C6+E6-E7 -> 42000
B10: 日付 | C10: 内容 | D10: 入金 | E10: 支出 | F10: 残高
B11: 46054 | C11: スーパー | E11: 8000 | F11: =IF(COUNT(D11,E11)=0,"",$C$6+IFERROR(D11,0)-IFERROR(E11,0)) -> 42000
D12: 1000 | F12: =IF(COUNT(D12,E12)=0,"",F11+IFERROR(D12,0)-IFERROR(E12,0)) -> 43000
D13: 1000 | F13: =IF(COUNT(D13,E13)=0,"",F12+IFERROR(D13,0)-IFERROR(E13,0)) -> 44000
E14: 2000 | F14: =IF(COUNT(D14,E14)=0,"",F13+IFERROR(D14,0)-IFERROR(E14,0)) -> 42000
F15: =IF(COUNT(D15,E15)=0,"",F14+IFERROR(D15,0)-IFERROR(E15,0))
F16: =IF(COUNT(D16,E16)=0,"",F15+IFERROR(D16,0)-IFERROR(E16,0))
F17: =IF(COUNT(D17,E17)=0,"",F16+IFERROR(D17,0)-IFERROR(E17,0))
F18: =IF(COUNT(D18,E18)=0,"",F17+IFERROR(D18,0)-IFERROR(E18,0))
F19: =IF(COUNT(D19,E19)=0,"",F18+IFERROR(D19,0)-IFERROR(E19,0))
F20: =IF(COUNT(D20,E20)=0,"",F19+IFERROR(D20,0)-IFERROR(E20,0))
F21: =IF(COUNT(D21,E21)=0,"",F20+IFERROR(D21,0)-IFERROR(E21,0))
F22: =IF(COUNT(D22,E22)=0,"",F21+IFERROR(D22,0)-IFERROR(E22,0))
F23: =IF(COUNT(D23,E23)=0,"",F22+IFERROR(D23,0)-IFERROR(E23,0))
F24: =IF(COUNT(D24,E24)=0,"",F23+IFERROR(D24,0)-IFERROR(E24,0))
F25: =IF(COUNT(D25,E25)=0,"",F24+IFERROR(D25,0)-IFERROR(E25,0))
F26: =IF(COUNT(D26,E26)=0,"",F25+IFERROR(D26,0)-IFERROR(E26,0))
... F28: =IF(COUNT(D28,E28)=0,"",F27+IFERROR(D28,0)-IFERROR(E28,0))

Sheet 封筒_日用品費
B2: 封筒（袋分け）管理
B3: =封筒一覧!B6 -> 2026 | C3: =封筒一覧!C6 -> 2
B4: 【日用品費】
B6: 予算 | C6: 30000 | D6: 入金額 | E6: =SUM(D11:D28) -> 2000
B7: 使用率 | C7: =(C6-E8)/C6 -> 0.26666667 | D7: 使用額 | E7: =SUM(E11:E28) -> 10000
D8: 残額 | E8: =C6+E6-E7 -> 22000
B10: 日付 | C10: 内容 | D10: 入金 | E10: 支出 | F10: 残高
E11: 8000 | F11: =IF(COUNT(D11,E11)=0,"",$C$6+IFERROR(D11,0)-IFERROR(E11,0)) -> 22000
D12: 1000 | F12: =IF(COUNT(D12,E12)=0,"",F11+IFERROR(D12,0)-IFERROR(E12,0)) -> 23000
D13: 1000 | F13: =IF(COUNT(D13,E13)=0,"",F12+IFERROR(D13,0)-IFERROR(E13,0)) -> 24000
E14: 2000 | F14: =IF(COUNT(D14,E14)=0,"",F13+IFERROR(D14,0)-IFERROR(E14,0)) -> 22000
F15: =IF(COUNT(D15,E15)=0,"",F14+IFERROR(D15,0)-IFERROR(E15,0))
F16: =IF(COUNT(D16,E16)=0,"",F15+IFERROR(D16,0)-IFERROR(E16,0))
F17: =IF(COUNT(D17,E17)=0,"",F16+IFERROR(D17,0)-IFERROR(E17,0))
F18: =IF(COUNT(D18,E18)=0,"",F17+IFERROR(D18,0)-IFERROR(E18,0))
F19: =IF(COUNT(D19,E19)=0,"",F18+IFERROR(D19,0)-IFERROR(E19,0))
F20: =IF(COUNT(D20,E20)=0,"",F19+IFERROR(D20,0)-IFERROR(E20,0))
F21: =IF(COUNT(D21,E21)=0,"",F20+IFERROR(D21,0)-IFERROR(E21,0))
F22: =IF(COUNT(D22,E22)=0,"",F21+IFERROR(D22,0)-IFERROR(E22,0))
F23: =IF(COUNT(D23,E23)=0,"",F22+IFERROR(D23,0)-IFERROR(E23,0))
F24: =IF(COUNT(D24,E24)=0,"",F23+IFERROR(D24,0)-IFERROR(E24,0))
F25: =IF(COUNT(D25,E25)=0,"",F24+IFERROR(D25,0)-IFERROR(E25,0))
F26: =IF(COUNT(D26,E26)=0,"",F25+IFERROR(D26,0)-IFERROR(E26,0))
... F28: =IF(COUNT(D28,E28)=0,"",F27+IFERROR(D28,0)-IFERROR(E28,0))

Sheet 封筒_外食費
B2: 封筒（袋分け）管理
B3: =封筒一覧!B6 -> 2026 | C3: =封筒一覧!C6 -> 2
B4: 【外食費】
B6: 予算 | C6: 15000 | D6: 入金額 | E6: =SUM(D11:D28) -> 2000
B7: 使用率 | C7: =(C6-E8)/C6 -> 0.53333333 | D7: 使用額 | E7: =SUM(E11:E28) -> 10000
D8: 残額 | E8: =C6+E6-E7 -> 7000
B10: 日付 | C10: 内容 | D10: 入金 | E10: 支出 | F10: 残高
E11: 8000 | F11: =IF(COUNT(D11,E11)=0,"",$C$6+IFERROR(D11,0)-IFERROR(E11,0)) -> 7000
D12: 1000 | F12: =IF(COUNT(D12,E12)=0,"",F11+IFERROR(D12,0)-IFERROR(E12,0)) -> 8000
D13: 1000 | F13: =IF(COUNT(D13,E13)=0,"",F12+IFERROR(D13,0)-IFERROR(E13,0)) -> 9000
E14: 2000 | F14: =IF(COUNT(D14,E14)=0,"",F13+IFERROR(D14,0)-IFERROR(E14,0)) -> 7000
F15: =IF(COUNT(D15,E15)=0,"",F14+IFERROR(D15,0)-IFERROR(E15,0))
F16: =IF(COUNT(D16,E16)=0,"",F15+IFERROR(D16,0)-IFERROR(E16,0))
F17: =IF(COUNT(D17,E17)=0,"",F16+IFERROR(D17,0)-IFERROR(E17,0))
F18: =IF(COUNT(D18,E18)=0,"",F17+IFERROR(D18,0)-IFERROR(E18,0))
F19: =IF(COUNT(D19,E19)=0,"",F18+IFERROR(D19,0)-IFERROR(E19,0))
F20: =IF(COUNT(D20,E20)=0,"",F19+IFERROR(D20,0)-IFERROR(E20,0))
F21: =IF(COUNT(D21,E21)=0,"",F20+IFERROR(D21,0)-IFERROR(E21,0))
F22: =IF(COUNT(D22,E22)=0,"",F21+IFERROR(D22,0)-IFERROR(E22,0))
F23: =IF(COUNT(D23,E23)=0,"",F22+IFERROR(D23,0)-IFERROR(E23,0))
F24: =IF(COUNT(D24,E24)=0,"",F23+IFERROR(D24,0)-IFERROR(E24,0))
F25: =IF(COUNT(D25,E25)=0,"",F24+IFERROR(D25,0)-IFERROR(E25,0))
F26: =IF(COUNT(D26,E26)=0,"",F25+IFERROR(D26,0)-IFERROR(E26,0))
... F28: =IF(COUNT(D28,E28)=0,"",F27+IFERROR(D28,0)-IFERROR(E28,0))

Sheet 封筒_娯楽費
B2: 封筒（袋分け）管理
B3: =封筒一覧!B6 -> 2026 | C3: =封筒一覧!C6 -> 2
B4: 【娯楽費】
B6: 予算 | C6: 15000 | D6: 入金額 | E6: =SUM(D11:D28) -> 2000
B7: 使用率 | C7: =(C6-E8)/C6 -> 0.53333333 | D7: 使用額 | E7: =SUM(E11:E28) -> 10000
D8: 残額 | E8: =C6+E6-E7 -> 7000
B10: 日付 | C10: 内容 | D10: 入金 | E10: 支出 | F10: 残高
E11: 8000 | F11: =IF(COUNT(D11,E11)=0,"",$C$6+IFERROR(D11,0)-IFERROR(E11,0)) -> 7000
D12: 1000 | F12: =IF(COUNT(D12,E12)=0,"",F11+IFERROR(D12,0)-IFERROR(E12,0)) -> 8000
D13: 1000 | F13: =IF(COUNT(D13,E13)=0,"",F12+IFERROR(D13,0)-IFERROR(E13,0)) -> 9000
E14: 2000 | F14: =IF(COUNT(D14,E14)=0,"",F13+IFERROR(D14,0)-IFERROR(E14,0)) -> 7000
F15: =IF(COUNT(D15,E15)=0,"",F14+IFERROR(D15,0)-IFERROR(E15,0))
F16: =IF(COUNT(D16,E16)=0,"",F15+IFERROR(D16,0)-IFERROR(E16,0))
F17: =IF(COUNT(D17,E17)=0,"",F16+IFERROR(D17,0)-IFERROR(E17,0))
F18: =IF(COUNT(D18,E18)=0,"",F17+IFERROR(D18,0)-IFERROR(E18,0))
F19: =IF(COUNT(D19,E19)=0,"",F18+IFERROR(D19,0)-IFERROR(E19,0))
F20: =IF(COUNT(D20,E20)=0,"",F19+IFERROR(D20,0)-IFERROR(E20,0))
F21: =IF(COUNT(D21,E21)=0,"",F20+IFERROR(D21,0)-IFERROR(E21,0))
F22: =IF(COUNT(D22,E22)=0,"",F21+IFERROR(D22,0)-IFERROR(E22,0))
F23: =IF(COUNT(D23,E23)=0,"",F22+IFERROR(D23,0)-IFERROR(E23,0))
F24: =IF(COUNT(D24,E24)=0,"",F23+IFERROR(D24,0)-IFERROR(E24,0))
F25: =IF(COUNT(D25,E25)=0,"",F24+IFERROR(D25,0)-IFERROR(E25,0))
F26: =IF(COUNT(D26,E26)=0,"",F25+IFERROR(D26,0)-IFERROR(E26,0))
... F28: =IF(COUNT(D28,E28)=0,"",F27+IFERROR(D28,0)-IFERROR(E28,0))

Sheet 封筒_医療費
B2: 封筒（袋分け）管理
B3: =封筒一覧!B6 -> 2026 | C3: =封筒一覧!C6 -> 2
B4: 【医療費】
B6: 予算 | C6: 10000 | D6: 入金額 | E6: =SUM(D11:D28) -> 2000
B7: 使用率 | C7: =(C6-E8)/C6 -> 0.8 | D7: 使用額 | E7: =SUM(E11:E28) -> 10000
D8: 残額 | E8: =C6+E6-E7 -> 2000
B10: 日付 | C10: 内容 | D10: 入金 | E10: 支出 | F10: 残高
E11: 8000 | F11: =IF(COUNT(D11,E11)=0,"",$C$6+IFERROR(D11,0)-IFERROR(E11,0)) -> 2000
D12: 1000 | F12: =IF(COUNT(D12,E12)=0,"",F11+IFERROR(D12,0)-IFERROR(E12,0)) -> 3000
D13: 1000 | F13: =IF(COUNT(D13,E13)=0,"",F12+IFERROR(D13,0)-IFERROR(E13,0)) -> 4000
E14: 2000 | F14: =IF(COUNT(D14,E14)=0,"",F13+IFERROR(D14,0)-IFERROR(E14,0)) -> 2000
F15: =IF(COUNT(D15,E15)=0,"",F14+IFERROR(D15,0)-IFERROR(E15,0))
F16: =IF(COUNT(D16,E16)=0,"",F15+IFERROR(D16,0)-IFERROR(E16,0))
F17: =IF(COUNT(D17,E17)=0,"",F16+IFERROR(D17,0)-IFERROR(E17,0))
F18: =IF(COUNT(D18,E18)=0,"",F17+IFERROR(D18,0)-IFERROR(E18,0))
F19: =IF(COUNT(D19,E19)=0,"",F18+IFERROR(D19,0)-IFERROR(E19,0))
F20: =IF(COUNT(D20,E20)=0,"",F19+IFERROR(D20,0)-IFERROR(E20,0))
F21: =IF(COUNT(D21,E21)=0,"",F20+IFERROR(D21,0)-IFERROR(E21,0))
F22: =IF(COUNT(D22,E22)=0,"",F21+IFERROR(D22,0)-IFERROR(E22,0))
F23: =IF(COUNT(D23,E23)=0,"",F22+IFERROR(D23,0)-IFERROR(E23,0))
F24: =IF(COUNT(D24,E24)=0,"",F23+IFERROR(D24,0)-IFERROR(E24,0))
F25: =IF(COUNT(D25,E25)=0,"",F24+IFERROR(D25,0)-IFERROR(E25,0))
F26: =IF(COUNT(D26,E26)=0,"",F25+IFERROR(D26,0)-IFERROR(E26,0))
... F28: =IF(COUNT(D28,E28)=0,"",F27+IFERROR(D28,0)-IFERROR(E28,0))

Sheet 封筒_交通費
B2: 封筒（袋分け）管理
B3: =封筒一覧!B6 -> 2026 | C3: =封筒一覧!C6 -> 2
B4: 【交通費】
B6: 予算 | C6: 10000 | D6: 入金額 | E6: =SUM(D11:D28) -> 2000
B7: 使用率 | C7: =(C6-E8)/C6 -> 0.8 | D7: 使用額 | E7: =SUM(E11:E28) -> 10000
D8: 残額 | E8: =C6+E6-E7 -> 2000
B10: 日付 | C10: 内容 | D10: 入金 | E10: 支出 | F10: 残高
E11: 8000 | F11: =IF(COUNT(D11,E11)=0,"",$C$6+IFERROR(D11,0)-IFERROR(E11,0)) -> 2000
D12: 1000 | F12: =IF(COUNT(D12,E12)=0,"",F11+IFERROR(D12,0)-IFERROR(E12,0)) -> 3000
D13: 1000 | F13: =IF(COUNT(D13,E13)=0,"",F12+IFERROR(D13,0)-IFERROR(E13,0)) -> 4000
E14: 2000 | F14: =IF(COUNT(D14,E14)=0,"",F13+IFERROR(D14,0)-IFERROR(E14,0)) -> 2000
F15: =IF(COUNT(D15,E15)=0,"",F14+IFERROR(D15,0)-IFERROR(E15,0))
F16: =IF(COUNT(D16,E16)=0,"",F15+IFERROR(D16,0)-IFERROR(E16,0))
F17: =IF(COUNT(D17,E17)=0,"",F16+IFERROR(D17,0)-IFERROR(E17,0))
F18: =IF(COUNT(D18,E18)=0,"",F17+IFERROR(D18,0)-IFERROR(E18,0))
F19: =IF(COUNT(D19,E19)=0,"",F18+IFERROR(D19,0)-IFERROR(E19,0))
F20: =IF(COUNT(D20,E20)=0,"",F19+IFERROR(D20,0)-IFERROR(E20,0))
F21: =IF(COUNT(D21,E21)=0,"",F20+IFERROR(D21,0)-IFERROR(E21,0))
F22: =IF(COUNT(D22,E22)=0,"",F21+IFERROR(D22,0)-IFERROR(E22,0))
F23: =IF(COUNT(D23,E23)=0,"",F22+IFERROR(D23,0)-IFERROR(E23,0))
F24: =IF(COUNT(D24,E24)=0,"",F23+IFERROR(D24,0)-IFERROR(E24,0))
F25: =IF(COUNT(D25,E25)=0,"",F24+IFERROR(D25,0)-IFERROR(E25,0))
F26: =IF(COUNT(D26,E26)=0,"",F25+IFERROR(D26,0)-IFERROR(E26,0))
... F28: =IF(COUNT(D28,E28)=0,"",F27+IFERROR(D28,0)-IFERROR(E28,0))

Sheet 封筒_被服費
B2: 封筒（袋分け）管理
B3: =封筒一覧!B6 -> 2026 | C3: =封筒一覧!C6 -> 2
B4: 【被服費】
B6: 予算 | C6: 10000 | D6: 入金額 | E6: =SUM(D11:D28) -> 2000
B7: 使用率 | C7: =(C6-E8)/C6 -> 0.8 | D7: 使用額 | E7: =SUM(E11:E28) -> 10000
D8: 残額 | E8: =C6+E6-E7 -> 2000
B10: 日付 | C10: 内容 | D10: 入金 | E10: 支出 | F10: 残高
E11: 8000 | F11: =IF(COUNT(D11,E11)=0,"",$C$6+IFERROR(D11,0)-IFERROR(E11,0)) -> 2000
D12: 1000 | F12: =IF(COUNT(D12,E12)=0,"",F11+IFERROR(D12,0)-IFERROR(E12,0)) -> 3000
D13: 1000 | F13: =IF(COUNT(D13,E13)=0,"",F12+IFERROR(D13,0)-IFERROR(E13,0)) -> 4000
E14: 2000 | F14: =IF(COUNT(D14,E14)=0,"",F13+IFERROR(D14,0)-IFERROR(E14,0)) -> 2000
F15: =IF(COUNT(D15,E15)=0,"",F14+IFERROR(D15,0)-IFERROR(E15,0))
F16: =IF(COUNT(D16,E16)=0,"",F15+IFERROR(D16,0)-IFERROR(E16,0))
F17: =IF(COUNT(D17,E17)=0,"",F16+IFERROR(D17,0)-IFERROR(E17,0))
F18: =IF(COUNT(D18,E18)=0,"",F17+IFERROR(D18,0)-IFERROR(E18,0))
F19: =IF(COUNT(D19,E19)=0,"",F18+IFERROR(D19,0)-IFERROR(E19,0))
F20: =IF(COUNT(D20,E20)=0,"",F19+IFERROR(D20,0)-IFERROR(E20,0))
F21: =IF(COUNT(D21,E21)=0,"",F20+IFERROR(D21,0)-IFERROR(E21,0))
F22: =IF(COUNT(D22,E22)=0,"",F21+IFERROR(D22,0)-IFERROR(E22,0))
F23: =IF(COUNT(D23,E23)=0,"",F22+IFERROR(D23,0)-IFERROR(E23,0))
F24: =IF(COUNT(D24,E24)=0,"",F23+IFERROR(D24,0)-IFERROR(E24,0))
F25: =IF(COUNT(D25,E25)=0,"",F24+IFERROR(D25,0)-IFERROR(E25,0))
F26: =IF(COUNT(D26,E26)=0,"",F25+IFERROR(D26,0)-IFERROR(E26,0))
... F28: =IF(COUNT(D28,E28)=0,"",F27+IFERROR(D28,0)-IFERROR(E28,0))

Sheet 封筒_美容費
B2: 封筒（袋分け）管理
B3: =封筒一覧!B6 -> 2026 | C3: =封筒一覧!C6 -> 2
B4: 【美容費】
B6: 予算 | C6: 5000 | D6: 入金額 | E6: =SUM(D11:D28) -> 0
B7: 使用率 | C7: =(C6-E8)/C6 -> 0.6 | D7: 使用額 | E7: =SUM(E11:E28) -> 3000
D8: 残額 | E8: =C6+E6-E7 -> 2000
B10: 日付 | C10: 内容 | D10: 入金 | E10: 支出 | F10: 残高
E11: 3000 | F11: =IF(COUNT(D11,E11)=0,"",$C$6+IFERROR(D11,0)-IFERROR(E11,0)) -> 2000
F12: =IF(COUNT(D12,E12)=0,"",F11+IFERROR(D12,0)-IFERROR(E12,0))
F13: =IF(COUNT(D13,E13)=0,"",F12+IFERROR(D13,0)-IFERROR(E13,0))
F14: =IF(COUNT(D14,E14)=0,"",F13+IFERROR(D14,0)-IFERROR(E14,0))
F15: =IF(COUNT(D15,E15)=0,"",F14+IFERROR(D15,0)-IFERROR(E15,0))
F16: =IF(COUNT(D16,E16)=0,"",F15+IFERROR(D16,0)-IFERROR(E16,0))
F17: =IF(COUNT(D17,E17)=0,"",F16+IFERROR(D17,0)-IFERROR(E17,0))
F18: =IF(COUNT(D18,E18)=0,"",F17+IFERROR(D18,0)-IFERROR(E18,0))
F19: =IF(COUNT(D19,E19)=0,"",F18+IFERROR(D19,0)-IFERROR(E19,0))
F20: =IF(COUNT(D20,E20)=0,"",F19+IFERROR(D20,0)-IFERROR(E20,0))
F21: =IF(COUNT(D21,E21)=0,"",F20+IFERROR(D21,0)-IFERROR(E21,0))
F22: =IF(COUNT(D22,E22)=0,"",F21+IFERROR(D22,0)-IFERROR(E22,0))
F23: =IF(COUNT(D23,E23)=0,"",F22+IFERROR(D23,0)-IFERROR(E23,0))
... F28: =IF(COUNT(D28,E28)=0,"",F27+IFERROR(D28,0)-IFERROR(E28,0))

Sheet 封筒_特別費
B2: 封筒（袋分け）管理
B3: =封筒一覧!B6 -> 2026 | C3: =封筒一覧!C6 -> 2
B4: 【特別費】
B6: 予算 | C6: 20000 | D6: 入金額 | E6: =SUM(D11:D28) -> 2000
B7: 使用率 | C7: =(C6-E8)/C6 -> 0.4 | D7: 使用額 | E7: =SUM(E11:E28) -> 10000
D8: 残額 | E8: =C6+E6-E7 -> 12000
B10: 日付 | C10: 内容 | D10: 入金 | E10: 支出 | F10: 残高
E11: 8000 | F11: =IF(COUNT(D11,E11)=0,"",$C$6+IFERROR(D11,0)-IFERROR(E11,0)) -> 12000
D12: 1000 | F12: =IF(COUNT(D12,E12)=0,"",F11+IFERROR(D12,0)-IFERROR(E12,0)) -> 13000
D13: 1000 | F13: =IF(COUNT(D13,E13)=0,"",F12+IFERROR(D13,0)-IFERROR(E13,0)) -> 14000
E14: 2000 | F14: =IF(COUNT(D14,E14)=0,"",F13+IFERROR(D14,0)-IFERROR(E14,0)) -> 12000
F15: =IF(COUNT(D15,E15)=0,"",F14+IFERROR(D15,0)-IFERROR(E15,0))
F16: =IF(COUNT(D16,E16)=0,"",F15+IFERROR(D16,0)-IFERROR(E16,0))
F17: =IF(COUNT(D17,E17)=0,"",F16+IFERROR(D17,0)-IFERROR(E17,0))
F18: =IF(COUNT(D18,E18)=0,"",F17+IFERROR(D18,0)-IFERROR(E18,0))
F19: =IF(COUNT(D19,E19)=0,"",F18+IFERROR(D19,0)-IFERROR(E19,0))
F20: =IF(COUNT(D20,E20)=0,"",F19+IFERROR(D20,0)-IFERROR(E20,0))
F21: =IF(COUNT(D21,E21)=0,"",F20+IFERROR(D21,0)-IFERROR(E21,0))
F22: =IF(COUNT(D22,E22)=0,"",F21+IFERROR(D22,0)-IFERROR(E22,0))
F23: =IF(COUNT(D23,E23)=0,"",F22+IFERROR(D23,0)-IFERROR(E23,0))
F24: =IF(COUNT(D24,E24)=0,"",F23+IFERROR(D24,0)-IFERROR(E24,0))
F25: =IF(COUNT(D25,E25)=0,"",F24+IFERROR(D25,0)-IFERROR(E25,0))
F26: =IF(COUNT(D26,E26)=0,"",F25+IFERROR(D26,0)-IFERROR(E26,0))
... F28: =IF(COUNT(D28,E28)=0,"",F27+IFERROR(D28,0)-IFERROR(E28,0))

Sheet 封筒_その他
B2: 封筒（袋分け）管理
B3: =封筒一覧!B6 -> 2026 | C3: =封筒一覧!C6 -> 2
B4: 【その他】
B6: 予算 | C6: 40000 | D6: 入金額 | E6: =SUM(D11:D28) -> 0
B7: 使用率 | C7: =(C6-E8)/C6 -> 0.575 | D7: 使用額 | E7: =SUM(E11:E28) -> 23000
D8: 残額 | E8: =C6+E6-E7 -> 17000
B10: 日付 | C10: 内容 | D10: 入金 | E10: 支出 | F10: 残高
B11: 46081 | C11: 電気代 | E11: 13000 | F11: =IF(COUNT(D11,E11)=0,"",$C$6+IFERROR(D11,0)-IFERROR(E11,0)) -> 27000
B12: 46081 | C12: ガス代 | E12: 4000 | F12: =IF(COUNT(D12,E12)=0,"",F11+IFERROR(D12,0)-IFERROR(E12,0)) -> 23000
B13: 46081 | C13: 水道代 | E13: 6000 | F13: =IF(COUNT(D13,E13)=0,"",F12+IFERROR(D13,0)-IFERROR(E13,0)) -> 17000
F14: =IF(COUNT(D14,E14)=0,"",F13+IFERROR(D14,0)-IFERROR(E14,0))
F15: =IF(COUNT(D15,E15)=0,"",F14+IFERROR(D15,0)-IFERROR(E15,0))
F16: =IF(COUNT(D16,E16)=0,"",F15+IFERROR(D16,0)-IFERROR(E16,0))
F17: =IF(COUNT(D17,E17)=0,"",F16+IFERROR(D17,0)-IFERROR(E17,0))
F18: =IF(COUNT(D18,E18)=0,"",F17+IFERROR(D18,0)-IFERROR(E18,0))
F19: =IF(COUNT(D19,E19)=0,"",F18+IFERROR(D19,0)-IFERROR(E19,0))
F20: =IF(COUNT(D20,E20)=0,"",F19+IFERROR(D20,0)-IFERROR(E20,0))
F21: =IF(COUNT(D21,E21)=0,"",F20+IFERROR(D21,0)-IFERROR(E21,0))
F22: =IF(COUNT(D22,E22)=0,"",F21+IFERROR(D22,0)-IFERROR(E22,0))
F23: =IF(COUNT(D23,E23)=0,"",F22+IFERROR(D23,0)-IFERROR(E23,0))
F24: =IF(COUNT(D24,E24)=0,"",F23+IFERROR(D24,0)-IFERROR(E24,0))
F25: =IF(COUNT(D25,E25)=0,"",F24+IFERROR(D25,0)-IFERROR(E25,0))
... F28: =IF(COUNT(D28,E28)=0,"",F27+IFERROR(D28,0)-IFERROR(E28,0))
