Workbook

Sheet 2026年1月
B1: 2026 | D1: 1
B4: 日 | D4: 月 | F4: 火 | H4: 水 | J4: 木 | L4: 金 | N4: 土
B5: 28 | D5: 29 | F5: 30 | H5: 31 | J5: 1 | K5: 元日 | L5: 2 | N5: 3
J7: 大安 | L7: 赤口 | N7: 先勝
B11: 4 | D11: 5 | F11: 6 | H11: 7 | J11: 8 | L11: 9 | N11: 10
B13: 友引 | D13: 先負 | F13: 仏滅 | H13: 大安 | J13: 赤口 | L13: 先勝 | N13: 友引
B17: 11 | D17: 12 | E17: 成人の日 | F17: 13 | H17: 14 | J17: 15 | L17: 16 | N17: 17
B19: 先負 | D19: 仏滅 | F19: 大安 | H19: 赤口 | J19: 先勝 | L19: 友引 | N19: 先負
B23: 18 | D23: 19 | F23: 20 | H23: 21 | J23: 22 | L23: 23 | N23: 24
B25: 仏滅 | D25: 赤口 | F25: 先勝 | H25: 友引 | J25: 先負 | L25: 仏滅 | N25: 大安
B29: 25 | D29: 26 | F29: 27 | H29: 28 | J29: 29 | L29: 30 | N29: 31
B31: 赤口 | D31: 先勝 | F31: 友引 | H31: 先負 | J31: 仏滅 | L31: 大安 | N31: 赤口
B35: 1 | D35: 2 | F35: 3 | H35: 4 | J35: 5 | L35: 6 | N35: 7

Sheet 2026年2月
B1: ='2026年1月'!B1 -> 2026 | D1: ='2026年1月'!D1+1 -> 2
B4: 日 | D4: 月 | F4: 火 | H4: 水 | J4: 木 | L4: 金 | N4: 土
B5: 1 | D5: 2 | F5: 3 | H5: 4 | J5: 5 | L5: 6 | N5: 7
B7: 先勝 | D7: 友引 | F7: 先負 | H7: 仏滅 | J7: 大安 | L7: 赤口 | N7: 先勝
B11: 8 | D11: 9 | F11: 10 | H11: 11 | I11: 建国記念の日 | J11: 12 | L11: 13 | N11: 14
B13: 友引 | D13: 先負 | F13: 仏滅 | H13: 大安 | J13: 赤口 | L13: 先勝 | N13: 友引
B17: 15 | D17: 16 | F17: 17 | H17: 18 | J17: 19 | L17: 20 | N17: 21
B19: 先負 | D19: 仏滅 | F19: 先勝 | H19: 友引 | J19: 先負 | L19: 仏滅 | N19: 大安
B23: 22 | D23: 23 | E23: 天皇誕生日 | F23: 24 | H23: 25 | J23: 26 | L23: 27 | N23: 28
B25: 赤口 | D25: 先勝 | F25: 友引 | H25: 先負 | J25: 仏滅 | L25: 大安 | N25: 赤口
B29: 1 | D29: 2 | F29: 3 | H29: 4 | J29: 5 | L29: 6 | N29: 7
B35: 8 | D35: 9 | F35: 10 | H35: 11 | J35: 12 | L35: 13 | N35: 14

Sheet 2026年3月
B1: ='2026年1月'!B1 -> 2026 | D1: ='2026年1月'!D1+2 -> 3
B4: 日 | D4: 月 | F4: 火 | H4: 水 | J4: 木 | L4: 金 | N4: 土
B5: 1 | D5: 2 | F5: 3 | H5: 4 | J5: 5 | L5: 6 | N5: 7
B7: 先勝 | D7: 友引 | F7: 先負 | H7: 仏滅 | J7: 大安 | L7: 赤口 | N7: 先勝
B11: 8 | D11: 9 | F11: 10 | H11: 11 | J11: 12 | L11: 13 | N11: 14
B13: 友引 | D13: 先負 | F13: 仏滅 | H13: 大安 | J13: 赤口 | L13: 先勝 | N13: 友引
B17: 15 | D17: 16 | F17: 17 | H17: 18 | J17: 19 | L17: 20 | M17: 春分の日 | N17: 21
B19: 先負 | D19: 仏滅 | F19: 大安 | H19: 赤口 | J19: 友引 | L19: 先負 | N19: 仏滅
B23: 22 | D23: 23 | F23: 24 | H23: 25 | J23: 26 | L23: 27 | N23: 28
B25: 大安 | D25: 赤口 | F25: 先勝 | H25: 友引 | J25: 先負 | L25: 仏滅 | N25: 大安
B29: 29 | D29: 30 | F29: 31 | H29: 1 | J29: 2 | L29: 3 | N29: 4
B31: 赤口 | D31: 先勝 | F31: 友引
B35: 5 | D35: 6 | F35: 7 | H35: 8 | J35: 9 | L35: 10 | N35: 11

Sheet 2026年4月
B1: ='2026年1月'!B1 -> 2026 | D1: ='2026年1月'!D1+3 -> 4
B4: 日 | D4: 月 | F4: 火 | H4: 水 | J4: 木 | L4: 金 | N4: 土
B5: 29 | D5: 30 | F5: 31 | H5: 1 | J5: 2 | L5: 3 | N5: 4
H7: 先負 | J7: 仏滅 | L7: 大安 | N7: 赤口
B11: 5 | D11: 6 | F11: 7 | H11: 8 | J11: 9 | L11: 10 | N11: 11
B13: 先勝 | D13: 友引 | F13: 先負 | H13: 仏滅 | J13: 大安 | L13: 赤口 | N13: 先勝
B17: 12 | D17: 13 | F17: 14 | H17: 15 | J17: 16 | L17: 17 | N17: 18
B19: 友引 | D19: 先負 | F19: 仏滅 | H19: 大安 | J19: 赤口 | L19: 先負 | N19: 仏滅
B23: 19 | D23: 20 | F23: 21 | H23: 22 | J23: 23 | L23: 24 | N23: 25
B25: 大安 | D25: 赤口 | F25: 先勝 | H25: 友引 | J25: 先負 | L25: 仏滅 | N25: 大安
B29: 26 | D29: 27 | F29: 28 | H29: 29 | I29: 昭和の日 | J29: 30 | L29: 1 | N29: 2
B31: 赤口 | D31: 先勝 | F31: 友引 | H31: 先負 | J31: 仏滅
B35: 3 | D35: 4 | F35: 5 | H35: 6 | J35: 7 | L35: 8 | N35: 9

Sheet 2026年5月
B1: ='2026年1月'!B1 -> 2026 | D1: ='2026年1月'!D1+4 -> 5
B4: 日 | D4: 月 | F4: 火 | H4: 水 | J4: 木 | L4: 金 | N4: 土
B5: 26 | D5: 27 | F5: 28 | H5: 29 | J5: 30 | L5: 1 | N5: 2
L7: 大安 | N7: 赤口
B11: 3 | C11: 憲法記念日 | D11: 4 | E11: みどりの日 | F11: 5 | G11: こどもの日 | H11: 6 | I11: 振替休日 | J11: 7 | L11: 8 | N11: 9
B13: 先勝 | D13: 友引 | F13: 先負 | H13: 仏滅 | J13: 大安 | L13: 赤口 | N13: 先勝
B17: 10 | D17: 11 | F17: 12 | H17: 13 | J17: 14 | L17: 15 | N17: 16
B19: 友引 | D19: 先負 | F19: 仏滅 | H19: 大安 | J19: 赤口 | L19: 先勝 | N19: 友引
B23: 17 | D23: 18 | F23: 19 | H23: 20 | J23: 21 | L23: 22 | N23: 23
B25: 仏滅 | D25: 大安 | F25: 赤口 | H25: 先勝 | J25: 友引 | L25: 先負 | N25: 仏滅
B29: 24 | D29: 25 | F29: 26 | H29: 27 | J29: 28 | L29: 29 | N29: 30
B31: 大安 | D31: 赤口 | F31: 先勝 | H31: 友引 | J31: 先負 | L31: 仏滅 | N31: 大安
B35: 31 | D35: 1 | F35: 2 | H35: 3 | J35: 4 | L35: 5 | N35: 6
B37: 赤口

Sheet 2026年6月
B1: ='2026年1月'!B1 -> 2026 | D1: ='2026年1月'!D1+5 -> 6
B4: 日 | D4: 月 | F4: 火 | H4: 水 | J4: 木 | L4: 金 | N4: 土
B5: 31 | D5: 1 | F5: 2 | H5: 3 | J5: 4 | L5: 5 | N5: 6
D7: 先勝 | F7: 友引 | H7: 先負 | J7: 仏滅 | L7: 大安 | N7: 赤口
B11: 7 | D11: 8 | F11: 9 | H11: 10 | J11: 11 | L11: 12 | N11: 13
B13: 先勝 | D13: 友引 | F13: 先負 | H13: 仏滅 | J13: 大安 | L13: 赤口 | N13: 先勝
B17: 14 | D17: 15 | F17: 16 | H17: 17 | J17: 18 | L17: 19 | N17: 20
B19: 友引 | D19: 大安 | F19: 赤口 | H19: 先勝 | J19: 友引 | L19: 先負 | N19: 仏滅
B23: 21 | D23: 22 | F23: 23 | H23: 24 | J23: 25 | L23: 26 | N23: 27
B25: 大安 | D25: 赤口 | F25: 先勝 | H25: 友引 | J25: 先負 | L25: 仏滅 | N25: 大安
B29: 28 | D29: 29 | F29: 30 | H29: 1 | J29: 2 | L29: 3 | N29: 4
B31: 赤口 | D31: 先勝 | F31: 友引
B35: 5 | D35: 6 | F35: 7 | H35: 8 | J35: 9 | L35: 10 | N35: 11

Sheet 2026年7月
B1: ='2026年1月'!B1 -> 2026 | D1: ='2026年1月'!D1+6 -> 7
B4: 日 | D4: 月 | F4: 火 | H4: 水 | J4: 木 | L4: 金 | N4: 土
B5: 28 | D5: 29 | F5: 30 | H5: 1 | J5: 2 | L5: 3 | N5: 4
H7: 先負 | J7: 仏滅 | L7: 大安 | N7: 赤口
B11: 5 | D11: 6 | F11: 7 | H11: 8 | J11: 9 | L11: 10 | N11: 11
B13: 先勝 | D13: 友引 | F13: 先負 | H13: 仏滅 | J13: 大安 | L13: 赤口 | N13: 先勝
B17: 12 | D17: 13 | F17: 14 | H17: 15 | J17: 16 | L17: 17 | N17: 18
B19: 友引 | D19: 先負 | F19: 赤口 | H19: 先勝 | J19: 友引 | L19: 先負 | N19: 仏滅
B23: 19 | D23: 20 | E23: 海の日 | F23: 21 | H23: 22 | J23: 23 | L23: 24 | N23: 25
B25: 大安 | D25: 赤口 | F25: 先勝 | H25: 友引 | J25: 先負 | L25: 仏滅 | N25: 大安
B29: 26 | D29: 27 | F29: 28 | H29: 29 | J29: 30 | L29: 31 | N29: 1
B31: 赤口 | D31: 先勝 | F31: 友引 | H31: 先負 | J31: 仏滅 | L31: 大安
B35: 2 | D35: 3 | F35: 4 | H35: 5 | J35: 6 | L35: 7 | N35: 8

Sheet 2026年8月
B1: ='2026年1月'!B1 -> 2026 | D1: ='2026年1月'!D1+7 -> 8
B4: 日 | D4: 月 | F4: 火 | H4: 水 | J4: 木 | L4: 金 | N4: 土
B5: 26 | D5: 27 | F5: 28 | H5: 29 | J5: 30 | L5: 31 | N5: 1
N7: 赤口
B11: 2 | D11: 3 | F11: 4 | H11: 5 | J11: 6 | L11: 7 | N11: 8
B13: 先勝 | D13: 友引 | F13: 先負 | H13: 仏滅 | J13: 大安 | L13: 赤口 | N13: 先勝
B17: 9 | D17: 10 | F17: 11 | G17: 山の日 | H17: 12 | J17: 13 | L17: 14 | N17: 15
B19: 友引 | D19: 先負 | F19: 仏滅 | H19: 大安 | J19: 先勝 | L19: 友引 | N19: 先負
B23: 16 | D23: 17 | F23: 18 | H23: 19 | J23: 20 | L23: 21 | N23: 22
B25: 仏滅 | D25: 大安 | F25: 赤口 | H25: 先勝 | J25: 友引 | L25: 先負 | N25: 仏滅
B29: 23 | D29: 24 | F29: 25 | H29: 26 | J29: 27 | L29: 28 | N29: 29
B31: 大安 | D31: 赤口 | F31: 先勝 | H31: 友引 | J31: 先負 | L31: 仏滅 | N31: 大安
B35: 30 | D35: 31 | F35: 1 | H35: 2 | J35: 3 | L35: 4 | N35: 5
B37: 赤口 | D37: 先勝

Sheet 2026年9月
B1: ='2026年1月'!B1 -> 2026 | D1: ='2026年1月'!D1+8 -> 9
B4: 日 | D4: 月 | F4: 火 | H4: 水 | J4: 木 | L4: 金 | N4: 土
B5: 30 | D5: 31 | F5: 1 | H5: 2 | J5: 3 | L5: 4 | N5: 5
F7: 友引 | H7: 先負 | J7: 仏滅 | L7: 大安 | N7: 赤口
B11: 6 | D11: 7 | F11: 8 | H11: 9 | J11: 10 | L11: 11 | N11: 12
B13: 先勝 | D13: 友引 | F13: 先負 | H13: 仏滅 | J13: 大安 | L13: 友引 | N13: 先負
B17: 13 | D17: 14 | F17: 15 | H17: 16 | J17: 17 | L17: 18 | N17: 19
B19: 仏滅 | D19: 大安 | F19: 赤口 | H19: 先勝 | J19: 友引 | L19: 先負 | N19: 仏滅
B23: 20 | D23: 21 | E23: 敬老の日 | F23: 22 | G23: 国民の休日 | H23: 23 | I23: 秋分の日 | J23: 24 | L23: 25 | N23: 26
B25: 大安 | D25: 赤口 | F25: 先勝 | H25: 友引 | J25: 先負 | L25: 仏滅 | N25: 大安
B29: 27 | D29: 28 | F29: 29 | H29: 30 | J29: 1 | L29: 2 | N29: 3
B31: 赤口 | D31: 先勝 | F31: 友引 | H31: 先負
B35: 4 | D35: 5 | F35: 6 | H35: 7 | J35: 8 | L35: 9 | N35: 10

Sheet 2026年10月
B1: ='2026年1月'!B1 -> 2026 | D1: ='2026年1月'!D1+9 -> 10
B4: 日 | D4: 月 | F4: 火 | H4: 水 | J4: 木 | L4: 金 | N4: 土
B5: 27 | D5: 28 | F5: 29 | H5: 30 | J5: 1 | L5: 2 | N5: 3
J7: 仏滅 | L7: 大安 | N7: 赤口
B11: 4 | D11: 5 | F11: 6 | H11: 7 | J11: 8 | L11: 9 | N11: 10
B13: 先勝 | D13: 友引 | F13: 先負 | H13: 仏滅 | J13: 大安 | L13: 赤口 | N13: 先勝
B17: 11 | D17: 12 | E17: スポーツの日 | F17: 13 | H17: 14 | J17: 15 | L17: 16 | N17: 17
B19: 先負 | D19: 仏滅 | F19: 大安 | H19: 赤口 | J19: 先勝 | L19: 友引 | N19: 先負
B23: 18 | D23: 19 | F23: 20 | H23: 21 | J23: 22 | L23: 23 | N23: 24
B25: 仏滅 | D25: 大安 | F25: 赤口 | H25: 先勝 | J25: 友引 | L25: 先負 | N25: 仏滅
B29: 25 | D29: 26 | F29: 27 | H29: 28 | J29: 29 | L29: 30 | N29: 31
B31: 大安 | D31: 赤口 | F31: 先勝 | H31: 友引 | J31: 先負 | L31: 仏滅 | N31: 大安
B35: 1 | D35: 2 | F35: 3 | G35: 文化の日 | H35: 4 | J35: 5 | L35: 6 | N35: 7

Sheet 2026年11月
B1: ='2026年1月'!B1 -> 2026 | D1: ='2026年1月'!D1+10 -> 11
B4: 日 | D4: 月 | F4: 火 | H4: 水 | J4: 木 | L4: 金 | N4: 土
B5: 1 | D5: 2 | F5: 3 | G5: 文化の日 | H5: 4 | J5: 5 | L5: 6 | N5: 7
B7: 赤口 | D7: 先勝 | F7: 友引 | H7: 先負 | J7: 仏滅 | L7: 大安 | N7: 赤口
B11: 8 | D11: 9 | F11: 10 | H11: 11 | J11: 12 | L11: 13 | N11: 14
B13: 先勝 | D13: 仏滅 | F13: 大安 | H13: 赤口 | J13: 先勝 | L13: 友引 | N13: 先負
B17: 15 | D17: 16 | F17: 17 | H17: 18 | J17: 19 | L17: 20 | N17: 21
B19: 仏滅 | D19: 大安 | F19: 赤口 | H19: 先勝 | J19: 友引 | L19: 先負 | N19: 仏滅
B23: 22 | D23: 23 | E23: 勤労感謝の日 | F23: 24 | H23: 25 | J23: 26 | L23: 27 | N23: 28
B25: 大安 | D25: 赤口 | F25: 先勝 | H25: 友引 | J25: 先負 | L25: 仏滅 | N25: 大安
B29: 29 | D29: 30 | F29: 1 | H29: 2 | J29: 3 | L29: 4 | N29: 5
B31: 赤口 | D31: 先勝
B35: 6 | D35: 7 | F35: 8 | H35: 9 | J35: 10 | L35: 11 | N35: 12

Sheet 2026年12月
B1: ='2026年1月'!B1 -> 2026 | D1: ='2026年1月'!D1+11 -> 12
B4: 日 | D4: 月 | F4: 火 | H4: 水 | J4: 木 | L4: 金 | N4: 土
B5: 29 | D5: 30 | F5: 1 | H5: 2 | J5: 3 | L5: 4 | N5: 5
F7: 友引 | H7: 先負 | J7: 仏滅 | L7: 大安 | N7: 赤口
B11: 6 | D11: 7 | F11: 8 | H11: 9 | J11: 10 | L11: 11 | N11: 12
B13: 先勝 | D13: 友引 | F13: 先負 | H13: 大安 | J13: 赤口 | L13: 先勝 | N13: 友引
B17: 13 | D17: 14 | F17: 15 | H17: 16 | J17: 17 | L17: 18 | N17: 19
B19: 先負 | D19: 仏滅 | F19: 大安 | H19: 赤口 | J19: 先勝 | L19: 友引 | N19: 先負
B23: 20 | D23: 21 | F23: 22 | H23: 23 | J23: 24 | L23: 25 | N23: 26
B25: 仏滅 | D25: 大安 | F25: 赤口 | H25: 先勝 | J25: 友引 | L25: 先負 | N25: 仏滅
B29: 27 | D29: 28 | F29: 29 | H29: 30 | J29: 31 | L29: 1 | N29: 2
B31: 大安 | D31: 赤口 | F31: 先勝 | H31: 友引 | J31: 先負
B35: 3 | D35: 4 | F35: 5 | H35: 6 | J35: 7 | L35: 8 | N35: 9
