Workbook

Sheet 星取表（入力）
B2: 年次評価や昇進の参考用の星取表
B4: 作成日： | D4: 46065
B6: 社員ID | C6: 氏名 | D6: 部署 | E6: 役職 | F6: 評価期間 | G6: 売上 成果達成 | H6: 品質 正確性 | I6: 改善 生産性 | J6: 専門 スキル | K6: 問題 解決力 | L6: 学習 成長 | M6: 主体性 | N6: コミュニ ケーション | O6: 点数合計 | P6: 加重点 100点換算 | Q6: 数値評価 0～100 | R6: 総合 | S6: 推薦区分 | T6: 総評コメント
B7: E001 | C7: 山田 太郎 | D7: 製造 | E7: 主任 | F7: 2025年度 | G7: ○ | H7: ★ | I7: ○ | J7: ○ | K7: △ | L7: ○ | M7: ○ | N7: ○ | O7: =SUM(IFERROR(VLOOKUP(G7,マスター!$A$2:$B$6,2,FALSE),0),IFERROR(VLOOKUP(H7,マスター!$A$2:$B$6,2,FALSE),0),IFERROR(VLOOKUP(I7,マスター!$A$2:$B$6,2,FALSE),0),IFERROR(VLOOKUP(J7,マスター!$A$2:$B$6,2,FALSE),0),IFERROR(VLOOKUP(K7,マスター!$A$2:$B$6,2,FALSE),0),IFERROR(VLOOKUP(L7,マスター!$A$2:$B$6,2,FALSE),0),IFERROR(VLOOKUP(M7,マスター!$A$2:$B$6,2,FALSE),0),IFERROR(VLOOKUP(N7,マスター!$A$2:$B$6,2,FALSE),0)) -> 24 | P7: =ROUND(SUM((IFERROR(VLOOKUP(G7,マスター!$A$2:$B$6,2,FALSE),0)/4)*35,(IFERROR(VLOOKUP(H7,マスター!$A$2:$B$6,2,FALSE),0)/4)*15,(IFERROR(VLOOKUP(I7,マスター!$A$2:$B$6,2,FALSE),0)/4)*10,(IFERROR(VLOOKUP(J7,マスター!$A$2:$B$6,2,FALSE),0)/4)*15,(IFERROR(VLOOKUP(K7,マスター!$A$2:$B$6,2,FALSE),0)/4)*10,(IFERROR(VLOOKUP(L7,マスター!$A$2:$B$6,2,FALSE),0)/4)*5,(IFERROR(VLOOKUP(M7,マスター!$A$2:$B$6,2,FALSE),0)/4)*5,(IFERROR(VLOOKUP(N7,マスター!$A$2:$B$6,2,FALSE),0)/4)*5),1) -> 76.3 | Q7: 86 | R7: =IF(OR($P7="", $Q7=""),"",ROUND($P7*0.6 + $Q7*0.4,1)) -> 80.2 | S7: =IF($R7="","",IF($R7>=90,"昇進候補",IF($R7>=80,"上位評価",IF($R7>=70,"標準",IF($R7>=60,"要育成","要改善"))))) -> 上位評価 | T7: 改善件数が多く、生産性改善に寄与。
B8: E002 | C8: 佐藤 花子 | D8: 品質 | E8: 担当 | F8: 2025年度 | G8: △ | H8: ○ | I8: △ | J8: ○ | K8: △ | L8: △ | M8: ○ | N8: △ | O8: =SUM(IFERROR(VLOOKUP(G8,マスター!$A$2:$B$6,2,FALSE),0),IFERROR(VLOOKUP(H8,マスター!$A$2:$B$6,2,FALSE),0),IFERROR(VLOOKUP(I8,マスター!$A$2:$B$6,2,FALSE),0),IFERROR(VLOOKUP(J8,マスター!$A$2:$B$6,2,FALSE),0),IFERROR(VLOOKUP(K8,マスター!$A$2:$B$6,2,FALSE),0),IFERROR(VLOOKUP(L8,マスター!$A$2:$B$6,2,FALSE),0),IFERROR(VLOOKUP(M8,マスター!$A$2:$B$6,2,FALSE),0),IFERROR(VLOOKUP(N8,マスター!$A$2:$B$6,2,FALSE),0)) -> 19 | P8: =ROUND(SUM((IFERROR(VLOOKUP(G8,マスター!$A$2:$B$6,2,FALSE),0)/4)*35,(IFERROR(VLOOKUP(H8,マスター!$A$2:$B$6,2,FALSE),0)/4)*15,(IFERROR(VLOOKUP(I8,マスター!$A$2:$B$6,2,FALSE),0)/4)*10,(IFERROR(VLOOKUP(J8,マスター!$A$2:$B$6,2,FALSE),0)/4)*15,(IFERROR(VLOOKUP(K8,マスター!$A$2:$B$6,2,FALSE),0)/4)*10,(IFERROR(VLOOKUP(L8,マスター!$A$2:$B$6,2,FALSE),0)/4)*5,(IFERROR(VLOOKUP(M8,マスター!$A$2:$B$6,2,FALSE),0)/4)*5,(IFERROR(VLOOKUP(N8,マスター!$A$2:$B$6,2,FALSE),0)/4)*5),1) -> 58.8 | Q8: 72 | R8: =IF(OR($P8="", $Q8=""),"",ROUND($P8*0.6 + $Q8*0.4,1)) -> 64.1 | S8: =IF($R8="","",IF($R8>=90,"昇進候補",IF($R8>=80,"上位評価",IF($R8>=70,"標準",IF($R8>=60,"要育成","要改善"))))) -> 要育成 | T8: 品質面は安定、次年度は改善提案を期待。
B9: E003 | C9: 鈴木 一郎 | D9: 開発 | E9: 係長 | F9: 2025年度 | G9: ★ | H9: ★ | I9: ○ | J9: ★ | K9: ○ | L9: ○ | M9: ★ | N9: ○ | O9: =SUM(IFERROR(VLOOKUP(G9,マスター!$A$2:$B$6,2,FALSE),0),IFERROR(VLOOKUP(H9,マスター!$A$2:$B$6,2,FALSE),0),IFERROR(VLOOKUP(I9,マスター!$A$2:$B$6,2,FALSE),0),IFERROR(VLOOKUP(J9,マスター!$A$2:$B$6,2,FALSE),0),IFERROR(VLOOKUP(K9,マスター!$A$2:$B$6,2,FALSE),0),IFERROR(VLOOKUP(L9,マスター!$A$2:$B$6,2,FALSE),0),IFERROR(VLOOKUP(M9,マスター!$A$2:$B$6,2,FALSE),0),IFERROR(VLOOKUP(N9,マスター!$A$2:$B$6,2,FALSE),0)) -> 28 | P9: =ROUND(SUM((IFERROR(VLOOKUP(G9,マスター!$A$2:$B$6,2,FALSE),0)/4)*35,(IFERROR(VLOOKUP(H9,マスター!$A$2:$B$6,2,FALSE),0)/4)*15,(IFERROR(VLOOKUP(I9,マスター!$A$2:$B$6,2,FALSE),0)/4)*10,(IFERROR(VLOOKUP(J9,マスター!$A$2:$B$6,2,FALSE),0)/4)*15,(IFERROR(VLOOKUP(K9,マスター!$A$2:$B$6,2,FALSE),0)/4)*10,(IFERROR(VLOOKUP(L9,マスター!$A$2:$B$6,2,FALSE),0)/4)*5,(IFERROR(VLOOKUP(M9,マスター!$A$2:$B$6,2,FALSE),0)/4)*5,(IFERROR(VLOOKUP(N9,マスター!$A$2:$B$6,2,FALSE),0)/4)*5),1) -> 92.5 | Q9: 92 | R9: =IF(OR($P9="", $Q9=""),"",ROUND($P9*0.6 + $Q9*0.4,1)) -> 92.3 | S9: =IF($R9="","",IF($R9>=90,"昇進候補",IF($R9>=80,"上位評価",IF($R9>=70,"標準",IF($R9>=60,"要育成","要改善"))))) -> 昇進候補 | T9: 成果・行動ともに優秀。リーダー候補。
B10: E004 | C10: 高橋 恒一 | D10: 生産技術 | E10: 担当 | F10: 2025年度 | G10: ○ | H10: ○ | I10: △ | J10: ○ | K10: △ | L10: ○ | M10: ○ | N10: △ | O10: =SUM(IFERROR(VLOOKUP(G10,マスター!$A$2:$B$6,2,FALSE),0),IFERROR(VLOOKUP(H10,マスター!$A$2:$B$6,2,FALSE),0),IFERROR(VLOOKUP(I10,マスター!$A$2:$B$6,2,FALSE),0),IFERROR(VLOOKUP(J10,マスター!$A$2:$B$6,2,FALSE),0),IFERROR(VLOOKUP(K10,マスター!$A$2:$B$6,2,FALSE),0),IFERROR(VLOOKUP(L10,マスター!$A$2:$B$6,2,FALSE),0),IFERROR(VLOOKUP(M10,マスター!$A$2:$B$6,2,FALSE),0),IFERROR(VLOOKUP(N10,マスター!$A$2:$B$6,2,FALSE),0)) -> 21 | P10: =ROUND(SUM((IFERROR(VLOOKUP(G10,マスター!$A$2:$B$6,2,FALSE),0)/4)*35,(IFERROR(VLOOKUP(H10,マスター!$A$2:$B$6,2,FALSE),0)/4)*15,(IFERROR(VLOOKUP(I10,マスター!$A$2:$B$6,2,FALSE),0)/4)*10,(IFERROR(VLOOKUP(J10,マスター!$A$2:$B$6,2,FALSE),0)/4)*15,(IFERROR(VLOOKUP(K10,マスター!$A$2:$B$6,2,FALSE),0)/4)*10,(IFERROR(VLOOKUP(L10,マスター!$A$2:$B$6,2,FALSE),0)/4)*5,(IFERROR(VLOOKUP(M10,マスター!$A$2:$B$6,2,FALSE),0)/4)*5,(IFERROR(VLOOKUP(N10,マスター!$A$2:$B$6,2,FALSE),0)/4)*5),1) -> 68.8 | Q10: 78 | R10: =IF(OR($P10="", $Q10=""),"",ROUND($P10*0.6 + $Q10*0.4,1)) -> 72.5 | S10: =IF($R10="","",IF($R10>=90,"昇進候補",IF($R10>=80,"上位評価",IF($R10>=70,"標準",IF($R10>=60,"要育成","要改善"))))) -> 標準 | T10: 改善は着実。次はリード役を期待。
B11: E005 | C11: 伊藤 彩 | D11: 総務 | E11: 担当 | F11: 2025年度 | G11: △ | H11: ○ | I11: △ | J11: △ | K11: △ | L11: ○ | M11: ○ | N11: ○ | O11: =SUM(IFERROR(VLOOKUP(G11,マスター!$A$2:$B$6,2,FALSE),0),IFERROR(VLOOKUP(H11,マスター!$A$2:$B$6,2,FALSE),0),IFERROR(VLOOKUP(I11,マスター!$A$2:$B$6,2,FALSE),0),IFERROR(VLOOKUP(J11,マスター!$A$2:$B$6,2,FALSE),0),IFERROR(VLOOKUP(K11,マスター!$A$2:$B$6,2,FALSE),0),IFERROR(VLOOKUP(L11,マスター!$A$2:$B$6,2,FALSE),0),IFERROR(VLOOKUP(M11,マスター!$A$2:$B$6,2,FALSE),0),IFERROR(VLOOKUP(N11,マスター!$A$2:$B$6,2,FALSE),0)) -> 20 | P11: =ROUND(SUM((IFERROR(VLOOKUP(G11,マスター!$A$2:$B$6,2,FALSE),0)/4)*35,(IFERROR(VLOOKUP(H11,マスター!$A$2:$B$6,2,FALSE),0)/4)*15,(IFERROR(VLOOKUP(I11,マスター!$A$2:$B$6,2,FALSE),0)/4)*10,(IFERROR(VLOOKUP(J11,マスター!$A$2:$B$6,2,FALSE),0)/4)*15,(IFERROR(VLOOKUP(K11,マスター!$A$2:$B$6,2,FALSE),0)/4)*10,(IFERROR(VLOOKUP(L11,マスター!$A$2:$B$6,2,FALSE),0)/4)*5,(IFERROR(VLOOKUP(M11,マスター!$A$2:$B$6,2,FALSE),0)/4)*5,(IFERROR(VLOOKUP(N11,マスター!$A$2:$B$6,2,FALSE),0)/4)*5),1) -> 57.5 | Q11: 70 | R11: =IF(OR($P11="", $Q11=""),"",ROUND($P11*0.6 + $Q11*0.4,1)) -> 62.5 | S11: =IF($R11="","",IF($R11>=90,"昇進候補",IF($R11>=80,"上位評価",IF($R11>=70,"標準",IF($R11>=60,"要育成","要改善"))))) -> 要育成 | T11: 安定運用。業務改善の提案を増やす。
B12: E006 | C12: 渡辺 恒一 | D12: 設備保全 | E12: 主任 | F12: 2025年度 | G12: ○ | H12: ★ | I12: ○ | J12: ○ | K12: ○ | L12: △ | M12: ○ | N12: ○ | O12: =SUM(IFERROR(VLOOKUP(G12,マスター!$A$2:$B$6,2,FALSE),0),IFERROR(VLOOKUP(H12,マスター!$A$2:$B$6,2,FALSE),0),IFERROR(VLOOKUP(I12,マスター!$A$2:$B$6,2,FALSE),0),IFERROR(VLOOKUP(J12,マスター!$A$2:$B$6,2,FALSE),0),IFERROR(VLOOKUP(K12,マスター!$A$2:$B$6,2,FALSE),0),IFERROR(VLOOKUP(L12,マスター!$A$2:$B$6,2,FALSE),0),IFERROR(VLOOKUP(M12,マスター!$A$2:$B$6,2,FALSE),0),IFERROR(VLOOKUP(N12,マスター!$A$2:$B$6,2,FALSE),0)) -> 24 | P12: =ROUND(SUM((IFERROR(VLOOKUP(G12,マスター!$A$2:$B$6,2,FALSE),0)/4)*35,(IFERROR(VLOOKUP(H12,マスター!$A$2:$B$6,2,FALSE),0)/4)*15,(IFERROR(VLOOKUP(I12,マスター!$A$2:$B$6,2,FALSE),0)/4)*10,(IFERROR(VLOOKUP(J12,マスター!$A$2:$B$6,2,FALSE),0)/4)*15,(IFERROR(VLOOKUP(K12,マスター!$A$2:$B$6,2,FALSE),0)/4)*10,(IFERROR(VLOOKUP(L12,マスター!$A$2:$B$6,2,FALSE),0)/4)*5,(IFERROR(VLOOKUP(M12,マスター!$A$2:$B$6,2,FALSE),0)/4)*5,(IFERROR(VLOOKUP(N12,マスター!$A$2:$B$6,2,FALSE),0)/4)*5),1) -> 77.5 | Q12: 84 | R12: =IF(OR($P12="", $Q12=""),"",ROUND($P12*0.6 + $Q12*0.4,1)) -> 80.1 | S12: =IF($R12="","",IF($R12>=90,"昇進候補",IF($R12>=80,"上位評価",IF($R12>=70,"標準",IF($R12>=60,"要育成","要改善"))))) -> 上位評価 | T12: 保全品質向上に貢献。標準化が課題。
B13: E007 | C13: 加藤 健 | D13: 品質 | E13: 係長 | F13: 2025年度 | G13: ★ | H13: ○ | I13: ○ | J13: ★ | K13: ○ | L13: ○ | M13: ★ | N13: ○ | O13: =SUM(IFERROR(VLOOKUP(G13,マスター!$A$2:$B$6,2,FALSE),0),IFERROR(VLOOKUP(H13,マスター!$A$2:$B$6,2,FALSE),0),IFERROR(VLOOKUP(I13,マスター!$A$2:$B$6,2,FALSE),0),IFERROR(VLOOKUP(J13,マスター!$A$2:$B$6,2,FALSE),0),IFERROR(VLOOKUP(K13,マスター!$A$2:$B$6,2,FALSE),0),IFERROR(VLOOKUP(L13,マスター!$A$2:$B$6,2,FALSE),0),IFERROR(VLOOKUP(M13,マスター!$A$2:$B$6,2,FALSE),0),IFERROR(VLOOKUP(N13,マスター!$A$2:$B$6,2,FALSE),0)) -> 27 | P13: =ROUND(SUM((IFERROR(VLOOKUP(G13,マスター!$A$2:$B$6,2,FALSE),0)/4)*35,(IFERROR(VLOOKUP(H13,マスター!$A$2:$B$6,2,FALSE),0)/4)*15,(IFERROR(VLOOKUP(I13,マスター!$A$2:$B$6,2,FALSE),0)/4)*10,(IFERROR(VLOOKUP(J13,マスター!$A$2:$B$6,2,FALSE),0)/4)*15,(IFERROR(VLOOKUP(K13,マスター!$A$2:$B$6,2,FALSE),0)/4)*10,(IFERROR(VLOOKUP(L13,マスター!$A$2:$B$6,2,FALSE),0)/4)*5,(IFERROR(VLOOKUP(M13,マスター!$A$2:$B$6,2,FALSE),0)/4)*5,(IFERROR(VLOOKUP(N13,マスター!$A$2:$B$6,2,FALSE),0)/4)*5),1) -> 88.8 | Q13: 90 | R13: =IF(OR($P13="", $Q13=""),"",ROUND($P13*0.6 + $Q13*0.4,1)) -> 89.3 | S13: =IF($R13="","",IF($R13>=90,"昇進候補",IF($R13>=80,"上位評価",IF($R13>=70,"標準",IF($R13>=60,"要育成","要改善"))))) -> 上位評価 | T13: 成果と牽引力が強い。昇進候補。
B14: E008 | C14: 中村 祐子 | D14: 開発 | E14: 担当 | F14: 2025年度 | G14: ○ | H14: △ | I14: ○ | J14: ○ | K14: △ | L14: ○ | M14: ○ | N14: ○ | O14: =SUM(IFERROR(VLOOKUP(G14,マスター!$A$2:$B$6,2,FALSE),0),IFERROR(VLOOKUP(H14,マスター!$A$2:$B$6,2,FALSE),0),IFERROR(VLOOKUP(I14,マスター!$A$2:$B$6,2,FALSE),0),IFERROR(VLOOKUP(J14,マスター!$A$2:$B$6,2,FALSE),0),IFERROR(VLOOKUP(K14,マスター!$A$2:$B$6,2,FALSE),0),IFERROR(VLOOKUP(L14,マスター!$A$2:$B$6,2,FALSE),0),IFERROR(VLOOKUP(M14,マスター!$A$2:$B$6,2,FALSE),0),IFERROR(VLOOKUP(N14,マスター!$A$2:$B$6,2,FALSE),0)) -> 22 | P14: =ROUND(SUM((IFERROR(VLOOKUP(G14,マスター!$A$2:$B$6,2,FALSE),0)/4)*35,(IFERROR(VLOOKUP(H14,マスター!$A$2:$B$6,2,FALSE),0)/4)*15,(IFERROR(VLOOKUP(I14,マスター!$A$2:$B$6,2,FALSE),0)/4)*10,(IFERROR(VLOOKUP(J14,マスター!$A$2:$B$6,2,FALSE),0)/4)*15,(IFERROR(VLOOKUP(K14,マスター!$A$2:$B$6,2,FALSE),0)/4)*10,(IFERROR(VLOOKUP(L14,マスター!$A$2:$B$6,2,FALSE),0)/4)*5,(IFERROR(VLOOKUP(M14,マスター!$A$2:$B$6,2,FALSE),0)/4)*5,(IFERROR(VLOOKUP(N14,マスター!$A$2:$B$6,2,FALSE),0)/4)*5),1) -> 68.8 | Q14: 76 | R14: =IF(OR($P14="", $Q14=""),"",ROUND($P14*0.6 + $Q14*0.4,1)) -> 71.7 | S14: =IF($R14="","",IF($R14>=90,"昇進候補",IF($R14>=80,"上位評価",IF($R14>=70,"標準",IF($R14>=60,"要育成","要改善"))))) -> 標準 | T14: 伸びしろ大。課題設定力を強化。
O15: =SUM(IFERROR(VLOOKUP(G15,マスター!$A$2:$B$6,2,FALSE),0),IFERROR(VLOOKUP(H15,マスター!$A$2:$B$6,2,FALSE),0),IFERROR(VLOOKUP(I15,マスター!$A$2:$B$6,2,FALSE),0),IFERROR(VLOOKUP(J15,マスター!$A$2:$B$6,2,FALSE),0),IFERROR(VLOOKUP(K15,マスター!$A$2:$B$6,2,FALSE),0),IFERROR(VLOOKUP(L15,マスター!$A$2:$B$6,2,FALSE),0),IFERROR(VLOOKUP(M15,マスター!$A$2:$B$6,2,FALSE),0),IFERROR(VLOOKUP(N15,マスター!$A$2:$B$6,2,FALSE),0)) -> 0 | P15: =ROUND(SUM((IFERROR(VLOOKUP(G15,マスター!$A$2:$B$6,2,FALSE),0)/4)*35,(IFERROR(VLOOKUP(H15,マスター!$A$2:$B$6,2,FALSE),0)/4)*15,(IFERROR(VLOOKUP(I15,マスター!$A$2:$B$6,2,FALSE),0)/4)*10,(IFERROR(VLOOKUP(J15,マスター!$A$2:$B$6,2,FALSE),0)/4)*15,(IFERROR(VLOOKUP(K15,マスター!$A$2:$B$6,2,FALSE),0)/4)*10,(IFERROR(VLOOKUP(L15,マスター!$A$2:$B$6,2,FALSE),0)/4)*5,(IFERROR(VLOOKUP(M15,マスター!$A$2:$B$6,2,FALSE),0)/4)*5,(IFERROR(VLOOKUP(N15,マスター!$A$2:$B$6,2,FALSE),0)/4)*5),1) -> 0 | R15: =IF(OR($P15="", $Q15=""),"",ROUND($P15*0.6 + $Q15*0.4,1)) | S15: =IF($R15="","",IF($R15>=90,"昇進候補",IF($R15>=80,"上位評価",IF($R15>=70,"標準",IF($R15>=60,"要育成","要改善")))))
O16: =SUM(IFERROR(VLOOKUP(G16,マスター!$A$2:$B$6,2,FALSE),0),IFERROR(VLOOKUP(H16,マスター!$A$2:$B$6,2,FALSE),0),IFERROR(VLOOKUP(I16,マスター!$A$2:$B$6,2,FALSE),0),IFERROR(VLOOKUP(J16,マスター!$A$2:$B$6,2,FALSE),0),IFERROR(VLOOKUP(K16,マスター!$A$2:$B$6,2,FALSE),0),IFERROR(VLOOKUP(L16,マスター!$A$2:$B$6,2,FALSE),0),IFERROR(VLOOKUP(M16,マスター!$A$2:$B$6,2,FALSE),0),IFERROR(VLOOKUP(N16,マスター!$A$2:$B$6,2,FALSE),0)) -> 0 | P16: =ROUND(SUM((IFERROR(VLOOKUP(G16,マスター!$A$2:$B$6,2,FALSE),0)/4)*35,(IFERROR(VLOOKUP(H16,マスター!$A$2:$B$6,2,FALSE),0)/4)*15,(IFERROR(VLOOKUP(I16,マスター!$A$2:$B$6,2,FALSE),0)/4)*10,(IFERROR(VLOOKUP(J16,マスター!$A$2:$B$6,2,FALSE),0)/4)*15,(IFERROR(VLOOKUP(K16,マスター!$A$2:$B$6,2,FALSE),0)/4)*10,(IFERROR(VLOOKUP(L16,マスター!$A$2:$B$6,2,FALSE),0)/4)*5,(IFERROR(VLOOKUP(M16,マスター!$A$2:$B$6,2,FALSE),0)/4)*5,(IFERROR(VLOOKUP(N16,マスター!$A$2:$B$6,2,FALSE),0)/4)*5),1) -> 0 | R16: =IF(OR($P16="", $Q16=""),"",ROUND($P16*0.6 + $Q16*0.4,1)) | S16: =IF($R16="","",IF($R16>=90,"昇進候補",IF($R16>=80,"上位評価",IF($R16>=70,"標準",IF($R16>=60,"要育成","要改善")))))
O17: =SUM(IFERROR(VLOOKUP(G17,マスター!$A$2:$B$6,2,FALSE),0),IFERROR(VLOOKUP(H17,マスター!$A$2:$B$6,2,FALSE),0),IFERROR(VLOOKUP(I17,マスター!$A$2:$B$6,2,FALSE),0),IFERROR(VLOOKUP(J17,マスター!$A$2:$B$6,2,FALSE),0),IFERROR(VLOOKUP(K17,マスター!$A$2:$B$6,2,FALSE),0),IFERROR(VLOOKUP(L17,マスター!$A$2:$B$6,2,FALSE),0),IFERROR(VLOOKUP(M17,マスター!$A$2:$B$6,2,FALSE),0),IFERROR(VLOOKUP(N17,マスター!$A$2:$B$6,2,FALSE),0)) -> 0 | P17: =ROUND(SUM((IFERROR(VLOOKUP(G17,マスター!$A$2:$B$6,2,FALSE),0)/4)*35,(IFERROR(VLOOKUP(H17,マスター!$A$2:$B$6,2,FALSE),0)/4)*15,(IFERROR(VLOOKUP(I17,マスター!$A$2:$B$6,2,FALSE),0)/4)*10,(IFERROR(VLOOKUP(J17,マスター!$A$2:$B$6,2,FALSE),0)/4)*15,(IFERROR(VLOOKUP(K17,マスター!$A$2:$B$6,2,FALSE),0)/4)*10,(IFERROR(VLOOKUP(L17,マスター!$A$2:$B$6,2,FALSE),0)/4)*5,(IFERROR(VLOOKUP(M17,マスター!$A$2:$B$6,2,FALSE),0)/4)*5,(IFERROR(VLOOKUP(N17,マスター!$A$2:$B$6,2,FALSE),0)/4)*5),1) -> 0 | R17: =IF(OR($P17="", $Q17=""),"",ROUND($P17*0.6 + $Q17*0.4,1)) | S17: =IF($R17="","",IF($R17>=90,"昇進候補",IF($R17>=80,"上位評価",IF($R17>=70,"標準",IF($R17>=60,"要育成","要改善")))))
O18: =SUM(IFERROR(VLOOKUP(G18,マスター!$A$2:$B$6,2,FALSE),0),IFERROR(VLOOKUP(H18,マスター!$A$2:$B$6,2,FALSE),0),IFERROR(VLOOKUP(I18,マスター!$A$2:$B$6,2,FALSE),0),IFERROR(VLOOKUP(J18,マスター!$A$2:$B$6,2,FALSE),0),IFERROR(VLOOKUP(K18,マスター!$A$2:$B$6,2,FALSE),0),IFERROR(VLOOKUP(L18,マスター!$A$2:$B$6,2,FALSE),0),IFERROR(VLOOKUP(M18,マスター!$A$2:$B$6,2,FALSE),0),IFERROR(VLOOKUP(N18,マスター!$A$2:$B$6,2,FALSE),0)) -> 0 | P18: =ROUND(SUM((IFERROR(VLOOKUP(G18,マスター!$A$2:$B$6,2,FALSE),0)/4)*35,(IFERROR(VLOOKUP(H18,マスター!$A$2:$B$6,2,FALSE),0)/4)*15,(IFERROR(VLOOKUP(I18,マスター!$A$2:$B$6,2,FALSE),0)/4)*10,(IFERROR(VLOOKUP(J18,マスター!$A$2:$B$6,2,FALSE),0)/4)*15,(IFERROR(VLOOKUP(K18,マスター!$A$2:$B$6,2,FALSE),0)/4)*10,(IFERROR(VLOOKUP(L18,マスター!$A$2:$B$6,2,FALSE),0)/4)*5,(IFERROR(VLOOKUP(M18,マスター!$A$2:$B$6,2,FALSE),0)/4)*5,(IFERROR(VLOOKUP(N18,マスター!$A$2:$B$6,2,FALSE),0)/4)*5),1) -> 0 | R18: =IF(OR($P18="", $Q18=""),"",ROUND($P18*0.6 + $Q18*0.4,1)) | S18: =IF($R18="","",IF($R18>=90,"昇進候補",IF($R18>=80,"上位評価",IF($R18>=70,"標準",IF($R18>=60,"要育成","要改善")))))
O19: =SUM(IFERROR(VLOOKUP(G19,マスター!$A$2:$B$6,2,FALSE),0),IFERROR(VLOOKUP(H19,マスター!$A$2:$B$6,2,FALSE),0),IFERROR(VLOOKUP(I19,マスター!$A$2:$B$6,2,FALSE),0),IFERROR(VLOOKUP(J19,マスター!$A$2:$B$6,2,FALSE),0),IFERROR(VLOOKUP(K19,マスター!$A$2:$B$6,2,FALSE),0),IFERROR(VLOOKUP(L19,マスター!$A$2:$B$6,2,FALSE),0),IFERROR(VLOOKUP(M19,マスター!$A$2:$B$6,2,FALSE),0),IFERROR(VLOOKUP(N19,マスター!$A$2:$B$6,2,FALSE),0)) -> 0 | P19: =ROUND(SUM((IFERROR(VLOOKUP(G19,マスター!$A$2:$B$6,2,FALSE),0)/4)*35,(IFERROR(VLOOKUP(H19,マスター!$A$2:$B$6,2,FALSE),0)/4)*15,(IFERROR(VLOOKUP(I19,マスター!$A$2:$B$6,2,FALSE),0)/4)*10,(IFERROR(VLOOKUP(J19,マスター!$A$2:$B$6,2,FALSE),0)/4)*15,(IFERROR(VLOOKUP(K19,マスター!$A$2:$B$6,2,FALSE),0)/4)*10,(IFERROR(VLOOKUP(L19,マスター!$A$2:$B$6,2,FALSE),0)/4)*5,(IFERROR(VLOOKUP(M19,マスター!$A$2:$B$6,2,FALSE),0)/4)*5,(IFERROR(VLOOKUP(N19,マスター!$A$2:$B$6,2,FALSE),0)/4)*5),1) -> 0 | R19: =IF(OR($P19="", $Q19=""),"",ROUND($P19*0.6 + $Q19*0.4,1)) | S19: =IF($R19="","",IF($R19>=90,"昇進候補",IF($R19>=80,"上位評価",IF($R19>=70,"標準",IF($R19>=60,"要育成","要改善")))))
O20: =SUM(IFERROR(VLOOKUP(G20,マスター!$A$2:$B$6,2,FALSE),0),IFERROR(VLOOKUP(H20,マスター!$A$2:$B$6,2,FALSE),0),IFERROR(VLOOKUP(I20,マスター!$A$2:$B$6,2,FALSE),0),IFERROR(VLOOKUP(J20,マスター!$A$2:$B$6,2,FALSE),0),IFERROR(VLOOKUP(K20,マスター!$A$2:$B$6,2,FALSE),0),IFERROR(VLOOKUP(L20,マスター!$A$2:$B$6,2,FALSE),0),IFERROR(VLOOKUP(M20,マスター!$A$2:$B$6,2,FALSE),0),IFERROR(VLOOKUP(N20,マスター!$A$2:$B$6,2,FALSE),0)) -> 0 | P20: =ROUND(SUM((IFERROR(VLOOKUP(G20,マスター!$A$2:$B$6,2,FALSE),0)/4)*35,(IFERROR(VLOOKUP(H20,マスター!$A$2:$B$6,2,FALSE),0)/4)*15,(IFERROR(VLOOKUP(I20,マスター!$A$2:$B$6,2,FALSE),0)/4)*10,(IFERROR(VLOOKUP(J20,マスター!$A$2:$B$6,2,FALSE),0)/4)*15,(IFERROR(VLOOKUP(K20,マスター!$A$2:$B$6,2,FALSE),0)/4)*10,(IFERROR(VLOOKUP(L20,マスター!$A$2:$B$6,2,FALSE),0)/4)*5,(IFERROR(VLOOKUP(M20,マスター!$A$2:$B$6,2,FALSE),0)/4)*5,(IFERROR(VLOOKUP(N20,マスター!$A$2:$B$6,2,FALSE),0)/4)*5),1) -> 0 | R20: =IF(OR($P20="", $Q20=""),"",ROUND($P20*0.6 + $Q20*0.4,1)) | S20: =IF($R20="","",IF($R20>=90,"昇進候補",IF($R20>=80,"上位評価",IF($R20>=70,"標準",IF($R20>=60,"要育成","要改善")))))
O21: =SUM(IFERROR(VLOOKUP(G21,マスター!$A$2:$B$6,2,FALSE),0),IFERROR(VLOOKUP(H21,マスター!$A$2:$B$6,2,FALSE),0),IFERROR(VLOOKUP(I21,マスター!$A$2:$B$6,2,FALSE),0),IFERROR(VLOOKUP(J21,マスター!$A$2:$B$6,2,FALSE),0),IFERROR(VLOOKUP(K21,マスター!$A$2:$B$6,2,FALSE),0),IFERROR(VLOOKUP(L21,マスター!$A$2:$B$6,2,FALSE),0),IFERROR(VLOOKUP(M21,マスター!$A$2:$B$6,2,FALSE),0),IFERROR(VLOOKUP(N21,マスター!$A$2:$B$6,2,FALSE),0)) -> 0 | P21: =ROUND(SUM((IFERROR(VLOOKUP(G21,マスター!$A$2:$B$6,2,FALSE),0)/4)*35,(IFERROR(VLOOKUP(H21,マスター!$A$2:$B$6,2,FALSE),0)/4)*15,(IFERROR(VLOOKUP(I21,マスター!$A$2:$B$6,2,FALSE),0)/4)*10,(IFERROR(VLOOKUP(J21,マスター!$A$2:$B$6,2,FALSE),0)/4)*15,(IFERROR(VLOOKUP(K21,マスター!$A$2:$B$6,2,FALSE),0)/4)*10,(IFERROR(VLOOKUP(L21,マスター!$A$2:$B$6,2,FALSE),0)/4)*5,(IFERROR(VLOOKUP(M21,マスター!$A$2:$B$6,2,FALSE),0)/4)*5,(IFERROR(VLOOKUP(N21,マスター!$A$2:$B$6,2,FALSE),0)/4)*5),1) -> 0 | R21: =IF(OR($P21="", $Q21=""),"",ROUND($P21*0.6 + $Q21*0.4,1)) | S21: =IF($R21="","",IF($R21>=90,"昇進候補",IF($R21>=80,"上位評価",IF($R21>=70,"標準",IF($R21>=60,"要育成","要改善")))))
O22: =SUM(IFERROR(VLOOKUP(G22,マスター!$A$2:$B$6,2,FALSE),0),IFERROR(VLOOKUP(H22,マスター!$A$2:$B$6,2,FALSE),0),IFERROR(VLOOKUP(I22,マスター!$A$2:$B$6,2,FALSE),0),IFERROR(VLOOKUP(J22,マスター!$A$2:$B$6,2,FALSE),0),IFERROR(VLOOKUP(K22,マスター!$A$2:$B$6,2,FALSE),0),IFERROR(VLOOKUP(L22,マスター!$A$2:$B$6,2,FALSE),0),IFERROR(VLOOKUP(M22,マスター!$A$2:$B$6,2,FALSE),0),IFERROR(VLOOKUP(N22,マスター!$A$2:$B$6,2,FALSE),0)) -> 0 | P22: =ROUND(SUM((IFERROR(VLOOKUP(G22,マスター!$A$2:$B$6,2,FALSE),0)/4)*35,(IFERROR(VLOOKUP(H22,マスター!$A$2:$B$6,2,FALSE),0)/4)*15,(IFERROR(VLOOKUP(I22,マスター!$A$2:$B$6,2,FALSE),0)/4)*10,(IFERROR(VLOOKUP(J22,マスター!$A$2:$B$6,2,FALSE),0)/4)*15,(IFERROR(VLOOKUP(K22,マスター!$A$2:$B$6,2,FALSE),0)/4)*10,(IFERROR(VLOOKUP(L22,マスター!$A$2:$B$6,2,FALSE),0)/4)*5,(IFERROR(VLOOKUP(M22,マスター!$A$2:$B$6,2,FALSE),0)/4)*5,(IFERROR(VLOOKUP(N22,マスター!$A$2:$B$6,2,FALSE),0)/4)*5),1) -> 0 | R22: =IF(OR($P22="", $Q22=""),"",ROUND($P22*0.6 + $Q22*0.4,1)) | S22: =IF($R22="","",IF($R22>=90,"昇進候補",IF($R22>=80,"上位評価",IF($R22>=70,"標準",IF($R22>=60,"要育成","要改善")))))
O23: =SUM(IFERROR(VLOOKUP(G23,マスター!$A$2:$B$6,2,FALSE),0),IFERROR(VLOOKUP(H23,マスター!$A$2:$B$6,2,FALSE),0),IFERROR(VLOOKUP(I23,マスター!$A$2:$B$6,2,FALSE),0),IFERROR(VLOOKUP(J23,マスター!$A$2:$B$6,2,FALSE),0),IFERROR(VLOOKUP(K23,マスター!$A$2:$B$6,2,FALSE),0),IFERROR(VLOOKUP(L23,マスター!$A$2:$B$6,2,FALSE),0),IFERROR(VLOOKUP(M23,マスター!$A$2:$B$6,2,FALSE),0),IFERROR(VLOOKUP(N23,マスター!$A$2:$B$6,2,FALSE),0)) -> 0 | P23: =ROUND(SUM((IFERROR(VLOOKUP(G23,マスター!$A$2:$B$6,2,FALSE),0)/4)*35,(IFERROR(VLOOKUP(H23,マスター!$A$2:$B$6,2,FALSE),0)/4)*15,(IFERROR(VLOOKUP(I23,マスター!$A$2:$B$6,2,FALSE),0)/4)*10,(IFERROR(VLOOKUP(J23,マスター!$A$2:$B$6,2,FALSE),0)/4)*15,(IFERROR(VLOOKUP(K23,マスター!$A$2:$B$6,2,FALSE),0)/4)*10,(IFERROR(VLOOKUP(L23,マスター!$A$2:$B$6,2,FALSE),0)/4)*5,(IFERROR(VLOOKUP(M23,マスター!$A$2:$B$6,2,FALSE),0)/4)*5,(IFERROR(VLOOKUP(N23,マスター!$A$2:$B$6,2,FALSE),0)/4)*5),1) -> 0 | R23: =IF(OR($P23="", $Q23=""),"",ROUND($P23*0.6 + $Q23*0.4,1)) | S23: =IF($R23="","",IF($R23>=90,"昇進候補",IF($R23>=80,"上位評価",IF($R23>=70,"標準",IF($R23>=60,"要育成","要改善")))))
O24: =SUM(IFERROR(VLOOKUP(G24,マスター!$A$2:$B$6,2,FALSE),0),IFERROR(VLOOKUP(H24,マスター!$A$2:$B$6,2,FALSE),0),IFERROR(VLOOKUP(I24,マスター!$A$2:$B$6,2,FALSE),0),IFERROR(VLOOKUP(J24,マスター!$A$2:$B$6,2,FALSE),0),IFERROR(VLOOKUP(K24,マスター!$A$2:$B$6,2,FALSE),0),IFERROR(VLOOKUP(L24,マスター!$A$2:$B$6,2,FALSE),0),IFERROR(VLOOKUP(M24,マスター!$A$2:$B$6,2,FALSE),0),IFERROR(VLOOKUP(N24,マスター!$A$2:$B$6,2,FALSE),0)) -> 0 | P24: =ROUND(SUM((IFERROR(VLOOKUP(G24,マスター!$A$2:$B$6,2,FALSE),0)/4)*35,(IFERROR(VLOOKUP(H24,マスター!$A$2:$B$6,2,FALSE),0)/4)*15,(IFERROR(VLOOKUP(I24,マスター!$A$2:$B$6,2,FALSE),0)/4)*10,(IFERROR(VLOOKUP(J24,マスター!$A$2:$B$6,2,FALSE),0)/4)*15,(IFERROR(VLOOKUP(K24,マスター!$A$2:$B$6,2,FALSE),0)/4)*10,(IFERROR(VLOOKUP(L24,マスター!$A$2:$B$6,2,FALSE),0)/4)*5,(IFERROR(VLOOKUP(M24,マスター!$A$2:$B$6,2,FALSE),0)/4)*5,(IFERROR(VLOOKUP(N24,マスター!$A$2:$B$6,2,FALSE),0)/4)*5),1) -> 0 | R24: =IF(OR($P24="", $Q24=""),"",ROUND($P24*0.6 + $Q24*0.4,1)) | S24: =IF($R24="","",IF($R24>=90,"昇進候補",IF($R24>=80,"上位評価",IF($R24>=70,"標準",IF($R24>=60,"要育成","要改善")))))
O25: =SUM(IFERROR(VLOOKUP(G25,マスター!$A$2:$B$6,2,FALSE),0),IFERROR(VLOOKUP(H25,マスター!$A$2:$B$6,2,FALSE),0),IFERROR(VLOOKUP(I25,マスター!$A$2:$B$6,2,FALSE),0),IFERROR(VLOOKUP(J25,マスター!$A$2:$B$6,2,FALSE),0),IFERROR(VLOOKUP(K25,マスター!$A$2:$B$6,2,FALSE),0),IFERROR(VLOOKUP(L25,マスター!$A$2:$B$6,2,FALSE),0),IFERROR(VLOOKUP(M25,マスター!$A$2:$B$6,2,FALSE),0),IFERROR(VLOOKUP(N25,マスター!$A$2:$B$6,2,FALSE),0)) -> 0 | P25: =ROUND(SUM((IFERROR(VLOOKUP(G25,マスター!$A$2:$B$6,2,FALSE),0)/4)*35,(IFERROR(VLOOKUP(H25,マスター!$A$2:$B$6,2,FALSE),0)/4)*15,(IFERROR(VLOOKUP(I25,マスター!$A$2:$B$6,2,FALSE),0)/4)*10,(IFERROR(VLOOKUP(J25,マスター!$A$2:$B$6,2,FALSE),0)/4)*15,(IFERROR(VLOOKUP(K25,マスター!$A$2:$B$6,2,FALSE),0)/4)*10,(IFERROR(VLOOKUP(L25,マスター!$A$2:$B$6,2,FALSE),0)/4)*5,(IFERROR(VLOOKUP(M25,マスター!$A$2:$B$6,2,FALSE),0)/4)*5,(IFERROR(VLOOKUP(N25,マスター!$A$2:$B$6,2,FALSE),0)/4)*5),1) -> 0 | R25: =IF(OR($P25="", $Q25=""),"",ROUND($P25*0.6 + $Q25*0.4,1)) | S25: =IF($R25="","",IF($R25>=90,"昇進候補",IF($R25>=80,"上位評価",IF($R25>=70,"標準",IF($R25>=60,"要育成","要改善")))))
O26: =SUM(IFERROR(VLOOKUP(G26,マスター!$A$2:$B$6,2,FALSE),0),IFERROR(VLOOKUP(H26,マスター!$A$2:$B$6,2,FALSE),0),IFERROR(VLOOKUP(I26,マスター!$A$2:$B$6,2,FALSE),0),IFERROR(VLOOKUP(J26,マスター!$A$2:$B$6,2,FALSE),0),IFERROR(VLOOKUP(K26,マスター!$A$2:$B$6,2,FALSE),0),IFERROR(VLOOKUP(L26,マスター!$A$2:$B$6,2,FALSE),0),IFERROR(VLOOKUP(M26,マスター!$A$2:$B$6,2,FALSE),0),IFERROR(VLOOKUP(N26,マスター!$A$2:$B$6,2,FALSE),0)) -> 0 | P26: =ROUND(SUM((IFERROR(VLOOKUP(G26,マスター!$A$2:$B$6,2,FALSE),0)/4)*35,(IFERROR(VLOOKUP(H26,マスター!$A$2:$B$6,2,FALSE),0)/4)*15,(IFERROR(VLOOKUP(I26,マスター!$A$2:$B$6,2,FALSE),0)/4)*10,(IFERROR(VLOOKUP(J26,マスター!$A$2:$B$6,2,FALSE),0)/4)*15,(IFERROR(VLOOKUP(K26,マスター!$A$2:$B$6,2,FALSE),0)/4)*10,(IFERROR(VLOOKUP(L26,マスター!$A$2:$B$6,2,FALSE),0)/4)*5,(IFERROR(VLOOKUP(M26,マスター!$A$2:$B$6,2,FALSE),0)/4)*5,(IFERROR(VLOOKUP(N26,マスター!$A$2:$B$6,2,FALSE),0)/4)*5),1) -> 0 | R26: =IF(OR($P26="", $Q26=""),"",ROUND($P26*0.6 + $Q26*0.4,1)) | S26: =IF($R26="","",IF($R26>=90,"昇進候補",IF($R26>=80,"上位評価",IF($R26>=70,"標準",IF($R26>=60,"要育成","要改善")))))
... O30: =SUM(IFERROR(VLOOKUP(G30,マスター!$A$2:$B$6,2,FALSE),0),IFERROR(VLOOKUP(H30,マスター!$A$2:$B$6,2,FALSE),0),IFERROR(VLOOKUP(I30,マスター!$A$2:$B$6,2,FALSE),0),IFERROR(VLOOKUP(J30,マスター!$A$2:$B$6,2,FALSE),0),IFERROR(VLOOKUP(K30,マスター!$A$2:$B$6,2,FALSE),0),IFERROR(VLOOKUP(L30,マスター!$A$2:$B$6,2,FALSE),0),IFERROR(VLOOKUP(M30,マスター!$A$2:$B$6,2,FALSE),0),IFERROR(VLOOKUP(N30,マスター!$A$2:$B$6,2,FALSE),0)) -> 0 | P30: =ROUND(SUM((IFERROR(VLOOKUP(G30,マスター!$A$2:$B$6,2,FALSE),0)/4)*35,(IFERROR(VLOOKUP(H30,マスター!$A$2:$B$6,2,FALSE),0)/4)*15,(IFERROR(VLOOKUP(I30,マスター!$A$2:$B$6,2,FALSE),0)/4)*10,(IFERROR(VLOOKUP(J30,マスター!$A$2:$B$6,2,FALSE),0)/4)*15,(IFERROR(VLOOKUP(K30,マスター!$A$2:$B$6,2,FALSE),0)/4)*10,(IFERROR(VLOOKUP(L30,マスター!$A$2:$B$6,2,FALSE),0)/4)*5,(IFERROR(VLOOKUP(M30,マスター!$A$2:$B$6,2,FALSE),0)/4)*5,(IFERROR(VLOOKUP(N30,マスター!$A$2:$B$6,2,FALSE),0)/4)*5),1) -> 0 | R30: =IF(OR($P30="", $Q30=""),"",ROUND($P30*0.6 + $Q30*0.4,1)) | S30: =IF($R30="","",IF($R30>=90,"昇進候補",IF($R30>=80,"上位評価",IF($R30>=70,"標準",IF($R30>=60,"要育成","要改善")))))

Sheet マスター
A1: 星 | B1: 点数 | D1: 評価観点 | E1: カテゴリ | F1: 重み(%) | H1: 基準(例) | J1: 役職 | K1: 順(小さいほど上)
A2: ★ | B2: 4 | D2: 売上/成果達成 | E2: 業績 | F2: 35 | H2: ★=期待を大きく上回る / ○=期待通り / △=改善余地 / ×=不足 / -=未評価 | J2: 部長 | K2: 1
A3: ○ | B3: 3 | D3: 品質・正確性 | E3: 業績 | F3: 15 | H3: 各観点にコメントを残すと、評価理由の説明がしやすくなります。 | J3: 課長 | K3: 2
A4: △ | B4: 2 | D4: 改善・生産性 | E4: 業績 | F4: 10 | J4: 課長代理 | K4: 3
A5: × | B5: 1 | D5: 専門スキル | E5: スキル | F5: 15 | J5: 係長 | K5: 4
A6: - | B6: 0 | D6: 問題解決力 | E6: スキル | F6: 10 | J6: 主任 | K6: 5
D7: 学習・成長 | E7: スキル | F7: 5 | J7: リーダー | K7: 6
D8: 主体性 | E8: 行動 | F8: 5 | J8: 担当 | K8: 7
D9: 協働・コミュニケーション | E9: 行動 | F9: 5
