Workbook
Name 候補者リスト: 設定!$D$2:$D$101
Name 面接官リスト: 設定!$F$2:$F$51

Sheet 面接評価星取表
B2: 面接評価に使う星取表
B5: 候補者名 | C5: 面接官名 | D5: スキル | E5: 経験 | F5: コミュニ ケーション力 | G5: 主体性 | H5: 論理的 思考力 | I5: チームワーク 適性 | J5: 総合評価 | K5: コメント | L5: スキル(点) | M5: 経験(点) | N5: コミュニケーション力(点) | O5: 主体性(点) | P5: 論理的思考力(点) | Q5: カルチャーフィット(点) | R5: 総合評価(点) | S5: 合計点 | T5: 平均点 | U5: 判定 | V5: キー
B6: 山田 | C6: 田中 | D6: 〇 | E6: △ | F6: 〇 | G6: ◎ | H6: 〇 | I6: 〇 | J6: ◎ | K6: 成長意欲が高い | L6: =IF(D6="","",IFERROR(VLOOKUP(D6,設定!$A$2:$B$5,2,FALSE),"")) -> 3 | M6: =IF(E6="","",IFERROR(VLOOKUP(E6,設定!$A$2:$B$5,2,FALSE),"")) -> 2 | N6: =IF(F6="","",IFERROR(VLOOKUP(F6,設定!$A$2:$B$5,2,FALSE),"")) -> 3 | O6: =IF(G6="","",IFERROR(VLOOKUP(G6,設定!$A$2:$B$5,2,FALSE),"")) -> 4 | P6: =IF(H6="","",IFERROR(VLOOKUP(H6,設定!$A$2:$B$5,2,FALSE),"")) -> 3 | Q6: =IF(I6="","",IFERROR(VLOOKUP(I6,設定!$A$2:$B$5,2,FALSE),"")) -> 3 | R6: =IF(J6="","",IFERROR(VLOOKUP(J6,設定!$A$2:$B$5,2,FALSE),"")) -> 4 | S6: =IF(COUNTA($D6:$J6)=0,"",IF(COUNT($L6:$R6)<7,"",SUM($L6:$R6))) -> 22 | T6: =IF(COUNTA($D6:$J6)=0,"",IF(COUNT($L6:$R6)<7,"",AVERAGE($L6:$R6))) -> 3.1428571 | U6: =IF($T6="","",IF($T6>=設定!$B$7,"合格","不合格")) -> 合格 | V6: =IF(OR($B6="",$C6=""),"", $B6&"|"&$C6) -> 山田|田中
B7: 山田 | C7: 小林 | D7: ◎ | E7: 〇 | F7: ◎ | G7: △ | H7: ◎ | I7: △ | J7: △ | L7: =IF(D7="","",IFERROR(VLOOKUP(D7,設定!$A$2:$B$5,2,FALSE),"")) -> 4 | M7: =IF(E7="","",IFERROR(VLOOKUP(E7,設定!$A$2:$B$5,2,FALSE),"")) -> 3 | N7: =IF(F7="","",IFERROR(VLOOKUP(F7,設定!$A$2:$B$5,2,FALSE),"")) -> 4 | O7: =IF(G7="","",IFERROR(VLOOKUP(G7,設定!$A$2:$B$5,2,FALSE),"")) -> 2 | P7: =IF(H7="","",IFERROR(VLOOKUP(H7,設定!$A$2:$B$5,2,FALSE),"")) -> 4 | Q7: =IF(I7="","",IFERROR(VLOOKUP(I7,設定!$A$2:$B$5,2,FALSE),"")) -> 2 | R7: =IF(J7="","",IFERROR(VLOOKUP(J7,設定!$A$2:$B$5,2,FALSE),"")) -> 2 | S7: =IF(COUNTA($D7:$J7)=0,"",IF(COUNT($L7:$R7)<7,"",SUM($L7:$R7))) -> 21 | T7: =IF(COUNTA($D7:$J7)=0,"",IF(COUNT($L7:$R7)<7,"",AVERAGE($L7:$R7))) -> 3 | U7: =IF($T7="","",IF($T7>=設定!$B$7,"合格","不合格")) -> 合格 | V7: =IF(OR($B7="",$C7=""),"", $B7&"|"&$C7) -> 山田|小林
B8: 山田 | C8: 加藤 | D8: 〇 | E8: ◎ | F8: × | G8: ◎ | H8: △ | I8: △ | J8: ◎ | L8: =IF(D8="","",IFERROR(VLOOKUP(D8,設定!$A$2:$B$5,2,FALSE),"")) -> 3 | M8: =IF(E8="","",IFERROR(VLOOKUP(E8,設定!$A$2:$B$5,2,FALSE),"")) -> 4 | N8: =IF(F8="","",IFERROR(VLOOKUP(F8,設定!$A$2:$B$5,2,FALSE),"")) -> 1 | O8: =IF(G8="","",IFERROR(VLOOKUP(G8,設定!$A$2:$B$5,2,FALSE),"")) -> 4 | P8: =IF(H8="","",IFERROR(VLOOKUP(H8,設定!$A$2:$B$5,2,FALSE),"")) -> 2 | Q8: =IF(I8="","",IFERROR(VLOOKUP(I8,設定!$A$2:$B$5,2,FALSE),"")) -> 2 | R8: =IF(J8="","",IFERROR(VLOOKUP(J8,設定!$A$2:$B$5,2,FALSE),"")) -> 4 | S8: =IF(COUNTA($D8:$J8)=0,"",IF(COUNT($L8:$R8)<7,"",SUM($L8:$R8))) -> 20 | T8: =IF(COUNTA($D8:$J8)=0,"",IF(COUNT($L8:$R8)<7,"",AVERAGE($L8:$R8))) -> 2.8571429 | U8: =IF($T8="","",IF($T8>=設定!$B$7,"合格","不合格")) -> 不合格 | V8: =IF(OR($B8="",$C8=""),"", $B8&"|"&$C8) -> 山田|加藤
B9: 佐藤 | C9: 田中 | D9: △ | E9: × | F9: △ | G9: 〇 | H9: 〇 | I9: × | J9: ◎ | L9: =IF(D9="","",IFERROR(VLOOKUP(D9,設定!$A$2:$B$5,2,FALSE),"")) -> 2 | M9: =IF(E9="","",IFERROR(VLOOKUP(E9,設定!$A$2:$B$5,2,FALSE),"")) -> 1 | N9: =IF(F9="","",IFERROR(VLOOKUP(F9,設定!$A$2:$B$5,2,FALSE),"")) -> 2 | O9: =IF(G9="","",IFERROR(VLOOKUP(G9,設定!$A$2:$B$5,2,FALSE),"")) -> 3 | P9: =IF(H9="","",IFERROR(VLOOKUP(H9,設定!$A$2:$B$5,2,FALSE),"")) -> 3 | Q9: =IF(I9="","",IFERROR(VLOOKUP(I9,設定!$A$2:$B$5,2,FALSE),"")) -> 1 | R9: =IF(J9="","",IFERROR(VLOOKUP(J9,設定!$A$2:$B$5,2,FALSE),"")) -> 4 | S9: =IF(COUNTA($D9:$J9)=0,"",IF(COUNT($L9:$R9)<7,"",SUM($L9:$R9))) -> 16 | T9: =IF(COUNTA($D9:$J9)=0,"",IF(COUNT($L9:$R9)<7,"",AVERAGE($L9:$R9))) -> 2.2857143 | U9: =IF($T9="","",IF($T9>=設定!$B$7,"合格","不合格")) -> 不合格 | V9: =IF(OR($B9="",$C9=""),"", $B9&"|"&$C9) -> 佐藤|田中
B10: 佐藤 | C10: 小林 | D10: △ | E10: × | F10: △ | G10: 〇 | H10: 〇 | I10: 〇 | J10: × | L10: =IF(D10="","",IFERROR(VLOOKUP(D10,設定!$A$2:$B$5,2,FALSE),"")) -> 2 | M10: =IF(E10="","",IFERROR(VLOOKUP(E10,設定!$A$2:$B$5,2,FALSE),"")) -> 1 | N10: =IF(F10="","",IFERROR(VLOOKUP(F10,設定!$A$2:$B$5,2,FALSE),"")) -> 2 | O10: =IF(G10="","",IFERROR(VLOOKUP(G10,設定!$A$2:$B$5,2,FALSE),"")) -> 3 | P10: =IF(H10="","",IFERROR(VLOOKUP(H10,設定!$A$2:$B$5,2,FALSE),"")) -> 3 | Q10: =IF(I10="","",IFERROR(VLOOKUP(I10,設定!$A$2:$B$5,2,FALSE),"")) -> 3 | R10: =IF(J10="","",IFERROR(VLOOKUP(J10,設定!$A$2:$B$5,2,FALSE),"")) -> 1 | S10: =IF(COUNTA($D10:$J10)=0,"",IF(COUNT($L10:$R10)<7,"",SUM($L10:$R10))) -> 15 | T10: =IF(COUNTA($D10:$J10)=0,"",IF(COUNT($L10:$R10)<7,"",AVERAGE($L10:$R10))) -> 2.1428571 | U10: =IF($T10="","",IF($T10>=設定!$B$7,"合格","不合格")) -> 不合格 | V10: =IF(OR($B10="",$C10=""),"", $B10&"|"&$C10) -> 佐藤|小林
B11: 佐藤 | C11: 加藤 | D11: 〇 | E11: △ | F11: 〇 | G11: ◎ | H11: ◎ | I11: ◎ | J11: ◎ | K11: プロジェクト調整役に適性がありそう | L11: =IF(D11="","",IFERROR(VLOOKUP(D11,設定!$A$2:$B$5,2,FALSE),"")) -> 3 | M11: =IF(E11="","",IFERROR(VLOOKUP(E11,設定!$A$2:$B$5,2,FALSE),"")) -> 2 | N11: =IF(F11="","",IFERROR(VLOOKUP(F11,設定!$A$2:$B$5,2,FALSE),"")) -> 3 | O11: =IF(G11="","",IFERROR(VLOOKUP(G11,設定!$A$2:$B$5,2,FALSE),"")) -> 4 | P11: =IF(H11="","",IFERROR(VLOOKUP(H11,設定!$A$2:$B$5,2,FALSE),"")) -> 4 | Q11: =IF(I11="","",IFERROR(VLOOKUP(I11,設定!$A$2:$B$5,2,FALSE),"")) -> 4 | R11: =IF(J11="","",IFERROR(VLOOKUP(J11,設定!$A$2:$B$5,2,FALSE),"")) -> 4 | S11: =IF(COUNTA($D11:$J11)=0,"",IF(COUNT($L11:$R11)<7,"",SUM($L11:$R11))) -> 24 | T11: =IF(COUNTA($D11:$J11)=0,"",IF(COUNT($L11:$R11)<7,"",AVERAGE($L11:$R11))) -> 3.4285714 | U11: =IF($T11="","",IF($T11>=設定!$B$7,"合格","不合格")) -> 合格 | V11: =IF(OR($B11="",$C11=""),"", $B11&"|"&$C11) -> 佐藤|加藤
B12: 鈴木 | C12: 田中 | D12: △ | E12: ◎ | F12: ◎ | G12: ◎ | H12: △ | I12: 〇 | J12: ◎ | K12: 採用する前提で考えたい | L12: =IF(D12="","",IFERROR(VLOOKUP(D12,設定!$A$2:$B$5,2,FALSE),"")) -> 2 | M12: =IF(E12="","",IFERROR(VLOOKUP(E12,設定!$A$2:$B$5,2,FALSE),"")) -> 4 | N12: =IF(F12="","",IFERROR(VLOOKUP(F12,設定!$A$2:$B$5,2,FALSE),"")) -> 4 | O12: =IF(G12="","",IFERROR(VLOOKUP(G12,設定!$A$2:$B$5,2,FALSE),"")) -> 4 | P12: =IF(H12="","",IFERROR(VLOOKUP(H12,設定!$A$2:$B$5,2,FALSE),"")) -> 2 | Q12: =IF(I12="","",IFERROR(VLOOKUP(I12,設定!$A$2:$B$5,2,FALSE),"")) -> 3 | R12: =IF(J12="","",IFERROR(VLOOKUP(J12,設定!$A$2:$B$5,2,FALSE),"")) -> 4 | S12: =IF(COUNTA($D12:$J12)=0,"",IF(COUNT($L12:$R12)<7,"",SUM($L12:$R12))) -> 23 | T12: =IF(COUNTA($D12:$J12)=0,"",IF(COUNT($L12:$R12)<7,"",AVERAGE($L12:$R12))) -> 3.2857143 | U12: =IF($T12="","",IF($T12>=設定!$B$7,"合格","不合格")) -> 合格 | V12: =IF(OR($B12="",$C12=""),"", $B12&"|"&$C12) -> 鈴木|田中
B13: 鈴木 | C13: 小林 | D13: ◎ | E13: △ | F13: ◎ | G13: ◎ | H13: 〇 | I13: △ | J13: 〇 | L13: =IF(D13="","",IFERROR(VLOOKUP(D13,設定!$A$2:$B$5,2,FALSE),"")) -> 4 | M13: =IF(E13="","",IFERROR(VLOOKUP(E13,設定!$A$2:$B$5,2,FALSE),"")) -> 2 | N13: =IF(F13="","",IFERROR(VLOOKUP(F13,設定!$A$2:$B$5,2,FALSE),"")) -> 4 | O13: =IF(G13="","",IFERROR(VLOOKUP(G13,設定!$A$2:$B$5,2,FALSE),"")) -> 4 | P13: =IF(H13="","",IFERROR(VLOOKUP(H13,設定!$A$2:$B$5,2,FALSE),"")) -> 3 | Q13: =IF(I13="","",IFERROR(VLOOKUP(I13,設定!$A$2:$B$5,2,FALSE),"")) -> 2 | R13: =IF(J13="","",IFERROR(VLOOKUP(J13,設定!$A$2:$B$5,2,FALSE),"")) -> 3 | S13: =IF(COUNTA($D13:$J13)=0,"",IF(COUNT($L13:$R13)<7,"",SUM($L13:$R13))) -> 22 | T13: =IF(COUNTA($D13:$J13)=0,"",IF(COUNT($L13:$R13)<7,"",AVERAGE($L13:$R13))) -> 3.1428571 | U13: =IF($T13="","",IF($T13>=設定!$B$7,"合格","不合格")) -> 合格 | V13: =IF(OR($B13="",$C13=""),"", $B13&"|"&$C13) -> 鈴木|小林
B14: 鈴木 | C14: 加藤 | D14: ◎ | E14: 〇 | F14: △ | G14: 〇 | H14: △ | I14: 〇 | J14: ◎ | L14: =IF(D14="","",IFERROR(VLOOKUP(D14,設定!$A$2:$B$5,2,FALSE),"")) -> 4 | M14: =IF(E14="","",IFERROR(VLOOKUP(E14,設定!$A$2:$B$5,2,FALSE),"")) -> 3 | N14: =IF(F14="","",IFERROR(VLOOKUP(F14,設定!$A$2:$B$5,2,FALSE),"")) -> 2 | O14: =IF(G14="","",IFERROR(VLOOKUP(G14,設定!$A$2:$B$5,2,FALSE),"")) -> 3 | P14: =IF(H14="","",IFERROR(VLOOKUP(H14,設定!$A$2:$B$5,2,FALSE),"")) -> 2 | Q14: =IF(I14="","",IFERROR(VLOOKUP(I14,設定!$A$2:$B$5,2,FALSE),"")) -> 3 | R14: =IF(J14="","",IFERROR(VLOOKUP(J14,設定!$A$2:$B$5,2,FALSE),"")) -> 4 | S14: =IF(COUNTA($D14:$J14)=0,"",IF(COUNT($L14:$R14)<7,"",SUM($L14:$R14))) -> 21 | T14: =IF(COUNTA($D14:$J14)=0,"",IF(COUNT($L14:$R14)<7,"",AVERAGE($L14:$R14))) -> 3 | U14: =IF($T14="","",IF($T14>=設定!$B$7,"合格","不合格")) -> 合格 | V14: =IF(OR($B14="",$C14=""),"", $B14&"|"&$C14) -> 鈴木|加藤
B15: 高橋 | C15: 田中 | D15: 〇 | E15: × | F15: ◎ | G15: △ | H15: △ | I15: × | J15: △ | L15: =IF(D15="","",IFERROR(VLOOKUP(D15,設定!$A$2:$B$5,2,FALSE),"")) -> 3 | M15: =IF(E15="","",IFERROR(VLOOKUP(E15,設定!$A$2:$B$5,2,FALSE),"")) -> 1 | N15: =IF(F15="","",IFERROR(VLOOKUP(F15,設定!$A$2:$B$5,2,FALSE),"")) -> 4 | O15: =IF(G15="","",IFERROR(VLOOKUP(G15,設定!$A$2:$B$5,2,FALSE),"")) -> 2 | P15: =IF(H15="","",IFERROR(VLOOKUP(H15,設定!$A$2:$B$5,2,FALSE),"")) -> 2 | Q15: =IF(I15="","",IFERROR(VLOOKUP(I15,設定!$A$2:$B$5,2,FALSE),"")) -> 1 | R15: =IF(J15="","",IFERROR(VLOOKUP(J15,設定!$A$2:$B$5,2,FALSE),"")) -> 2 | S15: =IF(COUNTA($D15:$J15)=0,"",IF(COUNT($L15:$R15)<7,"",SUM($L15:$R15))) -> 15 | T15: =IF(COUNTA($D15:$J15)=0,"",IF(COUNT($L15:$R15)<7,"",AVERAGE($L15:$R15))) -> 2.1428571 | U15: =IF($T15="","",IF($T15>=設定!$B$7,"合格","不合格")) -> 不合格 | V15: =IF(OR($B15="",$C15=""),"", $B15&"|"&$C15) -> 高橋|田中
B16: 高橋 | C16: 小林 | D16: 〇 | E16: ◎ | F16: △ | G16: ◎ | H16: × | I16: × | J16: 〇 | L16: =IF(D16="","",IFERROR(VLOOKUP(D16,設定!$A$2:$B$5,2,FALSE),"")) -> 3 | M16: =IF(E16="","",IFERROR(VLOOKUP(E16,設定!$A$2:$B$5,2,FALSE),"")) -> 4 | N16: =IF(F16="","",IFERROR(VLOOKUP(F16,設定!$A$2:$B$5,2,FALSE),"")) -> 2 | O16: =IF(G16="","",IFERROR(VLOOKUP(G16,設定!$A$2:$B$5,2,FALSE),"")) -> 4 | P16: =IF(H16="","",IFERROR(VLOOKUP(H16,設定!$A$2:$B$5,2,FALSE),"")) -> 1 | Q16: =IF(I16="","",IFERROR(VLOOKUP(I16,設定!$A$2:$B$5,2,FALSE),"")) -> 1 | R16: =IF(J16="","",IFERROR(VLOOKUP(J16,設定!$A$2:$B$5,2,FALSE),"")) -> 3 | S16: =IF(COUNTA($D16:$J16)=0,"",IF(COUNT($L16:$R16)<7,"",SUM($L16:$R16))) -> 18 | T16: =IF(COUNTA($D16:$J16)=0,"",IF(COUNT($L16:$R16)<7,"",AVERAGE($L16:$R16))) -> 2.5714286 | U16: =IF($T16="","",IF($T16>=設定!$B$7,"合格","不合格")) -> 不合格 | V16: =IF(OR($B16="",$C16=""),"", $B16&"|"&$C16) -> 高橋|小林
B17: 高橋 | C17: 加藤 | D17: 〇 | E17: △ | F17: 〇 | G17: × | H17: ◎ | I17: 〇 | J17: × | L17: =IF(D17="","",IFERROR(VLOOKUP(D17,設定!$A$2:$B$5,2,FALSE),"")) -> 3 | M17: =IF(E17="","",IFERROR(VLOOKUP(E17,設定!$A$2:$B$5,2,FALSE),"")) -> 2 | N17: =IF(F17="","",IFERROR(VLOOKUP(F17,設定!$A$2:$B$5,2,FALSE),"")) -> 3 | O17: =IF(G17="","",IFERROR(VLOOKUP(G17,設定!$A$2:$B$5,2,FALSE),"")) -> 1 | P17: =IF(H17="","",IFERROR(VLOOKUP(H17,設定!$A$2:$B$5,2,FALSE),"")) -> 4 | Q17: =IF(I17="","",IFERROR(VLOOKUP(I17,設定!$A$2:$B$5,2,FALSE),"")) -> 3 | R17: =IF(J17="","",IFERROR(VLOOKUP(J17,設定!$A$2:$B$5,2,FALSE),"")) -> 1 | S17: =IF(COUNTA($D17:$J17)=0,"",IF(COUNT($L17:$R17)<7,"",SUM($L17:$R17))) -> 17 | T17: =IF(COUNTA($D17:$J17)=0,"",IF(COUNT($L17:$R17)<7,"",AVERAGE($L17:$R17))) -> 2.4285714 | U17: =IF($T17="","",IF($T17>=設定!$B$7,"合格","不合格")) -> 不合格 | V17: =IF(OR($B17="",$C17=""),"", $B17&"|"&$C17) -> 高橋|加藤
B18: 伊藤 | C18: 田中 | D18: ◎ | E18: 〇 | F18: ◎ | G18: △ | H18: 〇 | I18: 〇 | J18: × | L18: =IF(D18="","",IFERROR(VLOOKUP(D18,設定!$A$2:$B$5,2,FALSE),"")) -> 4 | M18: =IF(E18="","",IFERROR(VLOOKUP(E18,設定!$A$2:$B$5,2,FALSE),"")) -> 3 | N18: =IF(F18="","",IFERROR(VLOOKUP(F18,設定!$A$2:$B$5,2,FALSE),"")) -> 4 | O18: =IF(G18="","",IFERROR(VLOOKUP(G18,設定!$A$2:$B$5,2,FALSE),"")) -> 2 | P18: =IF(H18="","",IFERROR(VLOOKUP(H18,設定!$A$2:$B$5,2,FALSE),"")) -> 3 | Q18: =IF(I18="","",IFERROR(VLOOKUP(I18,設定!$A$2:$B$5,2,FALSE),"")) -> 3 | R18: =IF(J18="","",IFERROR(VLOOKUP(J18,設定!$A$2:$B$5,2,FALSE),"")) -> 1 | S18: =IF(COUNTA($D18:$J18)=0,"",IF(COUNT($L18:$R18)<7,"",SUM($L18:$R18))) -> 20 | T18: =IF(COUNTA($D18:$J18)=0,"",IF(COUNT($L18:$R18)<7,"",AVERAGE($L18:$R18))) -> 2.8571429 | U18: =IF($T18="","",IF($T18>=設定!$B$7,"合格","不合格")) -> 不合格 | V18: =IF(OR($B18="",$C18=""),"", $B18&"|"&$C18) -> 伊藤|田中
B19: 伊藤 | C19: 小林 | D19: ◎ | E19: ◎ | F19: ◎ | G19: 〇 | H19: 〇 | I19: △ | J19: 〇 | L19: =IF(D19="","",IFERROR(VLOOKUP(D19,設定!$A$2:$B$5,2,FALSE),"")) -> 4 | M19: =IF(E19="","",IFERROR(VLOOKUP(E19,設定!$A$2:$B$5,2,FALSE),"")) -> 4 | N19: =IF(F19="","",IFERROR(VLOOKUP(F19,設定!$A$2:$B$5,2,FALSE),"")) -> 4 | O19: =IF(G19="","",IFERROR(VLOOKUP(G19,設定!$A$2:$B$5,2,FALSE),"")) -> 3 | P19: =IF(H19="","",IFERROR(VLOOKUP(H19,設定!$A$2:$B$5,2,FALSE),"")) -> 3 | Q19: =IF(I19="","",IFERROR(VLOOKUP(I19,設定!$A$2:$B$5,2,FALSE),"")) -> 2 | R19: =IF(J19="","",IFERROR(VLOOKUP(J19,設定!$A$2:$B$5,2,FALSE),"")) -> 3 | S19: =IF(COUNTA($D19:$J19)=0,"",IF(COUNT($L19:$R19)<7,"",SUM($L19:$R19))) -> 23 | T19: =IF(COUNTA($D19:$J19)=0,"",IF(COUNT($L19:$R19)<7,"",AVERAGE($L19:$R19))) -> 3.2857143 | U19: =IF($T19="","",IF($T19>=設定!$B$7,"合格","不合格")) -> 合格 | V19: =IF(OR($B19="",$C19=""),"", $B19&"|"&$C19) -> 伊藤|小林
B20: 伊藤 | C20: 加藤 | D20: 〇 | E20: △ | F20: △ | G20: ◎ | H20: ◎ | I20: ◎ | J20: ◎ | L20: =IF(D20="","",IFERROR(VLOOKUP(D20,設定!$A$2:$B$5,2,FALSE),"")) -> 3 | M20: =IF(E20="","",IFERROR(VLOOKUP(E20,設定!$A$2:$B$5,2,FALSE),"")) -> 2 | N20: =IF(F20="","",IFERROR(VLOOKUP(F20,設定!$A$2:$B$5,2,FALSE),"")) -> 2 | O20: =IF(G20="","",IFERROR(VLOOKUP(G20,設定!$A$2:$B$5,2,FALSE),"")) -> 4 | P20: =IF(H20="","",IFERROR(VLOOKUP(H20,設定!$A$2:$B$5,2,FALSE),"")) -> 4 | Q20: =IF(I20="","",IFERROR(VLOOKUP(I20,設定!$A$2:$B$5,2,FALSE),"")) -> 4 | R20: =IF(J20="","",IFERROR(VLOOKUP(J20,設定!$A$2:$B$5,2,FALSE),"")) -> 4 | S20: =IF(COUNTA($D20:$J20)=0,"",IF(COUNT($L20:$R20)<7,"",SUM($L20:$R20))) -> 23 | T20: =IF(COUNTA($D20:$J20)=0,"",IF(COUNT($L20:$R20)<7,"",AVERAGE($L20:$R20))) -> 3.2857143 | U20: =IF($T20="","",IF($T20>=設定!$B$7,"合格","不合格")) -> 合格 | V20: =IF(OR($B20="",$C20=""),"", $B20&"|"&$C20) -> 伊藤|加藤
L21: =IF(D21="","",IFERROR(VLOOKUP(D21,設定!$A$2:$B$5,2,FALSE),"")) | M21: =IF(E21="","",IFERROR(VLOOKUP(E21,設定!$A$2:$B$5,2,FALSE),"")) | N21: =IF(F21="","",IFERROR(VLOOKUP(F21,設定!$A$2:$B$5,2,FALSE),"")) | O21: =IF(G21="","",IFERROR(VLOOKUP(G21,設定!$A$2:$B$5,2,FALSE),"")) | P21: =IF(H21="","",IFERROR(VLOOKUP(H21,設定!$A$2:$B$5,2,FALSE),"")) | Q21: =IF(I21="","",IFERROR(VLOOKUP(I21,設定!$A$2:$B$5,2,FALSE),"")) | R21: =IF(J21="","",IFERROR(VLOOKUP(J21,設定!$A$2:$B$5,2,FALSE),"")) | S21: =IF(COUNTA($D21:$J21)=0,"",IF(COUNT($L21:$R21)<7,"",SUM($L21:$R21))) | T21: =IF(COUNTA($D21:$J21)=0,"",IF(COUNT($L21:$R21)<7,"",AVERAGE($L21:$R21))) | U21: =IF($T21="","",IF($T21>=設定!$B$7,"合格","不合格")) | V21: =IF(OR($B21="",$C21=""),"", $B21&"|"&$C21)
L22: =IF(D22="","",IFERROR(VLOOKUP(D22,設定!$A$2:$B$5,2,FALSE),"")) | M22: =IF(E22="","",IFERROR(VLOOKUP(E22,設定!$A$2:$B$5,2,FALSE),"")) | N22: =IF(F22="","",IFERROR(VLOOKUP(F22,設定!$A$2:$B$5,2,FALSE),"")) | O22: =IF(G22="","",IFERROR(VLOOKUP(G22,設定!$A$2:$B$5,2,FALSE),"")) | P22: =IF(H22="","",IFERROR(VLOOKUP(H22,設定!$A$2:$B$5,2,FALSE),"")) | Q22: =IF(I22="","",IFERROR(VLOOKUP(I22,設定!$A$2:$B$5,2,FALSE),"")) | R22: =IF(J22="","",IFERROR(VLOOKUP(J22,設定!$A$2:$B$5,2,FALSE),"")) | S22: =IF(COUNTA($D22:$J22)=0,"",IF(COUNT($L22:$R22)<7,"",SUM($L22:$R22))) | T22: =IF(COUNTA($D22:$J22)=0,"",IF(COUNT($L22:$R22)<7,"",AVERAGE($L22:$R22))) | U22: =IF($T22="","",IF($T22>=設定!$B$7,"合格","不合格")) | V22: =IF(OR($B22="",$C22=""),"", $B22&"|"&$C22)
L23: =IF(D23="","",IFERROR(VLOOKUP(D23,設定!$A$2:$B$5,2,FALSE),"")) | M23: =IF(E23="","",IFERROR(VLOOKUP(E23,設定!$A$2:$B$5,2,FALSE),"")) | N23: =IF(F23="","",IFERROR(VLOOKUP(F23,設定!$A$2:$B$5,2,FALSE),"")) | O23: =IF(G23="","",IFERROR(VLOOKUP(G23,設定!$A$2:$B$5,2,FALSE),"")) | P23: =IF(H23="","",IFERROR(VLOOKUP(H23,設定!$A$2:$B$5,2,FALSE),"")) | Q23: =IF(I23="","",IFERROR(VLOOKUP(I23,設定!$A$2:$B$5,2,FALSE),"")) | R23: =IF(J23="","",IFERROR(VLOOKUP(J23,設定!$A$2:$B$5,2,FALSE),"")) | S23: =IF(COUNTA($D23:$J23)=0,"",IF(COUNT($L23:$R23)<7,"",SUM($L23:$R23))) | T23: =IF(COUNTA($D23:$J23)=0,"",IF(COUNT($L23:$R23)<7,"",AVERAGE($L23:$R23))) | U23: =IF($T23="","",IF($T23>=設定!$B$7,"合格","不合格")) | V23: =IF(OR($B23="",$C23=""),"", $B23&"|"&$C23)
L24: =IF(D24="","",IFERROR(VLOOKUP(D24,設定!$A$2:$B$5,2,FALSE),"")) | M24: =IF(E24="","",IFERROR(VLOOKUP(E24,設定!$A$2:$B$5,2,FALSE),"")) | N24: =IF(F24="","",IFERROR(VLOOKUP(F24,設定!$A$2:$B$5,2,FALSE),"")) | O24: =IF(G24="","",IFERROR(VLOOKUP(G24,設定!$A$2:$B$5,2,FALSE),"")) | P24: =IF(H24="","",IFERROR(VLOOKUP(H24,設定!$A$2:$B$5,2,FALSE),"")) | Q24: =IF(I24="","",IFERROR(VLOOKUP(I24,設定!$A$2:$B$5,2,FALSE),"")) | R24: =IF(J24="","",IFERROR(VLOOKUP(J24,設定!$A$2:$B$5,2,FALSE),"")) | S24: =IF(COUNTA($D24:$J24)=0,"",IF(COUNT($L24:$R24)<7,"",SUM($L24:$R24))) | T24: =IF(COUNTA($D24:$J24)=0,"",IF(COUNT($L24:$R24)<7,"",AVERAGE($L24:$R24))) | U24: =IF($T24="","",IF($T24>=設定!$B$7,"合格","不合格")) | V24: =IF(OR($B24="",$C24=""),"", $B24&"|"&$C24)
L25: =IF(D25="","",IFERROR(VLOOKUP(D25,設定!$A$2:$B$5,2,FALSE),"")) | M25: =IF(E25="","",IFERROR(VLOOKUP(E25,設定!$A$2:$B$5,2,FALSE),"")) | N25: =IF(F25="","",IFERROR(VLOOKUP(F25,設定!$A$2:$B$5,2,FALSE),"")) | O25: =IF(G25="","",IFERROR(VLOOKUP(G25,設定!$A$2:$B$5,2,FALSE),"")) | P25: =IF(H25="","",IFERROR(VLOOKUP(H25,設定!$A$2:$B$5,2,FALSE),"")) | Q25: =IF(I25="","",IFERROR(VLOOKUP(I25,設定!$A$2:$B$5,2,FALSE),"")) | R25: =IF(J25="","",IFERROR(VLOOKUP(J25,設定!$A$2:$B$5,2,FALSE),"")) | S25: =IF(COUNTA($D25:$J25)=0,"",IF(COUNT($L25:$R25)<7,"",SUM($L25:$R25))) | T25: =IF(COUNTA($D25:$J25)=0,"",IF(COUNT($L25:$R25)<7,"",AVERAGE($L25:$R25))) | U25: =IF($T25="","",IF($T25>=設定!$B$7,"合格","不合格")) | V25: =IF(OR($B25="",$C25=""),"", $B25&"|"&$C25)
L26: =IF(D26="","",IFERROR(VLOOKUP(D26,設定!$A$2:$B$5,2,FALSE),"")) | M26: =IF(E26="","",IFERROR(VLOOKUP(E26,設定!$A$2:$B$5,2,FALSE),"")) | N26: =IF(F26="","",IFERROR(VLOOKUP(F26,設定!$A$2:$B$5,2,FALSE),"")) | O26: =IF(G26="","",IFERROR(VLOOKUP(G26,設定!$A$2:$B$5,2,FALSE),"")) | P26: =IF(H26="","",IFERROR(VLOOKUP(H26,設定!$A$2:$B$5,2,FALSE),"")) | Q26: =IF(I26="","",IFERROR(VLOOKUP(I26,設定!$A$2:$B$5,2,FALSE),"")) | R26: =IF(J26="","",IFERROR(VLOOKUP(J26,設定!$A$2:$B$5,2,FALSE),"")) | S26: =IF(COUNTA($D26:$J26)=0,"",IF(COUNT($L26:$R26)<7,"",SUM($L26:$R26))) | T26: =IF(COUNTA($D26:$J26)=0,"",IF(COUNT($L26:$R26)<7,"",AVERAGE($L26:$R26))) | U26: =IF($T26="","",IF($T26>=設定!$B$7,"合格","不合格")) | V26: =IF(OR($B26="",$C26=""),"", $B26&"|"&$C26)
L27: =IF(D27="","",IFERROR(VLOOKUP(D27,設定!$A$2:$B$5,2,FALSE),"")) | M27: =IF(E27="","",IFERROR(VLOOKUP(E27,設定!$A$2:$B$5,2,FALSE),"")) | N27: =IF(F27="","",IFERROR(VLOOKUP(F27,設定!$A$2:$B$5,2,FALSE),"")) | O27: =IF(G27="","",IFERROR(VLOOKUP(G27,設定!$A$2:$B$5,2,FALSE),"")) | P27: =IF(H27="","",IFERROR(VLOOKUP(H27,設定!$A$2:$B$5,2,FALSE),"")) | Q27: =IF(I27="","",IFERROR(VLOOKUP(I27,設定!$A$2:$B$5,2,FALSE),"")) | R27: =IF(J27="","",IFERROR(VLOOKUP(J27,設定!$A$2:$B$5,2,FALSE),"")) | S27: =IF(COUNTA($D27:$J27)=0,"",IF(COUNT($L27:$R27)<7,"",SUM($L27:$R27))) | T27: =IF(COUNTA($D27:$J27)=0,"",IF(COUNT($L27:$R27)<7,"",AVERAGE($L27:$R27))) | U27: =IF($T27="","",IF($T27>=設定!$B$7,"合格","不合格")) | V27: =IF(OR($B27="",$C27=""),"", $B27&"|"&$C27)
L28: =IF(D28="","",IFERROR(VLOOKUP(D28,設定!$A$2:$B$5,2,FALSE),"")) | M28: =IF(E28="","",IFERROR(VLOOKUP(E28,設定!$A$2:$B$5,2,FALSE),"")) | N28: =IF(F28="","",IFERROR(VLOOKUP(F28,設定!$A$2:$B$5,2,FALSE),"")) | O28: =IF(G28="","",IFERROR(VLOOKUP(G28,設定!$A$2:$B$5,2,FALSE),"")) | P28: =IF(H28="","",IFERROR(VLOOKUP(H28,設定!$A$2:$B$5,2,FALSE),"")) | Q28: =IF(I28="","",IFERROR(VLOOKUP(I28,設定!$A$2:$B$5,2,FALSE),"")) | R28: =IF(J28="","",IFERROR(VLOOKUP(J28,設定!$A$2:$B$5,2,FALSE),"")) | S28: =IF(COUNTA($D28:$J28)=0,"",IF(COUNT($L28:$R28)<7,"",SUM($L28:$R28))) | T28: =IF(COUNTA($D28:$J28)=0,"",IF(COUNT($L28:$R28)<7,"",AVERAGE($L28:$R28))) | U28: =IF($T28="","",IF($T28>=設定!$B$7,"合格","不合格")) | V28: =IF(OR($B28="",$C28=""),"", $B28&"|"&$C28)
L29: =IF(D29="","",IFERROR(VLOOKUP(D29,設定!$A$2:$B$5,2,FALSE),"")) | M29: =IF(E29="","",IFERROR(VLOOKUP(E29,設定!$A$2:$B$5,2,FALSE),"")) | N29: =IF(F29="","",IFERROR(VLOOKUP(F29,設定!$A$2:$B$5,2,FALSE),"")) | O29: =IF(G29="","",IFERROR(VLOOKUP(G29,設定!$A$2:$B$5,2,FALSE),"")) | P29: =IF(H29="","",IFERROR(VLOOKUP(H29,設定!$A$2:$B$5,2,FALSE),"")) | Q29: =IF(I29="","",IFERROR(VLOOKUP(I29,設定!$A$2:$B$5,2,FALSE),"")) | R29: =IF(J29="","",IFERROR(VLOOKUP(J29,設定!$A$2:$B$5,2,FALSE),"")) | S29: =IF(COUNTA($D29:$J29)=0,"",IF(COUNT($L29:$R29)<7,"",SUM($L29:$R29))) | T29: =IF(COUNTA($D29:$J29)=0,"",IF(COUNT($L29:$R29)<7,"",AVERAGE($L29:$R29))) | U29: =IF($T29="","",IF($T29>=設定!$B$7,"合格","不合格")) | V29: =IF(OR($B29="",$C29=""),"", $B29&"|"&$C29)
L30: =IF(D30="","",IFERROR(VLOOKUP(D30,設定!$A$2:$B$5,2,FALSE),"")) | M30: =IF(E30="","",IFERROR(VLOOKUP(E30,設定!$A$2:$B$5,2,FALSE),"")) | N30: =IF(F30="","",IFERROR(VLOOKUP(F30,設定!$A$2:$B$5,2,FALSE),"")) | O30: =IF(G30="","",IFERROR(VLOOKUP(G30,設定!$A$2:$B$5,2,FALSE),"")) | P30: =IF(H30="","",IFERROR(VLOOKUP(H30,設定!$A$2:$B$5,2,FALSE),"")) | Q30: =IF(I30="","",IFERROR(VLOOKUP(I30,設定!$A$2:$B$5,2,FALSE),"")) | R30: =IF(J30="","",IFERROR(VLOOKUP(J30,設定!$A$2:$B$5,2,FALSE),"")) | S30: =IF(COUNTA($D30:$J30)=0,"",IF(COUNT($L30:$R30)<7,"",SUM($L30:$R30))) | T30: =IF(COUNTA($D30:$J30)=0,"",IF(COUNT($L30:$R30)<7,"",AVERAGE($L30:$R30))) | U30: =IF($T30="","",IF($T30>=設定!$B$7,"合格","不合格")) | V30: =IF(OR($B30="",$C30=""),"", $B30&"|"&$C30)
L31: =IF(D31="","",IFERROR(VLOOKUP(D31,設定!$A$2:$B$5,2,FALSE),"")) | M31: =IF(E31="","",IFERROR(VLOOKUP(E31,設定!$A$2:$B$5,2,FALSE),"")) | N31: =IF(F31="","",IFERROR(VLOOKUP(F31,設定!$A$2:$B$5,2,FALSE),"")) | O31: =IF(G31="","",IFERROR(VLOOKUP(G31,設定!$A$2:$B$5,2,FALSE),"")) | P31: =IF(H31="","",IFERROR(VLOOKUP(H31,設定!$A$2:$B$5,2,FALSE),"")) | Q31: =IF(I31="","",IFERROR(VLOOKUP(I31,設定!$A$2:$B$5,2,FALSE),"")) | R31: =IF(J31="","",IFERROR(VLOOKUP(J31,設定!$A$2:$B$5,2,FALSE),"")) | S31: =IF(COUNTA($D31:$J31)=0,"",IF(COUNT($L31:$R31)<7,"",SUM($L31:$R31))) | T31: =IF(COUNTA($D31:$J31)=0,"",IF(COUNT($L31:$R31)<7,"",AVERAGE($L31:$R31))) | U31: =IF($T31="","",IF($T31>=設定!$B$7,"合格","不合格")) | V31: =IF(OR($B31="",$C31=""),"", $B31&"|"&$C31)
L32: =IF(D32="","",IFERROR(VLOOKUP(D32,設定!$A$2:$B$5,2,FALSE),"")) | M32: =IF(E32="","",IFERROR(VLOOKUP(E32,設定!$A$2:$B$5,2,FALSE),"")) | N32: =IF(F32="","",IFERROR(VLOOKUP(F32,設定!$A$2:$B$5,2,FALSE),"")) | O32: =IF(G32="","",IFERROR(VLOOKUP(G32,設定!$A$2:$B$5,2,FALSE),"")) | P32: =IF(H32="","",IFERROR(VLOOKUP(H32,設定!$A$2:$B$5,2,FALSE),"")) | Q32: =IF(I32="","",IFERROR(VLOOKUP(I32,設定!$A$2:$B$5,2,FALSE),"")) | R32: =IF(J32="","",IFERROR(VLOOKUP(J32,設定!$A$2:$B$5,2,FALSE),"")) | S32: =IF(COUNTA($D32:$J32)=0,"",IF(COUNT($L32:$R32)<7,"",SUM($L32:$R32))) | T32: =IF(COUNTA($D32:$J32)=0,"",IF(COUNT($L32:$R32)<7,"",AVERAGE($L32:$R32))) | U32: =IF($T32="","",IF($T32>=設定!$B$7,"合格","不合格")) | V32: =IF(OR($B32="",$C32=""),"", $B32&"|"&$C32)
... L505: =IF(D505="","",IFERROR(VLOOKUP(D505,設定!$A$2:$B$5,2,FALSE),"")) | M505: =IF(E505="","",IFERROR(VLOOKUP(E505,設定!$A$2:$B$5,2,FALSE),"")) | N505: =IF(F505="","",IFERROR(VLOOKUP(F505,設定!$A$2:$B$5,2,FALSE),"")) | O505: =IF(G505="","",IFERROR(VLOOKUP(G505,設定!$A$2:$B$5,2,FALSE),"")) | P505: =IF(H505="","",IFERROR(VLOOKUP(H505,設定!$A$2:$B$5,2,FALSE),"")) | Q505: =IF(I505="","",IFERROR(VLOOKUP(I505,設定!$A$2:$B$5,2,FALSE),"")) | R505: =IF(J505="","",IFERROR(VLOOKUP(J505,設定!$A$2:$B$5,2,FALSE),"")) | S505: =IF(COUNTA($D505:$J505)=0,"",IF(COUNT($L505:$R505)<7,"",SUM($L505:$R505))) | T505: =IF(COUNTA($D505:$J505)=0,"",IF(COUNT($L505:$R505)<7,"",AVERAGE($L505:$R505))) | U505: =IF($T505="","",IF($T505>=設定!$B$7,"合格","不合格")) | V505: =IF(OR($B505="",$C505=""),"", $B505&"|"&$C505)

Sheet 設定
A1: 記号→点数 | D1: 候補者リスト（ここに入力） | F1: 面接官リスト（ここに入力）
A2: ◎ | B2: 4 | D2: 山田 | F2: 田中
A3: 〇 | B3: 3 | D3: 佐藤 | F3: 小林
A4: △ | B4: 2 | D4: 鈴木 | F4: 加藤
A5: × | B5: 1 | D5: 高橋 | F5: 面接官D
D6: 伊藤 | F6: 面接官E
A7: 合格基準（平均点以上） | B7: 3 | D7: 候補者6
D8: 候補者7
D9: 候補者8
D10: 候補者9
D11: 候補者10

Sheet 面接官別比較
A1: 候補者 | B1: =設定!$F$2 -> 田中 | C1: =設定!$F$3 -> 小林 | D1: =設定!$F$4 -> 加藤 | E1: =設定!$F$5 -> 面接官D | F1: =設定!$F$6 -> 面接官E | G1: =設定!$F$7 -> 0 | H1: =設定!$F$8 -> 0 | I1: =設定!$F$9 -> 0 | J1: =設定!$F$10 -> 0 | K1: =設定!$F$11 -> 0 | L1: 全体平均 | M1: 最終判定
A2: =設定!$D$2 -> 山田 | B2: =IF(OR($A2="",B$1=""),"",IFERROR(AVERAGEIFS(面接評価星取表!$T:$T,面接評価星取表!$B:$B,$A2,面接評価星取表!$C:$C,B$1),"")) -> 3.1428571 | C2: =IF(OR($A2="",C$1=""),"",IFERROR(AVERAGEIFS(面接評価星取表!$T:$T,面接評価星取表!$B:$B,$A2,面接評価星取表!$C:$C,C$1),"")) -> 3 | D2: =IF(OR($A2="",D$1=""),"",IFERROR(AVERAGEIFS(面接評価星取表!$T:$T,面接評価星取表!$B:$B,$A2,面接評価星取表!$C:$C,D$1),"")) -> 2.8571429 | E2: =IF(OR($A2="",E$1=""),"",IFERROR(AVERAGEIFS(面接評価星取表!$T:$T,面接評価星取表!$B:$B,$A2,面接評価星取表!$C:$C,E$1),"")) | F2: =IF(OR($A2="",F$1=""),"",IFERROR(AVERAGEIFS(面接評価星取表!$T:$T,面接評価星取表!$B:$B,$A2,面接評価星取表!$C:$C,F$1),"")) | G2: =IF(OR($A2="",G$1=""),"",IFERROR(AVERAGEIFS(面接評価星取表!$T:$T,面接評価星取表!$B:$B,$A2,面接評価星取表!$C:$C,G$1),"")) | H2: =IF(OR($A2="",H$1=""),"",IFERROR(AVERAGEIFS(面接評価星取表!$T:$T,面接評価星取表!$B:$B,$A2,面接評価星取表!$C:$C,H$1),"")) | I2: =IF(OR($A2="",I$1=""),"",IFERROR(AVERAGEIFS(面接評価星取表!$T:$T,面接評価星取表!$B:$B,$A2,面接評価星取表!$C:$C,I$1),"")) | ... K2: =IF(OR($A2="",K$1=""),"",IFERROR(AVERAGEIFS(面接評価星取表!$T:$T,面接評価星取表!$B:$B,$A2,面接評価星取表!$C:$C,K$1),"")) | L2: =IF($A2="","",IFERROR(AVERAGEIF(面接評価星取表!$B:$B,$A2,面接評価星取表!$T:$T),"")) -> 3 | M2: =IF(L2="","",IF(L2>=設定!$B$7,"合格","不合格")) -> 合格
A3: =設定!$D$3 -> 佐藤 | B3: =IF(OR($A3="",B$1=""),"",IFERROR(AVERAGEIFS(面接評価星取表!$T:$T,面接評価星取表!$B:$B,$A3,面接評価星取表!$C:$C,B$1),"")) -> 2.2857143 | C3: =IF(OR($A3="",C$1=""),"",IFERROR(AVERAGEIFS(面接評価星取表!$T:$T,面接評価星取表!$B:$B,$A3,面接評価星取表!$C:$C,C$1),"")) -> 2.1428571 | D3: =IF(OR($A3="",D$1=""),"",IFERROR(AVERAGEIFS(面接評価星取表!$T:$T,面接評価星取表!$B:$B,$A3,面接評価星取表!$C:$C,D$1),"")) -> 3.4285714 | E3: =IF(OR($A3="",E$1=""),"",IFERROR(AVERAGEIFS(面接評価星取表!$T:$T,面接評価星取表!$B:$B,$A3,面接評価星取表!$C:$C,E$1),"")) | F3: =IF(OR($A3="",F$1=""),"",IFERROR(AVERAGEIFS(面接評価星取表!$T:$T,面接評価星取表!$B:$B,$A3,面接評価星取表!$C:$C,F$1),"")) | G3: =IF(OR($A3="",G$1=""),"",IFERROR(AVERAGEIFS(面接評価星取表!$T:$T,面接評価星取表!$B:$B,$A3,面接評価星取表!$C:$C,G$1),"")) | H3: =IF(OR($A3="",H$1=""),"",IFERROR(AVERAGEIFS(面接評価星取表!$T:$T,面接評価星取表!$B:$B,$A3,面接評価星取表!$C:$C,H$1),"")) | I3: =IF(OR($A3="",I$1=""),"",IFERROR(AVERAGEIFS(面接評価星取表!$T:$T,面接評価星取表!$B:$B,$A3,面接評価星取表!$C:$C,I$1),"")) | ... K3: =IF(OR($A3="",K$1=""),"",IFERROR(AVERAGEIFS(面接評価星取表!$T:$T,面接評価星取表!$B:$B,$A3,面接評価星取表!$C:$C,K$1),"")) | L3: =IF($A3="","",IFERROR(AVERAGEIF(面接評価星取表!$B:$B,$A3,面接評価星取表!$T:$T),"")) -> 2.6190476 | M3: =IF(L3="","",IF(L3>=設定!$B$7,"合格","不合格")) -> 不合格
A4: =設定!$D$4 -> 鈴木 | B4: =IF(OR($A4="",B$1=""),"",IFERROR(AVERAGEIFS(面接評価星取表!$T:$T,面接評価星取表!$B:$B,$A4,面接評価星取表!$C:$C,B$1),"")) -> 3.2857143 | C4: =IF(OR($A4="",C$1=""),"",IFERROR(AVERAGEIFS(面接評価星取表!$T:$T,面接評価星取表!$B:$B,$A4,面接評価星取表!$C:$C,C$1),"")) -> 3.1428571 | D4: =IF(OR($A4="",D$1=""),"",IFERROR(AVERAGEIFS(面接評価星取表!$T:$T,面接評価星取表!$B:$B,$A4,面接評価星取表!$C:$C,D$1),"")) -> 3 | E4: =IF(OR($A4="",E$1=""),"",IFERROR(AVERAGEIFS(面接評価星取表!$T:$T,面接評価星取表!$B:$B,$A4,面接評価星取表!$C:$C,E$1),"")) | F4: =IF(OR($A4="",F$1=""),"",IFERROR(AVERAGEIFS(面接評価星取表!$T:$T,面接評価星取表!$B:$B,$A4,面接評価星取表!$C:$C,F$1),"")) | G4: =IF(OR($A4="",G$1=""),"",IFERROR(AVERAGEIFS(面接評価星取表!$T:$T,面接評価星取表!$B:$B,$A4,面接評価星取表!$C:$C,G$1),"")) | H4: =IF(OR($A4="",H$1=""),"",IFERROR(AVERAGEIFS(面接評価星取表!$T:$T,面接評価星取表!$B:$B,$A4,面接評価星取表!$C:$C,H$1),"")) | I4: =IF(OR($A4="",I$1=""),"",IFERROR(AVERAGEIFS(面接評価星取表!$T:$T,面接評価星取表!$B:$B,$A4,面接評価星取表!$C:$C,I$1),"")) | ... K4: =IF(OR($A4="",K$1=""),"",IFERROR(AVERAGEIFS(面接評価星取表!$T:$T,面接評価星取表!$B:$B,$A4,面接評価星取表!$C:$C,K$1),"")) | L4: =IF($A4="","",IFERROR(AVERAGEIF(面接評価星取表!$B:$B,$A4,面接評価星取表!$T:$T),"")) -> 3.1428571 | M4: =IF(L4="","",IF(L4>=設定!$B$7,"合格","不合格")) -> 合格
A5: =設定!$D$5 -> 高橋 | B5: =IF(OR($A5="",B$1=""),"",IFERROR(AVERAGEIFS(面接評価星取表!$T:$T,面接評価星取表!$B:$B,$A5,面接評価星取表!$C:$C,B$1),"")) -> 2.1428571 | C5: =IF(OR($A5="",C$1=""),"",IFERROR(AVERAGEIFS(面接評価星取表!$T:$T,面接評価星取表!$B:$B,$A5,面接評価星取表!$C:$C,C$1),"")) -> 2.5714286 | D5: =IF(OR($A5="",D$1=""),"",IFERROR(AVERAGEIFS(面接評価星取表!$T:$T,面接評価星取表!$B:$B,$A5,面接評価星取表!$C:$C,D$1),"")) -> 2.4285714 | E5: =IF(OR($A5="",E$1=""),"",IFERROR(AVERAGEIFS(面接評価星取表!$T:$T,面接評価星取表!$B:$B,$A5,面接評価星取表!$C:$C,E$1),"")) | F5: =IF(OR($A5="",F$1=""),"",IFERROR(AVERAGEIFS(面接評価星取表!$T:$T,面接評価星取表!$B:$B,$A5,面接評価星取表!$C:$C,F$1),"")) | G5: =IF(OR($A5="",G$1=""),"",IFERROR(AVERAGEIFS(面接評価星取表!$T:$T,面接評価星取表!$B:$B,$A5,面接評価星取表!$C:$C,G$1),"")) | H5: =IF(OR($A5="",H$1=""),"",IFERROR(AVERAGEIFS(面接評価星取表!$T:$T,面接評価星取表!$B:$B,$A5,面接評価星取表!$C:$C,H$1),"")) | I5: =IF(OR($A5="",I$1=""),"",IFERROR(AVERAGEIFS(面接評価星取表!$T:$T,面接評価星取表!$B:$B,$A5,面接評価星取表!$C:$C,I$1),"")) | ... K5: =IF(OR($A5="",K$1=""),"",IFERROR(AVERAGEIFS(面接評価星取表!$T:$T,面接評価星取表!$B:$B,$A5,面接評価星取表!$C:$C,K$1),"")) | L5: =IF($A5="","",IFERROR(AVERAGEIF(面接評価星取表!$B:$B,$A5,面接評価星取表!$T:$T),"")) -> 2.3809524 | M5: =IF(L5="","",IF(L5>=設定!$B$7,"合格","不合格")) -> 不合格
A6: =設定!$D$6 -> 伊藤 | B6: =IF(OR($A6="",B$1=""),"",IFERROR(AVERAGEIFS(面接評価星取表!$T:$T,面接評価星取表!$B:$B,$A6,面接評価星取表!$C:$C,B$1),"")) -> 2.8571429 | C6: =IF(OR($A6="",C$1=""),"",IFERROR(AVERAGEIFS(面接評価星取表!$T:$T,面接評価星取表!$B:$B,$A6,面接評価星取表!$C:$C,C$1),"")) -> 3.2857143 | D6: =IF(OR($A6="",D$1=""),"",IFERROR(AVERAGEIFS(面接評価星取表!$T:$T,面接評価星取表!$B:$B,$A6,面接評価星取表!$C:$C,D$1),"")) -> 3.2857143 | E6: =IF(OR($A6="",E$1=""),"",IFERROR(AVERAGEIFS(面接評価星取表!$T:$T,面接評価星取表!$B:$B,$A6,面接評価星取表!$C:$C,E$1),"")) | F6: =IF(OR($A6="",F$1=""),"",IFERROR(AVERAGEIFS(面接評価星取表!$T:$T,面接評価星取表!$B:$B,$A6,面接評価星取表!$C:$C,F$1),"")) | G6: =IF(OR($A6="",G$1=""),"",IFERROR(AVERAGEIFS(面接評価星取表!$T:$T,面接評価星取表!$B:$B,$A6,面接評価星取表!$C:$C,G$1),"")) | H6: =IF(OR($A6="",H$1=""),"",IFERROR(AVERAGEIFS(面接評価星取表!$T:$T,面接評価星取表!$B:$B,$A6,面接評価星取表!$C:$C,H$1),"")) | I6: =IF(OR($A6="",I$1=""),"",IFERROR(AVERAGEIFS(面接評価星取表!$T:$T,面接評価星取表!$B:$B,$A6,面接評価星取表!$C:$C,I$1),"")) | ... K6: =IF(OR($A6="",K$1=""),"",IFERROR(AVERAGEIFS(面接評価星取表!$T:$T,面接評価星取表!$B:$B,$A6,面接評価星取表!$C:$C,K$1),"")) | L6: =IF($A6="","",IFERROR(AVERAGEIF(面接評価星取表!$B:$B,$A6,面接評価星取表!$T:$T),"")) -> 3.1428571 | M6: =IF(L6="","",IF(L6>=設定!$B$7,"合格","不合格")) -> 合格
A7: =設定!$D$7 -> 候補者6 | B7: =IF(OR($A7="",B$1=""),"",IFERROR(AVERAGEIFS(面接評価星取表!$T:$T,面接評価星取表!$B:$B,$A7,面接評価星取表!$C:$C,B$1),"")) | C7: =IF(OR($A7="",C$1=""),"",IFERROR(AVERAGEIFS(面接評価星取表!$T:$T,面接評価星取表!$B:$B,$A7,面接評価星取表!$C:$C,C$1),"")) | D7: =IF(OR($A7="",D$1=""),"",IFERROR(AVERAGEIFS(面接評価星取表!$T:$T,面接評価星取表!$B:$B,$A7,面接評価星取表!$C:$C,D$1),"")) | E7: =IF(OR($A7="",E$1=""),"",IFERROR(AVERAGEIFS(面接評価星取表!$T:$T,面接評価星取表!$B:$B,$A7,面接評価星取表!$C:$C,E$1),"")) | F7: =IF(OR($A7="",F$1=""),"",IFERROR(AVERAGEIFS(面接評価星取表!$T:$T,面接評価星取表!$B:$B,$A7,面接評価星取表!$C:$C,F$1),"")) | G7: =IF(OR($A7="",G$1=""),"",IFERROR(AVERAGEIFS(面接評価星取表!$T:$T,面接評価星取表!$B:$B,$A7,面接評価星取表!$C:$C,G$1),"")) | H7: =IF(OR($A7="",H$1=""),"",IFERROR(AVERAGEIFS(面接評価星取表!$T:$T,面接評価星取表!$B:$B,$A7,面接評価星取表!$C:$C,H$1),"")) | I7: =IF(OR($A7="",I$1=""),"",IFERROR(AVERAGEIFS(面接評価星取表!$T:$T,面接評価星取表!$B:$B,$A7,面接評価星取表!$C:$C,I$1),"")) | ... K7: =IF(OR($A7="",K$1=""),"",IFERROR(AVERAGEIFS(面接評価星取表!$T:$T,面接評価星取表!$B:$B,$A7,面接評価星取表!$C:$C,K$1),"")) | L7: =IF($A7="","",IFERROR(AVERAGEIF(面接評価星取表!$B:$B,$A7,面接評価星取表!$T:$T),"")) | M7: =IF(L7="","",IF(L7>=設定!$B$7,"合格","不合格"))
A8: =設定!$D$8 -> 候補者7 | B8: =IF(OR($A8="",B$1=""),"",IFERROR(AVERAGEIFS(面接評価星取表!$T:$T,面接評価星取表!$B:$B,$A8,面接評価星取表!$C:$C,B$1),"")) | C8: =IF(OR($A8="",C$1=""),"",IFERROR(AVERAGEIFS(面接評価星取表!$T:$T,面接評価星取表!$B:$B,$A8,面接評価星取表!$C:$C,C$1),"")) | D8: =IF(OR($A8="",D$1=""),"",IFERROR(AVERAGEIFS(面接評価星取表!$T:$T,面接評価星取表!$B:$B,$A8,面接評価星取表!$C:$C,D$1),"")) | E8: =IF(OR($A8="",E$1=""),"",IFERROR(AVERAGEIFS(面接評価星取表!$T:$T,面接評価星取表!$B:$B,$A8,面接評価星取表!$C:$C,E$1),"")) | F8: =IF(OR($A8="",F$1=""),"",IFERROR(AVERAGEIFS(面接評価星取表!$T:$T,面接評価星取表!$B:$B,$A8,面接評価星取表!$C:$C,F$1),"")) | G8: =IF(OR($A8="",G$1=""),"",IFERROR(AVERAGEIFS(面接評価星取表!$T:$T,面接評価星取表!$B:$B,$A8,面接評価星取表!$C:$C,G$1),"")) | H8: =IF(OR($A8="",H$1=""),"",IFERROR(AVERAGEIFS(面接評価星取表!$T:$T,面接評価星取表!$B:$B,$A8,面接評価星取表!$C:$C,H$1),"")) | I8: =IF(OR($A8="",I$1=""),"",IFERROR(AVERAGEIFS(面接評価星取表!$T:$T,面接評価星取表!$B:$B,$A8,面接評価星取表!$C:$C,I$1),"")) | ... K8: =IF(OR($A8="",K$1=""),"",IFERROR(AVERAGEIFS(面接評価星取表!$T:$T,面接評価星取表!$B:$B,$A8,面接評価星取表!$C:$C,K$1),"")) | L8: =IF($A8="","",IFERROR(AVERAGEIF(面接評価星取表!$B:$B,$A8,面接評価星取表!$T:$T),"")) | M8: =IF(L8="","",IF(L8>=設定!$B$7,"合格","不合格"))
A9: =設定!$D$9 -> 候補者8 | B9: =IF(OR($A9="",B$1=""),"",IFERROR(AVERAGEIFS(面接評価星取表!$T:$T,面接評価星取表!$B:$B,$A9,面接評価星取表!$C:$C,B$1),"")) | C9: =IF(OR($A9="",C$1=""),"",IFERROR(AVERAGEIFS(面接評価星取表!$T:$T,面接評価星取表!$B:$B,$A9,面接評価星取表!$C:$C,C$1),"")) | D9: =IF(OR($A9="",D$1=""),"",IFERROR(AVERAGEIFS(面接評価星取表!$T:$T,面接評価星取表!$B:$B,$A9,面接評価星取表!$C:$C,D$1),"")) | E9: =IF(OR($A9="",E$1=""),"",IFERROR(AVERAGEIFS(面接評価星取表!$T:$T,面接評価星取表!$B:$B,$A9,面接評価星取表!$C:$C,E$1),"")) | F9: =IF(OR($A9="",F$1=""),"",IFERROR(AVERAGEIFS(面接評価星取表!$T:$T,面接評価星取表!$B:$B,$A9,面接評価星取表!$C:$C,F$1),"")) | G9: =IF(OR($A9="",G$1=""),"",IFERROR(AVERAGEIFS(面接評価星取表!$T:$T,面接評価星取表!$B:$B,$A9,面接評価星取表!$C:$C,G$1),"")) | H9: =IF(OR($A9="",H$1=""),"",IFERROR(AVERAGEIFS(面接評価星取表!$T:$T,面接評価星取表!$B:$B,$A9,面接評価星取表!$C:$C,H$1),"")) | I9: =IF(OR($A9="",I$1=""),"",IFERROR(AVERAGEIFS(面接評価星取表!$T:$T,面接評価星取表!$B:$B,$A9,面接評価星取表!$C:$C,I$1),"")) | ... K9: =IF(OR($A9="",K$1=""),"",IFERROR(AVERAGEIFS(面接評価星取表!$T:$T,面接評価星取表!$B:$B,$A9,面接評価星取表!$C:$C,K$1),"")) | L9: =IF($A9="","",IFERROR(AVERAGEIF(面接評価星取表!$B:$B,$A9,面接評価星取表!$T:$T),"")) | M9: =IF(L9="","",IF(L9>=設定!$B$7,"合格","不合格"))
A10: =設定!$D$10 -> 候補者9 | B10: =IF(OR($A10="",B$1=""),"",IFERROR(AVERAGEIFS(面接評価星取表!$T:$T,面接評価星取表!$B:$B,$A10,面接評価星取表!$C:$C,B$1),"")) | C10: =IF(OR($A10="",C$1=""),"",IFERROR(AVERAGEIFS(面接評価星取表!$T:$T,面接評価星取表!$B:$B,$A10,面接評価星取表!$C:$C,C$1),"")) | D10: =IF(OR($A10="",D$1=""),"",IFERROR(AVERAGEIFS(面接評価星取表!$T:$T,面接評価星取表!$B:$B,$A10,面接評価星取表!$C:$C,D$1),"")) | E10: =IF(OR($A10="",E$1=""),"",IFERROR(AVERAGEIFS(面接評価星取表!$T:$T,面接評価星取表!$B:$B,$A10,面接評価星取表!$C:$C,E$1),"")) | F10: =IF(OR($A10="",F$1=""),"",IFERROR(AVERAGEIFS(面接評価星取表!$T:$T,面接評価星取表!$B:$B,$A10,面接評価星取表!$C:$C,F$1),"")) | G10: =IF(OR($A10="",G$1=""),"",IFERROR(AVERAGEIFS(面接評価星取表!$T:$T,面接評価星取表!$B:$B,$A10,面接評価星取表!$C:$C,G$1),"")) | H10: =IF(OR($A10="",H$1=""),"",IFERROR(AVERAGEIFS(面接評価星取表!$T:$T,面接評価星取表!$B:$B,$A10,面接評価星取表!$C:$C,H$1),"")) | I10: =IF(OR($A10="",I$1=""),"",IFERROR(AVERAGEIFS(面接評価星取表!$T:$T,面接評価星取表!$B:$B,$A10,面接評価星取表!$C:$C,I$1),"")) | ... K10: =IF(OR($A10="",K$1=""),"",IFERROR(AVERAGEIFS(面接評価星取表!$T:$T,面接評価星取表!$B:$B,$A10,面接評価星取表!$C:$C,K$1),"")) | L10: =IF($A10="","",IFERROR(AVERAGEIF(面接評価星取表!$B:$B,$A10,面接評価星取表!$T:$T),"")) | M10: =IF(L10="","",IF(L10>=設定!$B$7,"合格","不合格"))
A11: =設定!$D$11 -> 候補者10 | B11: =IF(OR($A11="",B$1=""),"",IFERROR(AVERAGEIFS(面接評価星取表!$T:$T,面接評価星取表!$B:$B,$A11,面接評価星取表!$C:$C,B$1),"")) | C11: =IF(OR($A11="",C$1=""),"",IFERROR(AVERAGEIFS(面接評価星取表!$T:$T,面接評価星取表!$B:$B,$A11,面接評価星取表!$C:$C,C$1),"")) | D11: =IF(OR($A11="",D$1=""),"",IFERROR(AVERAGEIFS(面接評価星取表!$T:$T,面接評価星取表!$B:$B,$A11,面接評価星取表!$C:$C,D$1),"")) | E11: =IF(OR($A11="",E$1=""),"",IFERROR(AVERAGEIFS(面接評価星取表!$T:$T,面接評価星取表!$B:$B,$A11,面接評価星取表!$C:$C,E$1),"")) | F11: =IF(OR($A11="",F$1=""),"",IFERROR(AVERAGEIFS(面接評価星取表!$T:$T,面接評価星取表!$B:$B,$A11,面接評価星取表!$C:$C,F$1),"")) | G11: =IF(OR($A11="",G$1=""),"",IFERROR(AVERAGEIFS(面接評価星取表!$T:$T,面接評価星取表!$B:$B,$A11,面接評価星取表!$C:$C,G$1),"")) | H11: =IF(OR($A11="",H$1=""),"",IFERROR(AVERAGEIFS(面接評価星取表!$T:$T,面接評価星取表!$B:$B,$A11,面接評価星取表!$C:$C,H$1),"")) | I11: =IF(OR($A11="",I$1=""),"",IFERROR(AVERAGEIFS(面接評価星取表!$T:$T,面接評価星取表!$B:$B,$A11,面接評価星取表!$C:$C,I$1),"")) | ... K11: =IF(OR($A11="",K$1=""),"",IFERROR(AVERAGEIFS(面接評価星取表!$T:$T,面接評価星取表!$B:$B,$A11,面接評価星取表!$C:$C,K$1),"")) | L11: =IF($A11="","",IFERROR(AVERAGEIF(面接評価星取表!$B:$B,$A11,面接評価星取表!$T:$T),"")) | M11: =IF(L11="","",IF(L11>=設定!$B$7,"合格","不合格"))
A12: =設定!$D$12 -> 0 | B12: =IF(OR($A12="",B$1=""),"",IFERROR(AVERAGEIFS(面接評価星取表!$T:$T,面接評価星取表!$B:$B,$A12,面接評価星取表!$C:$C,B$1),"")) | C12: =IF(OR($A12="",C$1=""),"",IFERROR(AVERAGEIFS(面接評価星取表!$T:$T,面接評価星取表!$B:$B,$A12,面接評価星取表!$C:$C,C$1),"")) | D12: =IF(OR($A12="",D$1=""),"",IFERROR(AVERAGEIFS(面接評価星取表!$T:$T,面接評価星取表!$B:$B,$A12,面接評価星取表!$C:$C,D$1),"")) | E12: =IF(OR($A12="",E$1=""),"",IFERROR(AVERAGEIFS(面接評価星取表!$T:$T,面接評価星取表!$B:$B,$A12,面接評価星取表!$C:$C,E$1),"")) | F12: =IF(OR($A12="",F$1=""),"",IFERROR(AVERAGEIFS(面接評価星取表!$T:$T,面接評価星取表!$B:$B,$A12,面接評価星取表!$C:$C,F$1),"")) | G12: =IF(OR($A12="",G$1=""),"",IFERROR(AVERAGEIFS(面接評価星取表!$T:$T,面接評価星取表!$B:$B,$A12,面接評価星取表!$C:$C,G$1),"")) | H12: =IF(OR($A12="",H$1=""),"",IFERROR(AVERAGEIFS(面接評価星取表!$T:$T,面接評価星取表!$B:$B,$A12,面接評価星取表!$C:$C,H$1),"")) | I12: =IF(OR($A12="",I$1=""),"",IFERROR(AVERAGEIFS(面接評価星取表!$T:$T,面接評価星取表!$B:$B,$A12,面接評価星取表!$C:$C,I$1),"")) | ... K12: =IF(OR($A12="",K$1=""),"",IFERROR(AVERAGEIFS(面接評価星取表!$T:$T,面接評価星取表!$B:$B,$A12,面接評価星取表!$C:$C,K$1),"")) | L12: =IF($A12="","",IFERROR(AVERAGEIF(面接評価星取表!$B:$B,$A12,面接評価星取表!$T:$T),"")) | M12: =IF(L12="","",IF(L12>=設定!$B$7,"合格","不合格"))
A13: =設定!$D$13 -> 0 | B13: =IF(OR($A13="",B$1=""),"",IFERROR(AVERAGEIFS(面接評価星取表!$T:$T,面接評価星取表!$B:$B,$A13,面接評価星取表!$C:$C,B$1),"")) | C13: =IF(OR($A13="",C$1=""),"",IFERROR(AVERAGEIFS(面接評価星取表!$T:$T,面接評価星取表!$B:$B,$A13,面接評価星取表!$C:$C,C$1),"")) | D13: =IF(OR($A13="",D$1=""),"",IFERROR(AVERAGEIFS(面接評価星取表!$T:$T,面接評価星取表!$B:$B,$A13,面接評価星取表!$C:$C,D$1),"")) | E13: =IF(OR($A13="",E$1=""),"",IFERROR(AVERAGEIFS(面接評価星取表!$T:$T,面接評価星取表!$B:$B,$A13,面接評価星取表!$C:$C,E$1),"")) | F13: =IF(OR($A13="",F$1=""),"",IFERROR(AVERAGEIFS(面接評価星取表!$T:$T,面接評価星取表!$B:$B,$A13,面接評価星取表!$C:$C,F$1),"")) | G13: =IF(OR($A13="",G$1=""),"",IFERROR(AVERAGEIFS(面接評価星取表!$T:$T,面接評価星取表!$B:$B,$A13,面接評価星取表!$C:$C,G$1),"")) | H13: =IF(OR($A13="",H$1=""),"",IFERROR(AVERAGEIFS(面接評価星取表!$T:$T,面接評価星取表!$B:$B,$A13,面接評価星取表!$C:$C,H$1),"")) | I13: =IF(OR($A13="",I$1=""),"",IFERROR(AVERAGEIFS(面接評価星取表!$T:$T,面接評価星取表!$B:$B,$A13,面接評価星取表!$C:$C,I$1),"")) | ... K13: =IF(OR($A13="",K$1=""),"",IFERROR(AVERAGEIFS(面接評価星取表!$T:$T,面接評価星取表!$B:$B,$A13,面接評価星取表!$C:$C,K$1),"")) | L13: =IF($A13="","",IFERROR(AVERAGEIF(面接評価星取表!$B:$B,$A13,面接評価星取表!$T:$T),"")) | M13: =IF(L13="","",IF(L13>=設定!$B$7,"合格","不合格"))
A14: =設定!$D$14 -> 0 | B14: =IF(OR($A14="",B$1=""),"",IFERROR(AVERAGEIFS(面接評価星取表!$T:$T,面接評価星取表!$B:$B,$A14,面接評価星取表!$C:$C,B$1),"")) | C14: =IF(OR($A14="",C$1=""),"",IFERROR(AVERAGEIFS(面接評価星取表!$T:$T,面接評価星取表!$B:$B,$A14,面接評価星取表!$C:$C,C$1),"")) | D14: =IF(OR($A14="",D$1=""),"",IFERROR(AVERAGEIFS(面接評価星取表!$T:$T,面接評価星取表!$B:$B,$A14,面接評価星取表!$C:$C,D$1),"")) | E14: =IF(OR($A14="",E$1=""),"",IFERROR(AVERAGEIFS(面接評価星取表!$T:$T,面接評価星取表!$B:$B,$A14,面接評価星取表!$C:$C,E$1),"")) | F14: =IF(OR($A14="",F$1=""),"",IFERROR(AVERAGEIFS(面接評価星取表!$T:$T,面接評価星取表!$B:$B,$A14,面接評価星取表!$C:$C,F$1),"")) | G14: =IF(OR($A14="",G$1=""),"",IFERROR(AVERAGEIFS(面接評価星取表!$T:$T,面接評価星取表!$B:$B,$A14,面接評価星取表!$C:$C,G$1),"")) | H14: =IF(OR($A14="",H$1=""),"",IFERROR(AVERAGEIFS(面接評価星取表!$T:$T,面接評価星取表!$B:$B,$A14,面接評価星取表!$C:$C,H$1),"")) | I14: =IF(OR($A14="",I$1=""),"",IFERROR(AVERAGEIFS(面接評価星取表!$T:$T,面接評価星取表!$B:$B,$A14,面接評価星取表!$C:$C,I$1),"")) | ... K14: =IF(OR($A14="",K$1=""),"",IFERROR(AVERAGEIFS(面接評価星取表!$T:$T,面接評価星取表!$B:$B,$A14,面接評価星取表!$C:$C,K$1),"")) | L14: =IF($A14="","",IFERROR(AVERAGEIF(面接評価星取表!$B:$B,$A14,面接評価星取表!$T:$T),"")) | M14: =IF(L14="","",IF(L14>=設定!$B$7,"合格","不合格"))
A15: =設定!$D$15 -> 0 | B15: =IF(OR($A15="",B$1=""),"",IFERROR(AVERAGEIFS(面接評価星取表!$T:$T,面接評価星取表!$B:$B,$A15,面接評価星取表!$C:$C,B$1),"")) | C15: =IF(OR($A15="",C$1=""),"",IFERROR(AVERAGEIFS(面接評価星取表!$T:$T,面接評価星取表!$B:$B,$A15,面接評価星取表!$C:$C,C$1),"")) | D15: =IF(OR($A15="",D$1=""),"",IFERROR(AVERAGEIFS(面接評価星取表!$T:$T,面接評価星取表!$B:$B,$A15,面接評価星取表!$C:$C,D$1),"")) | E15: =IF(OR($A15="",E$1=""),"",IFERROR(AVERAGEIFS(面接評価星取表!$T:$T,面接評価星取表!$B:$B,$A15,面接評価星取表!$C:$C,E$1),"")) | F15: =IF(OR($A15="",F$1=""),"",IFERROR(AVERAGEIFS(面接評価星取表!$T:$T,面接評価星取表!$B:$B,$A15,面接評価星取表!$C:$C,F$1),"")) | G15: =IF(OR($A15="",G$1=""),"",IFERROR(AVERAGEIFS(面接評価星取表!$T:$T,面接評価星取表!$B:$B,$A15,面接評価星取表!$C:$C,G$1),"")) | H15: =IF(OR($A15="",H$1=""),"",IFERROR(AVERAGEIFS(面接評価星取表!$T:$T,面接評価星取表!$B:$B,$A15,面接評価星取表!$C:$C,H$1),"")) | I15: =IF(OR($A15="",I$1=""),"",IFERROR(AVERAGEIFS(面接評価星取表!$T:$T,面接評価星取表!$B:$B,$A15,面接評価星取表!$C:$C,I$1),"")) | ... K15: =IF(OR($A15="",K$1=""),"",IFERROR(AVERAGEIFS(面接評価星取表!$T:$T,面接評価星取表!$B:$B,$A15,面接評価星取表!$C:$C,K$1),"")) | L15: =IF($A15="","",IFERROR(AVERAGEIF(面接評価星取表!$B:$B,$A15,面接評価星取表!$T:$T),"")) | M15: =IF(L15="","",IF(L15>=設定!$B$7,"合格","不合格"))
A16: =設定!$D$16 -> 0 | B16: =IF(OR($A16="",B$1=""),"",IFERROR(AVERAGEIFS(面接評価星取表!$T:$T,面接評価星取表!$B:$B,$A16,面接評価星取表!$C:$C,B$1),"")) | C16: =IF(OR($A16="",C$1=""),"",IFERROR(AVERAGEIFS(面接評価星取表!$T:$T,面接評価星取表!$B:$B,$A16,面接評価星取表!$C:$C,C$1),"")) | D16: =IF(OR($A16="",D$1=""),"",IFERROR(AVERAGEIFS(面接評価星取表!$T:$T,面接評価星取表!$B:$B,$A16,面接評価星取表!$C:$C,D$1),"")) | E16: =IF(OR($A16="",E$1=""),"",IFERROR(AVERAGEIFS(面接評価星取表!$T:$T,面接評価星取表!$B:$B,$A16,面接評価星取表!$C:$C,E$1),"")) | F16: =IF(OR($A16="",F$1=""),"",IFERROR(AVERAGEIFS(面接評価星取表!$T:$T,面接評価星取表!$B:$B,$A16,面接評価星取表!$C:$C,F$1),"")) | G16: =IF(OR($A16="",G$1=""),"",IFERROR(AVERAGEIFS(面接評価星取表!$T:$T,面接評価星取表!$B:$B,$A16,面接評価星取表!$C:$C,G$1),"")) | H16: =IF(OR($A16="",H$1=""),"",IFERROR(AVERAGEIFS(面接評価星取表!$T:$T,面接評価星取表!$B:$B,$A16,面接評価星取表!$C:$C,H$1),"")) | I16: =IF(OR($A16="",I$1=""),"",IFERROR(AVERAGEIFS(面接評価星取表!$T:$T,面接評価星取表!$B:$B,$A16,面接評価星取表!$C:$C,I$1),"")) | ... K16: =IF(OR($A16="",K$1=""),"",IFERROR(AVERAGEIFS(面接評価星取表!$T:$T,面接評価星取表!$B:$B,$A16,面接評価星取表!$C:$C,K$1),"")) | L16: =IF($A16="","",IFERROR(AVERAGEIF(面接評価星取表!$B:$B,$A16,面接評価星取表!$T:$T),"")) | M16: =IF(L16="","",IF(L16>=設定!$B$7,"合格","不合格"))
A17: =設定!$D$17 -> 0 | B17: =IF(OR($A17="",B$1=""),"",IFERROR(AVERAGEIFS(面接評価星取表!$T:$T,面接評価星取表!$B:$B,$A17,面接評価星取表!$C:$C,B$1),"")) | C17: =IF(OR($A17="",C$1=""),"",IFERROR(AVERAGEIFS(面接評価星取表!$T:$T,面接評価星取表!$B:$B,$A17,面接評価星取表!$C:$C,C$1),"")) | D17: =IF(OR($A17="",D$1=""),"",IFERROR(AVERAGEIFS(面接評価星取表!$T:$T,面接評価星取表!$B:$B,$A17,面接評価星取表!$C:$C,D$1),"")) | E17: =IF(OR($A17="",E$1=""),"",IFERROR(AVERAGEIFS(面接評価星取表!$T:$T,面接評価星取表!$B:$B,$A17,面接評価星取表!$C:$C,E$1),"")) | F17: =IF(OR($A17="",F$1=""),"",IFERROR(AVERAGEIFS(面接評価星取表!$T:$T,面接評価星取表!$B:$B,$A17,面接評価星取表!$C:$C,F$1),"")) | G17: =IF(OR($A17="",G$1=""),"",IFERROR(AVERAGEIFS(面接評価星取表!$T:$T,面接評価星取表!$B:$B,$A17,面接評価星取表!$C:$C,G$1),"")) | H17: =IF(OR($A17="",H$1=""),"",IFERROR(AVERAGEIFS(面接評価星取表!$T:$T,面接評価星取表!$B:$B,$A17,面接評価星取表!$C:$C,H$1),"")) | I17: =IF(OR($A17="",I$1=""),"",IFERROR(AVERAGEIFS(面接評価星取表!$T:$T,面接評価星取表!$B:$B,$A17,面接評価星取表!$C:$C,I$1),"")) | ... K17: =IF(OR($A17="",K$1=""),"",IFERROR(AVERAGEIFS(面接評価星取表!$T:$T,面接評価星取表!$B:$B,$A17,面接評価星取表!$C:$C,K$1),"")) | L17: =IF($A17="","",IFERROR(AVERAGEIF(面接評価星取表!$B:$B,$A17,面接評価星取表!$T:$T),"")) | M17: =IF(L17="","",IF(L17>=設定!$B$7,"合格","不合格"))
A18: =設定!$D$18 -> 0 | B18: =IF(OR($A18="",B$1=""),"",IFERROR(AVERAGEIFS(面接評価星取表!$T:$T,面接評価星取表!$B:$B,$A18,面接評価星取表!$C:$C,B$1),"")) | C18: =IF(OR($A18="",C$1=""),"",IFERROR(AVERAGEIFS(面接評価星取表!$T:$T,面接評価星取表!$B:$B,$A18,面接評価星取表!$C:$C,C$1),"")) | D18: =IF(OR($A18="",D$1=""),"",IFERROR(AVERAGEIFS(面接評価星取表!$T:$T,面接評価星取表!$B:$B,$A18,面接評価星取表!$C:$C,D$1),"")) | E18: =IF(OR($A18="",E$1=""),"",IFERROR(AVERAGEIFS(面接評価星取表!$T:$T,面接評価星取表!$B:$B,$A18,面接評価星取表!$C:$C,E$1),"")) | F18: =IF(OR($A18="",F$1=""),"",IFERROR(AVERAGEIFS(面接評価星取表!$T:$T,面接評価星取表!$B:$B,$A18,面接評価星取表!$C:$C,F$1),"")) | G18: =IF(OR($A18="",G$1=""),"",IFERROR(AVERAGEIFS(面接評価星取表!$T:$T,面接評価星取表!$B:$B,$A18,面接評価星取表!$C:$C,G$1),"")) | H18: =IF(OR($A18="",H$1=""),"",IFERROR(AVERAGEIFS(面接評価星取表!$T:$T,面接評価星取表!$B:$B,$A18,面接評価星取表!$C:$C,H$1),"")) | I18: =IF(OR($A18="",I$1=""),"",IFERROR(AVERAGEIFS(面接評価星取表!$T:$T,面接評価星取表!$B:$B,$A18,面接評価星取表!$C:$C,I$1),"")) | ... K18: =IF(OR($A18="",K$1=""),"",IFERROR(AVERAGEIFS(面接評価星取表!$T:$T,面接評価星取表!$B:$B,$A18,面接評価星取表!$C:$C,K$1),"")) | L18: =IF($A18="","",IFERROR(AVERAGEIF(面接評価星取表!$B:$B,$A18,面接評価星取表!$T:$T),"")) | M18: =IF(L18="","",IF(L18>=設定!$B$7,"合格","不合格"))
A19: =設定!$D$19 -> 0 | B19: =IF(OR($A19="",B$1=""),"",IFERROR(AVERAGEIFS(面接評価星取表!$T:$T,面接評価星取表!$B:$B,$A19,面接評価星取表!$C:$C,B$1),"")) | C19: =IF(OR($A19="",C$1=""),"",IFERROR(AVERAGEIFS(面接評価星取表!$T:$T,面接評価星取表!$B:$B,$A19,面接評価星取表!$C:$C,C$1),"")) | D19: =IF(OR($A19="",D$1=""),"",IFERROR(AVERAGEIFS(面接評価星取表!$T:$T,面接評価星取表!$B:$B,$A19,面接評価星取表!$C:$C,D$1),"")) | E19: =IF(OR($A19="",E$1=""),"",IFERROR(AVERAGEIFS(面接評価星取表!$T:$T,面接評価星取表!$B:$B,$A19,面接評価星取表!$C:$C,E$1),"")) | F19: =IF(OR($A19="",F$1=""),"",IFERROR(AVERAGEIFS(面接評価星取表!$T:$T,面接評価星取表!$B:$B,$A19,面接評価星取表!$C:$C,F$1),"")) | G19: =IF(OR($A19="",G$1=""),"",IFERROR(AVERAGEIFS(面接評価星取表!$T:$T,面接評価星取表!$B:$B,$A19,面接評価星取表!$C:$C,G$1),"")) | H19: =IF(OR($A19="",H$1=""),"",IFERROR(AVERAGEIFS(面接評価星取表!$T:$T,面接評価星取表!$B:$B,$A19,面接評価星取表!$C:$C,H$1),"")) | I19: =IF(OR($A19="",I$1=""),"",IFERROR(AVERAGEIFS(面接評価星取表!$T:$T,面接評価星取表!$B:$B,$A19,面接評価星取表!$C:$C,I$1),"")) | ... K19: =IF(OR($A19="",K$1=""),"",IFERROR(AVERAGEIFS(面接評価星取表!$T:$T,面接評価星取表!$B:$B,$A19,面接評価星取表!$C:$C,K$1),"")) | L19: =IF($A19="","",IFERROR(AVERAGEIF(面接評価星取表!$B:$B,$A19,面接評価星取表!$T:$T),"")) | M19: =IF(L19="","",IF(L19>=設定!$B$7,"合格","不合格"))
A20: =設定!$D$20 -> 0 | B20: =IF(OR($A20="",B$1=""),"",IFERROR(AVERAGEIFS(面接評価星取表!$T:$T,面接評価星取表!$B:$B,$A20,面接評価星取表!$C:$C,B$1),"")) | C20: =IF(OR($A20="",C$1=""),"",IFERROR(AVERAGEIFS(面接評価星取表!$T:$T,面接評価星取表!$B:$B,$A20,面接評価星取表!$C:$C,C$1),"")) | D20: =IF(OR($A20="",D$1=""),"",IFERROR(AVERAGEIFS(面接評価星取表!$T:$T,面接評価星取表!$B:$B,$A20,面接評価星取表!$C:$C,D$1),"")) | E20: =IF(OR($A20="",E$1=""),"",IFERROR(AVERAGEIFS(面接評価星取表!$T:$T,面接評価星取表!$B:$B,$A20,面接評価星取表!$C:$C,E$1),"")) | F20: =IF(OR($A20="",F$1=""),"",IFERROR(AVERAGEIFS(面接評価星取表!$T:$T,面接評価星取表!$B:$B,$A20,面接評価星取表!$C:$C,F$1),"")) | G20: =IF(OR($A20="",G$1=""),"",IFERROR(AVERAGEIFS(面接評価星取表!$T:$T,面接評価星取表!$B:$B,$A20,面接評価星取表!$C:$C,G$1),"")) | H20: =IF(OR($A20="",H$1=""),"",IFERROR(AVERAGEIFS(面接評価星取表!$T:$T,面接評価星取表!$B:$B,$A20,面接評価星取表!$C:$C,H$1),"")) | I20: =IF(OR($A20="",I$1=""),"",IFERROR(AVERAGEIFS(面接評価星取表!$T:$T,面接評価星取表!$B:$B,$A20,面接評価星取表!$C:$C,I$1),"")) | ... K20: =IF(OR($A20="",K$1=""),"",IFERROR(AVERAGEIFS(面接評価星取表!$T:$T,面接評価星取表!$B:$B,$A20,面接評価星取表!$C:$C,K$1),"")) | L20: =IF($A20="","",IFERROR(AVERAGEIF(面接評価星取表!$B:$B,$A20,面接評価星取表!$T:$T),"")) | M20: =IF(L20="","",IF(L20>=設定!$B$7,"合格","不合格"))
A21: =設定!$D$21 -> 0 | B21: =IF(OR($A21="",B$1=""),"",IFERROR(AVERAGEIFS(面接評価星取表!$T:$T,面接評価星取表!$B:$B,$A21,面接評価星取表!$C:$C,B$1),"")) | C21: =IF(OR($A21="",C$1=""),"",IFERROR(AVERAGEIFS(面接評価星取表!$T:$T,面接評価星取表!$B:$B,$A21,面接評価星取表!$C:$C,C$1),"")) | D21: =IF(OR($A21="",D$1=""),"",IFERROR(AVERAGEIFS(面接評価星取表!$T:$T,面接評価星取表!$B:$B,$A21,面接評価星取表!$C:$C,D$1),"")) | E21: =IF(OR($A21="",E$1=""),"",IFERROR(AVERAGEIFS(面接評価星取表!$T:$T,面接評価星取表!$B:$B,$A21,面接評価星取表!$C:$C,E$1),"")) | F21: =IF(OR($A21="",F$1=""),"",IFERROR(AVERAGEIFS(面接評価星取表!$T:$T,面接評価星取表!$B:$B,$A21,面接評価星取表!$C:$C,F$1),"")) | G21: =IF(OR($A21="",G$1=""),"",IFERROR(AVERAGEIFS(面接評価星取表!$T:$T,面接評価星取表!$B:$B,$A21,面接評価星取表!$C:$C,G$1),"")) | H21: =IF(OR($A21="",H$1=""),"",IFERROR(AVERAGEIFS(面接評価星取表!$T:$T,面接評価星取表!$B:$B,$A21,面接評価星取表!$C:$C,H$1),"")) | I21: =IF(OR($A21="",I$1=""),"",IFERROR(AVERAGEIFS(面接評価星取表!$T:$T,面接評価星取表!$B:$B,$A21,面接評価星取表!$C:$C,I$1),"")) | ... K21: =IF(OR($A21="",K$1=""),"",IFERROR(AVERAGEIFS(面接評価星取表!$T:$T,面接評価星取表!$B:$B,$A21,面接評価星取表!$C:$C,K$1),"")) | L21: =IF($A21="","",IFERROR(AVERAGEIF(面接評価星取表!$B:$B,$A21,面接評価星取表!$T:$T),"")) | M21: =IF(L21="","",IF(L21>=設定!$B$7,"合格","不合格"))
A22: =設定!$D$22 -> 0 | B22: =IF(OR($A22="",B$1=""),"",IFERROR(AVERAGEIFS(面接評価星取表!$T:$T,面接評価星取表!$B:$B,$A22,面接評価星取表!$C:$C,B$1),"")) | C22: =IF(OR($A22="",C$1=""),"",IFERROR(AVERAGEIFS(面接評価星取表!$T:$T,面接評価星取表!$B:$B,$A22,面接評価星取表!$C:$C,C$1),"")) | D22: =IF(OR($A22="",D$1=""),"",IFERROR(AVERAGEIFS(面接評価星取表!$T:$T,面接評価星取表!$B:$B,$A22,面接評価星取表!$C:$C,D$1),"")) | E22: =IF(OR($A22="",E$1=""),"",IFERROR(AVERAGEIFS(面接評価星取表!$T:$T,面接評価星取表!$B:$B,$A22,面接評価星取表!$C:$C,E$1),"")) | F22: =IF(OR($A22="",F$1=""),"",IFERROR(AVERAGEIFS(面接評価星取表!$T:$T,面接評価星取表!$B:$B,$A22,面接評価星取表!$C:$C,F$1),"")) | G22: =IF(OR($A22="",G$1=""),"",IFERROR(AVERAGEIFS(面接評価星取表!$T:$T,面接評価星取表!$B:$B,$A22,面接評価星取表!$C:$C,G$1),"")) | H22: =IF(OR($A22="",H$1=""),"",IFERROR(AVERAGEIFS(面接評価星取表!$T:$T,面接評価星取表!$B:$B,$A22,面接評価星取表!$C:$C,H$1),"")) | I22: =IF(OR($A22="",I$1=""),"",IFERROR(AVERAGEIFS(面接評価星取表!$T:$T,面接評価星取表!$B:$B,$A22,面接評価星取表!$C:$C,I$1),"")) | ... K22: =IF(OR($A22="",K$1=""),"",IFERROR(AVERAGEIFS(面接評価星取表!$T:$T,面接評価星取表!$B:$B,$A22,面接評価星取表!$C:$C,K$1),"")) | L22: =IF($A22="","",IFERROR(AVERAGEIF(面接評価星取表!$B:$B,$A22,面接評価星取表!$T:$T),"")) | M22: =IF(L22="","",IF(L22>=設定!$B$7,"合格","不合格"))
A23: =設定!$D$23 -> 0 | B23: =IF(OR($A23="",B$1=""),"",IFERROR(AVERAGEIFS(面接評価星取表!$T:$T,面接評価星取表!$B:$B,$A23,面接評価星取表!$C:$C,B$1),"")) | C23: =IF(OR($A23="",C$1=""),"",IFERROR(AVERAGEIFS(面接評価星取表!$T:$T,面接評価星取表!$B:$B,$A23,面接評価星取表!$C:$C,C$1),"")) | D23: =IF(OR($A23="",D$1=""),"",IFERROR(AVERAGEIFS(面接評価星取表!$T:$T,面接評価星取表!$B:$B,$A23,面接評価星取表!$C:$C,D$1),"")) | E23: =IF(OR($A23="",E$1=""),"",IFERROR(AVERAGEIFS(面接評価星取表!$T:$T,面接評価星取表!$B:$B,$A23,面接評価星取表!$C:$C,E$1),"")) | F23: =IF(OR($A23="",F$1=""),"",IFERROR(AVERAGEIFS(面接評価星取表!$T:$T,面接評価星取表!$B:$B,$A23,面接評価星取表!$C:$C,F$1),"")) | G23: =IF(OR($A23="",G$1=""),"",IFERROR(AVERAGEIFS(面接評価星取表!$T:$T,面接評価星取表!$B:$B,$A23,面接評価星取表!$C:$C,G$1),"")) | H23: =IF(OR($A23="",H$1=""),"",IFERROR(AVERAGEIFS(面接評価星取表!$T:$T,面接評価星取表!$B:$B,$A23,面接評価星取表!$C:$C,H$1),"")) | I23: =IF(OR($A23="",I$1=""),"",IFERROR(AVERAGEIFS(面接評価星取表!$T:$T,面接評価星取表!$B:$B,$A23,面接評価星取表!$C:$C,I$1),"")) | ... K23: =IF(OR($A23="",K$1=""),"",IFERROR(AVERAGEIFS(面接評価星取表!$T:$T,面接評価星取表!$B:$B,$A23,面接評価星取表!$C:$C,K$1),"")) | L23: =IF($A23="","",IFERROR(AVERAGEIF(面接評価星取表!$B:$B,$A23,面接評価星取表!$T:$T),"")) | M23: =IF(L23="","",IF(L23>=設定!$B$7,"合格","不合格"))
A24: =設定!$D$24 -> 0 | B24: =IF(OR($A24="",B$1=""),"",IFERROR(AVERAGEIFS(面接評価星取表!$T:$T,面接評価星取表!$B:$B,$A24,面接評価星取表!$C:$C,B$1),"")) | C24: =IF(OR($A24="",C$1=""),"",IFERROR(AVERAGEIFS(面接評価星取表!$T:$T,面接評価星取表!$B:$B,$A24,面接評価星取表!$C:$C,C$1),"")) | D24: =IF(OR($A24="",D$1=""),"",IFERROR(AVERAGEIFS(面接評価星取表!$T:$T,面接評価星取表!$B:$B,$A24,面接評価星取表!$C:$C,D$1),"")) | E24: =IF(OR($A24="",E$1=""),"",IFERROR(AVERAGEIFS(面接評価星取表!$T:$T,面接評価星取表!$B:$B,$A24,面接評価星取表!$C:$C,E$1),"")) | F24: =IF(OR($A24="",F$1=""),"",IFERROR(AVERAGEIFS(面接評価星取表!$T:$T,面接評価星取表!$B:$B,$A24,面接評価星取表!$C:$C,F$1),"")) | G24: =IF(OR($A24="",G$1=""),"",IFERROR(AVERAGEIFS(面接評価星取表!$T:$T,面接評価星取表!$B:$B,$A24,面接評価星取表!$C:$C,G$1),"")) | H24: =IF(OR($A24="",H$1=""),"",IFERROR(AVERAGEIFS(面接評価星取表!$T:$T,面接評価星取表!$B:$B,$A24,面接評価星取表!$C:$C,H$1),"")) | I24: =IF(OR($A24="",I$1=""),"",IFERROR(AVERAGEIFS(面接評価星取表!$T:$T,面接評価星取表!$B:$B,$A24,面接評価星取表!$C:$C,I$1),"")) | ... K24: =IF(OR($A24="",K$1=""),"",IFERROR(AVERAGEIFS(面接評価星取表!$T:$T,面接評価星取表!$B:$B,$A24,面接評価星取表!$C:$C,K$1),"")) | L24: =IF($A24="","",IFERROR(AVERAGEIF(面接評価星取表!$B:$B,$A24,面接評価星取表!$T:$T),"")) | M24: =IF(L24="","",IF(L24>=設定!$B$7,"合格","不合格"))
A25: =設定!$D$25 -> 0 | B25: =IF(OR($A25="",B$1=""),"",IFERROR(AVERAGEIFS(面接評価星取表!$T:$T,面接評価星取表!$B:$B,$A25,面接評価星取表!$C:$C,B$1),"")) | C25: =IF(OR($A25="",C$1=""),"",IFERROR(AVERAGEIFS(面接評価星取表!$T:$T,面接評価星取表!$B:$B,$A25,面接評価星取表!$C:$C,C$1),"")) | D25: =IF(OR($A25="",D$1=""),"",IFERROR(AVERAGEIFS(面接評価星取表!$T:$T,面接評価星取表!$B:$B,$A25,面接評価星取表!$C:$C,D$1),"")) | E25: =IF(OR($A25="",E$1=""),"",IFERROR(AVERAGEIFS(面接評価星取表!$T:$T,面接評価星取表!$B:$B,$A25,面接評価星取表!$C:$C,E$1),"")) | F25: =IF(OR($A25="",F$1=""),"",IFERROR(AVERAGEIFS(面接評価星取表!$T:$T,面接評価星取表!$B:$B,$A25,面接評価星取表!$C:$C,F$1),"")) | G25: =IF(OR($A25="",G$1=""),"",IFERROR(AVERAGEIFS(面接評価星取表!$T:$T,面接評価星取表!$B:$B,$A25,面接評価星取表!$C:$C,G$1),"")) | H25: =IF(OR($A25="",H$1=""),"",IFERROR(AVERAGEIFS(面接評価星取表!$T:$T,面接評価星取表!$B:$B,$A25,面接評価星取表!$C:$C,H$1),"")) | I25: =IF(OR($A25="",I$1=""),"",IFERROR(AVERAGEIFS(面接評価星取表!$T:$T,面接評価星取表!$B:$B,$A25,面接評価星取表!$C:$C,I$1),"")) | ... K25: =IF(OR($A25="",K$1=""),"",IFERROR(AVERAGEIFS(面接評価星取表!$T:$T,面接評価星取表!$B:$B,$A25,面接評価星取表!$C:$C,K$1),"")) | L25: =IF($A25="","",IFERROR(AVERAGEIF(面接評価星取表!$B:$B,$A25,面接評価星取表!$T:$T),"")) | M25: =IF(L25="","",IF(L25>=設定!$B$7,"合格","不合格"))
A26: =設定!$D$26 -> 0 | B26: =IF(OR($A26="",B$1=""),"",IFERROR(AVERAGEIFS(面接評価星取表!$T:$T,面接評価星取表!$B:$B,$A26,面接評価星取表!$C:$C,B$1),"")) | C26: =IF(OR($A26="",C$1=""),"",IFERROR(AVERAGEIFS(面接評価星取表!$T:$T,面接評価星取表!$B:$B,$A26,面接評価星取表!$C:$C,C$1),"")) | D26: =IF(OR($A26="",D$1=""),"",IFERROR(AVERAGEIFS(面接評価星取表!$T:$T,面接評価星取表!$B:$B,$A26,面接評価星取表!$C:$C,D$1),"")) | E26: =IF(OR($A26="",E$1=""),"",IFERROR(AVERAGEIFS(面接評価星取表!$T:$T,面接評価星取表!$B:$B,$A26,面接評価星取表!$C:$C,E$1),"")) | F26: =IF(OR($A26="",F$1=""),"",IFERROR(AVERAGEIFS(面接評価星取表!$T:$T,面接評価星取表!$B:$B,$A26,面接評価星取表!$C:$C,F$1),"")) | G26: =IF(OR($A26="",G$1=""),"",IFERROR(AVERAGEIFS(面接評価星取表!$T:$T,面接評価星取表!$B:$B,$A26,面接評価星取表!$C:$C,G$1),"")) | H26: =IF(OR($A26="",H$1=""),"",IFERROR(AVERAGEIFS(面接評価星取表!$T:$T,面接評価星取表!$B:$B,$A26,面接評価星取表!$C:$C,H$1),"")) | I26: =IF(OR($A26="",I$1=""),"",IFERROR(AVERAGEIFS(面接評価星取表!$T:$T,面接評価星取表!$B:$B,$A26,面接評価星取表!$C:$C,I$1),"")) | ... K26: =IF(OR($A26="",K$1=""),"",IFERROR(AVERAGEIFS(面接評価星取表!$T:$T,面接評価星取表!$B:$B,$A26,面接評価星取表!$C:$C,K$1),"")) | L26: =IF($A26="","",IFERROR(AVERAGEIF(面接評価星取表!$B:$B,$A26,面接評価星取表!$T:$T),"")) | M26: =IF(L26="","",IF(L26>=設定!$B$7,"合格","不合格"))
A27: =設定!$D$27 -> 0 | B27: =IF(OR($A27="",B$1=""),"",IFERROR(AVERAGEIFS(面接評価星取表!$T:$T,面接評価星取表!$B:$B,$A27,面接評価星取表!$C:$C,B$1),"")) | C27: =IF(OR($A27="",C$1=""),"",IFERROR(AVERAGEIFS(面接評価星取表!$T:$T,面接評価星取表!$B:$B,$A27,面接評価星取表!$C:$C,C$1),"")) | D27: =IF(OR($A27="",D$1=""),"",IFERROR(AVERAGEIFS(面接評価星取表!$T:$T,面接評価星取表!$B:$B,$A27,面接評価星取表!$C:$C,D$1),"")) | E27: =IF(OR($A27="",E$1=""),"",IFERROR(AVERAGEIFS(面接評価星取表!$T:$T,面接評価星取表!$B:$B,$A27,面接評価星取表!$C:$C,E$1),"")) | F27: =IF(OR($A27="",F$1=""),"",IFERROR(AVERAGEIFS(面接評価星取表!$T:$T,面接評価星取表!$B:$B,$A27,面接評価星取表!$C:$C,F$1),"")) | G27: =IF(OR($A27="",G$1=""),"",IFERROR(AVERAGEIFS(面接評価星取表!$T:$T,面接評価星取表!$B:$B,$A27,面接評価星取表!$C:$C,G$1),"")) | H27: =IF(OR($A27="",H$1=""),"",IFERROR(AVERAGEIFS(面接評価星取表!$T:$T,面接評価星取表!$B:$B,$A27,面接評価星取表!$C:$C,H$1),"")) | I27: =IF(OR($A27="",I$1=""),"",IFERROR(AVERAGEIFS(面接評価星取表!$T:$T,面接評価星取表!$B:$B,$A27,面接評価星取表!$C:$C,I$1),"")) | ... K27: =IF(OR($A27="",K$1=""),"",IFERROR(AVERAGEIFS(面接評価星取表!$T:$T,面接評価星取表!$B:$B,$A27,面接評価星取表!$C:$C,K$1),"")) | L27: =IF($A27="","",IFERROR(AVERAGEIF(面接評価星取表!$B:$B,$A27,面接評価星取表!$T:$T),"")) | M27: =IF(L27="","",IF(L27>=設定!$B$7,"合格","不合格"))
A28: =設定!$D$28 -> 0 | B28: =IF(OR($A28="",B$1=""),"",IFERROR(AVERAGEIFS(面接評価星取表!$T:$T,面接評価星取表!$B:$B,$A28,面接評価星取表!$C:$C,B$1),"")) | C28: =IF(OR($A28="",C$1=""),"",IFERROR(AVERAGEIFS(面接評価星取表!$T:$T,面接評価星取表!$B:$B,$A28,面接評価星取表!$C:$C,C$1),"")) | D28: =IF(OR($A28="",D$1=""),"",IFERROR(AVERAGEIFS(面接評価星取表!$T:$T,面接評価星取表!$B:$B,$A28,面接評価星取表!$C:$C,D$1),"")) | E28: =IF(OR($A28="",E$1=""),"",IFERROR(AVERAGEIFS(面接評価星取表!$T:$T,面接評価星取表!$B:$B,$A28,面接評価星取表!$C:$C,E$1),"")) | F28: =IF(OR($A28="",F$1=""),"",IFERROR(AVERAGEIFS(面接評価星取表!$T:$T,面接評価星取表!$B:$B,$A28,面接評価星取表!$C:$C,F$1),"")) | G28: =IF(OR($A28="",G$1=""),"",IFERROR(AVERAGEIFS(面接評価星取表!$T:$T,面接評価星取表!$B:$B,$A28,面接評価星取表!$C:$C,G$1),"")) | H28: =IF(OR($A28="",H$1=""),"",IFERROR(AVERAGEIFS(面接評価星取表!$T:$T,面接評価星取表!$B:$B,$A28,面接評価星取表!$C:$C,H$1),"")) | I28: =IF(OR($A28="",I$1=""),"",IFERROR(AVERAGEIFS(面接評価星取表!$T:$T,面接評価星取表!$B:$B,$A28,面接評価星取表!$C:$C,I$1),"")) | ... K28: =IF(OR($A28="",K$1=""),"",IFERROR(AVERAGEIFS(面接評価星取表!$T:$T,面接評価星取表!$B:$B,$A28,面接評価星取表!$C:$C,K$1),"")) | L28: =IF($A28="","",IFERROR(AVERAGEIF(面接評価星取表!$B:$B,$A28,面接評価星取表!$T:$T),"")) | M28: =IF(L28="","",IF(L28>=設定!$B$7,"合格","不合格"))
A29: =設定!$D$29 -> 0 | B29: =IF(OR($A29="",B$1=""),"",IFERROR(AVERAGEIFS(面接評価星取表!$T:$T,面接評価星取表!$B:$B,$A29,面接評価星取表!$C:$C,B$1),"")) | C29: =IF(OR($A29="",C$1=""),"",IFERROR(AVERAGEIFS(面接評価星取表!$T:$T,面接評価星取表!$B:$B,$A29,面接評価星取表!$C:$C,C$1),"")) | D29: =IF(OR($A29="",D$1=""),"",IFERROR(AVERAGEIFS(面接評価星取表!$T:$T,面接評価星取表!$B:$B,$A29,面接評価星取表!$C:$C,D$1),"")) | E29: =IF(OR($A29="",E$1=""),"",IFERROR(AVERAGEIFS(面接評価星取表!$T:$T,面接評価星取表!$B:$B,$A29,面接評価星取表!$C:$C,E$1),"")) | F29: =IF(OR($A29="",F$1=""),"",IFERROR(AVERAGEIFS(面接評価星取表!$T:$T,面接評価星取表!$B:$B,$A29,面接評価星取表!$C:$C,F$1),"")) | G29: =IF(OR($A29="",G$1=""),"",IFERROR(AVERAGEIFS(面接評価星取表!$T:$T,面接評価星取表!$B:$B,$A29,面接評価星取表!$C:$C,G$1),"")) | H29: =IF(OR($A29="",H$1=""),"",IFERROR(AVERAGEIFS(面接評価星取表!$T:$T,面接評価星取表!$B:$B,$A29,面接評価星取表!$C:$C,H$1),"")) | I29: =IF(OR($A29="",I$1=""),"",IFERROR(AVERAGEIFS(面接評価星取表!$T:$T,面接評価星取表!$B:$B,$A29,面接評価星取表!$C:$C,I$1),"")) | ... K29: =IF(OR($A29="",K$1=""),"",IFERROR(AVERAGEIFS(面接評価星取表!$T:$T,面接評価星取表!$B:$B,$A29,面接評価星取表!$C:$C,K$1),"")) | L29: =IF($A29="","",IFERROR(AVERAGEIF(面接評価星取表!$B:$B,$A29,面接評価星取表!$T:$T),"")) | M29: =IF(L29="","",IF(L29>=設定!$B$7,"合格","不合格"))
A30: =設定!$D$30 -> 0 | B30: =IF(OR($A30="",B$1=""),"",IFERROR(AVERAGEIFS(面接評価星取表!$T:$T,面接評価星取表!$B:$B,$A30,面接評価星取表!$C:$C,B$1),"")) | C30: =IF(OR($A30="",C$1=""),"",IFERROR(AVERAGEIFS(面接評価星取表!$T:$T,面接評価星取表!$B:$B,$A30,面接評価星取表!$C:$C,C$1),"")) | D30: =IF(OR($A30="",D$1=""),"",IFERROR(AVERAGEIFS(面接評価星取表!$T:$T,面接評価星取表!$B:$B,$A30,面接評価星取表!$C:$C,D$1),"")) | E30: =IF(OR($A30="",E$1=""),"",IFERROR(AVERAGEIFS(面接評価星取表!$T:$T,面接評価星取表!$B:$B,$A30,面接評価星取表!$C:$C,E$1),"")) | F30: =IF(OR($A30="",F$1=""),"",IFERROR(AVERAGEIFS(面接評価星取表!$T:$T,面接評価星取表!$B:$B,$A30,面接評価星取表!$C:$C,F$1),"")) | G30: =IF(OR($A30="",G$1=""),"",IFERROR(AVERAGEIFS(面接評価星取表!$T:$T,面接評価星取表!$B:$B,$A30,面接評価星取表!$C:$C,G$1),"")) | H30: =IF(OR($A30="",H$1=""),"",IFERROR(AVERAGEIFS(面接評価星取表!$T:$T,面接評価星取表!$B:$B,$A30,面接評価星取表!$C:$C,H$1),"")) | I30: =IF(OR($A30="",I$1=""),"",IFERROR(AVERAGEIFS(面接評価星取表!$T:$T,面接評価星取表!$B:$B,$A30,面接評価星取表!$C:$C,I$1),"")) | ... K30: =IF(OR($A30="",K$1=""),"",IFERROR(AVERAGEIFS(面接評価星取表!$T:$T,面接評価星取表!$B:$B,$A30,面接評価星取表!$C:$C,K$1),"")) | L30: =IF($A30="","",IFERROR(AVERAGEIF(面接評価星取表!$B:$B,$A30,面接評価星取表!$T:$T),"")) | M30: =IF(L30="","",IF(L30>=設定!$B$7,"合格","不合格"))
A31: =設定!$D$31 -> 0 | B31: =IF(OR($A31="",B$1=""),"",IFERROR(AVERAGEIFS(面接評価星取表!$T:$T,面接評価星取表!$B:$B,$A31,面接評価星取表!$C:$C,B$1),"")) | C31: =IF(OR($A31="",C$1=""),"",IFERROR(AVERAGEIFS(面接評価星取表!$T:$T,面接評価星取表!$B:$B,$A31,面接評価星取表!$C:$C,C$1),"")) | D31: =IF(OR($A31="",D$1=""),"",IFERROR(AVERAGEIFS(面接評価星取表!$T:$T,面接評価星取表!$B:$B,$A31,面接評価星取表!$C:$C,D$1),"")) | E31: =IF(OR($A31="",E$1=""),"",IFERROR(AVERAGEIFS(面接評価星取表!$T:$T,面接評価星取表!$B:$B,$A31,面接評価星取表!$C:$C,E$1),"")) | F31: =IF(OR($A31="",F$1=""),"",IFERROR(AVERAGEIFS(面接評価星取表!$T:$T,面接評価星取表!$B:$B,$A31,面接評価星取表!$C:$C,F$1),"")) | G31: =IF(OR($A31="",G$1=""),"",IFERROR(AVERAGEIFS(面接評価星取表!$T:$T,面接評価星取表!$B:$B,$A31,面接評価星取表!$C:$C,G$1),"")) | H31: =IF(OR($A31="",H$1=""),"",IFERROR(AVERAGEIFS(面接評価星取表!$T:$T,面接評価星取表!$B:$B,$A31,面接評価星取表!$C:$C,H$1),"")) | I31: =IF(OR($A31="",I$1=""),"",IFERROR(AVERAGEIFS(面接評価星取表!$T:$T,面接評価星取表!$B:$B,$A31,面接評価星取表!$C:$C,I$1),"")) | ... K31: =IF(OR($A31="",K$1=""),"",IFERROR(AVERAGEIFS(面接評価星取表!$T:$T,面接評価星取表!$B:$B,$A31,面接評価星取表!$C:$C,K$1),"")) | L31: =IF($A31="","",IFERROR(AVERAGEIF(面接評価星取表!$B:$B,$A31,面接評価星取表!$T:$T),"")) | M31: =IF(L31="","",IF(L31>=設定!$B$7,"合格","不合格"))
